{"text_format":"3","workbook":"xlsx","n_sheets":10,"sheets":["Start Here!"," Requirements COMcheck","As-Built COMcheck"," Requirements Individual Files","Sq. Ft. Area Individual Files","Fixture List Individual Files","FixturesByArea Individual Files","Helpful Tips","RevisionHistory","Admin_Lists"],"not_rendered":{"images":13,"macros":1,"defined_names":29,"comments":3},"read":"whole","date_system":"1900"}

{"sheet":"Start Here!","index":0,"n_rows":106,"n_cols":33,"rows_kept":106,"merged":[[0,1,3,3],[4,1,4,11],[6,1,15,11],[6,14,6,15],[6,17,6,18],[17,1,17,2],[18,1,18,10],[19,3,19,11],[20,2,20,10],[20,15,20,18],[21,3,21,11],[21,15,21,18],[22,2,22,10],[22,15,22,18],[23,3,23,11],[23,15,24,18],[23,19,24,19],[24,2,24,10],[25,3,25,11],[25,15,25,18],[26,1,26,11],[26,15,27,18],[26,19,27,19],[27,1,27,2],[27,3,27,11],[28,1,28,2],[28,3,28,11],[28,15,29,18],[28,19,29,19],[29,1,29,2],[29,3,29,5],[29,7,29,8],[29,10,29,11],[30,1,30,2],[30,3,30,11],[30,15,30,18],[31,1,31,2],[31,3,31,11],[31,15,31,18],[32,1,32,2],[32,3,32,11],[32,15,32,18],[34,9,34,11],[35,9,35,10],[36,6,36,7],[36,9,36,10],[37,6,38,7],[37,9,37,10],[38,9,38,10],[39,6,41,7],[39,9,39,10],[40,9,40,11],[43,2,43,11],[72,1,73,1],[78,2,78,11]]}
[null,"Note: this workbook needs to be used in the full version of Excel. Some features won't work in Excel Online. Also, make sure that macros are enabled when you open this workbook (see 'Helpful Tips' tab for directions).",{"$nulls":11},"Hide","Hide","Hide","Hide","Hide","Hide","Hide","Hide","Hide","Hide","Hide","Hide","Hide","Hide","Hide","Hide","Hide","Hide","Hide","Hide"]
[]
[]
[]
[null,"New Construction Interior Lighting Supplemental Workbook"]
[]
[null,"Required documentation (COMcheck, floorplan and/or lighting layout) must be signed by a lighting professional with one or more of the following credentials:\n • Lighting Certification (LC) designation from National Council on Qualifications for the Lighting Professions (NCQLP)\n • Certified Lighting Efficiency Professional (CLEP) from the Association of Energy Engineers (AEE)\n • Certified Lighting Management Consultant (CLMC)\n • State of Wisconsin Professional Engineer (PE) License\n • Member of International Association of Lighting Designers (IALD)\n • Lighting Specialist II certification from National Association of Innovative Lighting Distributors (NAILD)\n • Commercial and Industrial Lighting Certificate form the Illuminating Engineering Society of America (IES)\n • Registered designer of electrical engineering systems in the state of Wisconsin\n • Member of the Institute of Electrical and Electronics Engineers (IEEE)\n • Other credential approved by Focus on Energy",{"$nulls":12},"SPECTRUM entry:",null,null,"SPECTRUM entry (NLC Savings):"]
[{"$nulls":14},"Unit of Measure Answer",{"$f":"X71","v":0},"net KWh reduced all areas","Unit of Measure Answer",{"$f":"'FixturesByArea Individual Files'!N1091","v":0},"net KWh reduced all areas"]
[{"$nulls":14},"Units",1,null,"Units",1,{"$nulls":6},"Provide\nAS BUILT:","Possible ways to provide it:"]
[{"$nulls":14},"Measure Cost",{"$f":"Z71","v":0},{"$f":"\"$\" & FIXED(LPD_IndustryStandardCostPerSqFt,2) & \"*sq. ft. or Tech Review override (manual entry)\"","v":"$0.90*sq. ft. or Tech Review override (manual entry)"},"Measure Cost",{"$f":"0.57*SUM(C46:C70)*'FixturesByArea Individual Files'!M1093","v":0},"=Measure cost for just NLC based on NLC area factor",{"$nulls":5},"Sq Ft","COMcheck","Layout","Schedule","Submittal","Email","QPL snip"]
[{"$nulls":25},"Wattage ","COMcheck","Layout","Schedule","Submittal","Email","QPL snip"]
[{"$nulls":14},"kW Savings (Peak)",{"$f":"T71","v":{"v":0,"d":"0.0000"}},"net savings all areas","kW Savings (Peak)",{"$f":"'FixturesByArea Individual Files'!M1091","v":{"v":0,"d":"0.0000"}},"net savings all areas",{"$nulls":5},"Fixture list","COMcheck","Layout","Schedule","Submittal","Email","QPL snip"]
[{"$nulls":14},"kWh Savings (1st Yr)",{"$f":"X71","v":0},"net savings all areas","kWh Savings (1st Yr)",{"$f":"'FixturesByArea Individual Files'!N1091","v":0},"net savings all areas",{"$nulls":5},"Pro Sign-off","COMcheck","Layout","Schedule","Submittal","Email","QPL snip"]
[{"$nulls":14},"kWh Savings (Lifecycle)",{"$f":"Y71","v":0},"net savings all areas","kWh Savings (Lifecycle)",{"$f":"'FixturesByArea Individual Files'!O1091","v":0},"net savings all areas",{"$nulls":5},"Invoice","COMcheck","Layout","Schedule","Submittal","Email","QPL snip"]
[{"$nulls":26},"COMcheck","Layout","Schedule","Submittal","Email","QPL snip"]
[{"$nulls":14},"Total Incentive",{"$f":"L71","v":0},"net incentive all areas","Total Incentive",{"$f":"'FixturesByArea Individual Files'!P1091","v":0},"net incentive all areas"]
[{"$nulls":15},{"$f":"IF(P10<P16,\"Total Incentive may not exceed Measure Cost!\",\"\")","v":""}]
[null,"Qualify the Project:",{"$nulls":12},"Incentive $ / LC MMBTU:",{"$f":"P16/(P14*0.003412)","v":{"$error":"#DIV/0!"}},null,"Incentive $ / LC MMBTU:",{"$f":"S16/(S14*0.003412)","v":{"$error":"#DIV/0!"}}]
[null,"Do you have a completed As-built COMcheck using 2015 IECC or AHRAE 90.1-2013 signed by a credentialed lighting designer? ",{"$nulls":9},"Select Yes or No"]
[{"$nulls":3},{"$f":"IF(L19=\"Yes\",\"Select 'COMcheck' from the 'I'm providing the required info via:' drop-down below and proceed\",IF(L19=\"No\",\"Continue to next question\",IF(L19=\"Select Yes or No\",\" \")))","v":" "}]
[null,null,{"$f":"IF(L19=\"No\",\"Was the project overseen by a credentialed lighting designer (see list above)?\",IF(L19=\"Yes\", \"\",\"\"))","v":""},{"$nulls":8},"Select Yes or No",{"$nulls":3},"Program Implementer Check-list:",{"$nulls":3},"Completed by:","Notes:"]
[{"$nulls":3},{"$f":"IF(L21=\"Yes\",\"Select 'Individual Files' from the 'I'm providing the required info via:' drop-down below and proceed\",IF(L21=\"No\",\"Continue to next question\",IF(L21=\"Select Yes or No\",\" \")))","v":" "},{"$nulls":11},"If other than Default HOU, note source"]
[null,null,{"$f":"IF(L21=\"No\",\"Are ALL fixtures installed either DLC or ENERGY® STAR listed?\",\"\")","v":""},{"$nulls":8},"Select Yes or No",{"$nulls":3},"COMcheck is 2015 IECC"]
[{"$nulls":3},{"$f":"IF(L23=\"Yes\",\"Select 'Individual Files' from the 'I'm providing the required info via:' drop-down below and proceed\",IF(L23=\"No\",\"Project does not qualify, do not proceed\",IF(L23=\"Select Yes or No\",\" \")))","v":" "},{"$nulls":11},"Signed off by a Credentialed Professional  (COMcheck, Floorplan and/or Lighting Layout) -or- QPLs provided for ALL fixtures installed"]
[null,null,"Do any of the fixtures have NLC controls on them?",{"$nulls":8},"Select Yes or No"]
[{"$nulls":3},{"$f":"IF(AND(L25=\"Yes\"),\"Focus on Energy will contact you for more information.\",IF(AND(L19=\"Yes\",L25=\"Yes\"),\"Proceed with LPD  sections\",IF(AND(L23=\"No\",L25=\"Yes\"),\"Project does not qualify, do not proceed\",IF(AND(L25=\"No\",L23=\"No\"),\"Project does not qualify, do not proceed\",IF(AND(L25=\"No\"),\"\",IF(L25=\"Select Yes or No\",\"\"))))))","v":""},{"$nulls":11},"Confirm/Call-out/Note Source of Square Footage"]
[null,"Complete all fields below along with corresponding tabs. The incentive will be populated once all required information has been provided.",{"$nulls":13},"Spot check top 3 qty of fixtures to ensure quantity alignment. \n\"COMcheck v. Invoice / Fixt List v. Invoice\""]
[null,"Customer:"]
[null,"Trade Ally/Installer:",{"$nulls":13},"Spot check top 3 'total wattage of fixtures' (Col. E) to ensure Wattage alignment. \"COMcheck v. Specs / Fixt List v. Specs\""]
[null,"Best Contact for LPD Questions:",{"$nulls":4},"Email:",null,null,"Phone:"]
[null,"Project Description:",{"$nulls":13},"Confirm no Instant Retailer invoices/receipts"]
[null,"Project Completion Date:",{"$nulls":13},"If assumed higher qty installed (due to discrepency) it's been noted"]
[null,"Project Notes:",{"$nulls":13},"If possible, sum measure cost and note \"actual measure cost\""]
[]
[{"$nulls":3},"I'm providing the required info via:  ","Choose from Drop-down",null,"Facility type: ","Choose from Drop-down",null,"Facility's Hours of Use (HOU)\nHours of use are used in LPD calculation. \nEnter Default Hours value from list below, \nor facility's actual hours. "]
[null,null,"Note: to use NLC controls you must select \"Individual Files\".",{"$nulls":6},"Default Facility Type",null,"HOU",null,"Default CF"]
[{"$nulls":3},"Project Size:","Small (5 rows)",null,"Describe Hours of Use: ",null,null,"Commercial",null,{"v":3730,"d":"3,730"},null,0.77]
[null,null,{"$f":"IF(E35=\"Individual Files\",\"Corresponding Tabs:\",IF(E35=\"COMcheck\",\"Corresponding Tabs:\",\"\"))","v":""},{"$nulls":3},"Ex.: Store M-F 9am-6pm, Office M-F 7am-5pm, Warehouse M-F 5am-9pm",null,null,"Industrial",null,{"v":4745,"d":"4,745"},null,0.77]
[null,null,{"$f":"IF(E35=\"Individual Files\",\"Sq. Ft. Area, Fixt List, Fixt by Area\",IF(E35=\"COMcheck\",\"As-Built COMcheck\",\"\"))","v":""},{"$nulls":6},"Agricultural",null,{"v":4698,"d":"4,698"},null,0.67]
[{"$nulls":9},"Schools & Government",null,{"v":3239,"d":"3,239"},null,0.64,"Hours"]
[{"$nulls":9},"Enter Hours of Use in Column (B) below",{"$nulls":3},{"v":1,"d":"1.00"},{"v":8000,"d":"8,000"}]
[{"$nulls":13},{"v":0,"d":"0.00"},{"v":2000,"d":"2,000"}]
[]
[null,null,"LPD Measure Summary"]
[null,null,"(A)\nSquare Footage","(B)\nAnnual\nHours of Use","(C)\nBaseline\nWatts/Ft2",null,"(D)\nNew System \nInstalled Wattage","(E)\nNew System \nInstalled Watts/Ft2\n(D/A)","(F)\nWatts/Ft2\nReduced\n(C - E)","(G)\nKWh\nReduced\n([AxBxF]/\n1,000)","(H)\nIncentive Rate\n($/kWh Reduced)","(I)\nRequested Incentive\n(G x H)",null,"Analysis","Actual CF \n(edit if needed)","LPD Code\n(W/ft2)","HOU","sq ft","Allowed Watts","Peak kW\nSavings","Installed System Wattage","LPD Design W/ft^2","W/ft^2 Reduced","kWh Reduced","Lifecycle\nkWh Savings",{"$f":"\"Measure Cost: $\" & FIXED(LPD_IndustryStandardCostPerSqFt,2) & \"*sq. ft. or actual\"","v":"Measure Cost: $0.90*sq. ft. or actual"}]
[null,{"$f":"IF(C46>1,\"Area 1\",IF(C46,\"\",\"\"))","v":""},{"$f":"IF($E$35=\"COMCheck\",'As-Built COMcheck'!D9,IF($E$35=\"Individual Files\",'Sq. Ft. Area Individual Files'!C11,0))","v":0},null,{"$f":"IF($E$35=\"COMCheck\",'As-Built COMcheck'!D10,IF($E$35=\"Individual Files\",'FixturesByArea Individual Files'!E12,0))","v":0},null,{"$f":"IF($E$35=\"COMCheck\",'As-Built COMcheck'!D12,IF($E$35=\"Individual Files\",'FixturesByArea Individual Files'!E52,0))","v":0},{"$f":"IFERROR(ROUND(G46/C46,2),\"\")","v":""},{"$f":"IFERROR(ROUND(E46-H46,2),\"-\")","v":"-"},{"$f":"IFERROR(ROUND(C46*D46*I46/1000,0),\"\")","v":""},{"$f":"LPD_Incentive_Rate","v":{"v":0.04,"d":"$0.04"}},{"$f":"IFERROR(J46*K46,\"\")","v":""},null,"Area 1",{"$f":"IF(D46<$O$42,$N$42,IF(D46>=$O$41,$N$41,VLOOKUP($H$35,$J$37:$N$40,5)))","v":{"v":0,"d":"0.00"}},{"$f":"E46","v":{"v":0,"d":"0.00"}},{"$f":"D46","v":0},{"$f":"C46","v":0},{"$f":"IFERROR(ROUND(P46*R46,0),\"\")","v":0},{"$f":"IFERROR(IF(OR(P46=\"\",P46=\"Error\",G46=\"\"),\"\",ROUND(W46*C46/1000*O46,4)),\"\")","v":{"v":0,"d":"0.0000"}},{"$f":"G46","v":0},{"$f":"IFERROR(ROUND(U46/R46,2),0)","v":0},{"$f":"IFERROR(ROUND(P46-V46,2),\"\")","v":{"v":0,"d":"0.00"}},{"$f":"IFERROR(ROUND(Q46*R46*W46/1000,0),\"\")","v":0},{"$f":"IFERROR(X46*EUL_for_LPD,\"\")","v":0},{"$f":"ROUND(R46*LPD_IndustryStandardCostPerSqFt,2)","v":0}]
[null,{"$f":"IF(C47>1,\"Area 2\",IF(C47,\"\",\"\"))","v":""},{"$f":"IF($E$35=\"COMCheck\",'As-Built COMcheck'!D16,IF($E$35=\"Individual Files\",'Sq. Ft. Area Individual Files'!C12,0))","v":0},null,{"$f":"IF($E$35=\"COMCheck\",'As-Built COMcheck'!D17,IF($E$35=\"Individual Files\",'FixturesByArea Individual Files'!E55,0))","v":0},null,{"$f":"IF($E$35=\"COMCheck\",'As-Built COMcheck'!D19,IF($E$35=\"Individual Files\",'FixturesByArea Individual Files'!E95,0))","v":0},"",{"$f":"IFERROR(ROUND(E47-H47,2),\"-\")","v":"-"},{"$f":"IFERROR(ROUND(C47*D47*I47/1000,0),\"\")","v":""},{"v":0.04,"d":"$0.04"},{"$f":"IFERROR(J47*K47,\"\")","v":""},null,"Area 2",{"$f":"IF(D47<$O$42,$N$42,IF(D47>=$O$41,$N$41,VLOOKUP($H$35,$J$37:$N$40,5)))","v":{"v":0,"d":"0.00"}},{"v":0,"d":"0.00"},0,0,{"$f":"IFERROR(ROUND(P47*R47,0),\"\")","v":0},{"v":0,"d":"0.0000"},0,{"$f":"IFERROR(ROUND(U47/R47,2),0)","v":0},{"$f":"IFERROR(ROUND(P47-V47,2),\"\")","v":{"v":0,"d":"0.00"}},{"$f":"IFERROR(ROUND(Q47*R47*W47/1000,0),\"\")","v":0},0,0]
[null,{"$f":"IF(C48>1,\"Area 3\",IF(C48,\"\",\"\"))","v":""},{"$f":"IF($E$35=\"COMCheck\",'As-Built COMcheck'!D21,IF($E$35=\"Individual Files\",'Sq. Ft. Area Individual Files'!C13,0))","v":0},null,{"$f":"IF($E$35=\"COMCheck\",'As-Built COMcheck'!D22,IF($E$35=\"Individual Files\",'FixturesByArea Individual Files'!E98,0))","v":0},null,{"$f":"IF($E$35=\"COMCheck\",'As-Built COMcheck'!D24,IF($E$35=\"Individual Files\",'FixturesByArea Individual Files'!E138,0))","v":0},"",{"$f":"IFERROR(ROUND(E48-H48,2),\"-\")","v":"-"},"",{"v":0.04,"d":"$0.04"},"",null,"Area 3",{"v":0,"d":"0.00"},{"v":0,"d":"0.00"},0,0,0,{"v":0,"d":"0.0000"},0,{"$f":"IFERROR(ROUND(U48/R48,2),0)","v":0},{"$f":"IFERROR(ROUND(P48-V48,2),\"\")","v":{"v":0,"d":"0.00"}},{"$f":"IFERROR(ROUND(Q48*R48*W48/1000,0),\"\")","v":0},0,0]
[null,{"$f":"IF(C49>1,\"Area 4\",IF(C49,\"\",\"\"))","v":""},{"$f":"IF($E$35=\"COMCheck\",'As-Built COMcheck'!D26,IF($E$35=\"Individual Files\",'Sq. Ft. Area Individual Files'!C14,0))","v":0},null,{"$f":"IF($E$35=\"COMCheck\",'As-Built COMcheck'!D27,IF($E$35=\"Individual Files\",'FixturesByArea Individual Files'!E141,0))","v":0},null,{"$f":"IF($E$35=\"COMCheck\",'As-Built COMcheck'!D29,IF($E$35=\"Individual Files\",'FixturesByArea Individual Files'!E181,0))","v":0},"","-","",{"v":0.04,"d":"$0.04"},"",null,"Area 4",{"v":0,"d":"0.00"},{"v":0,"d":"0.00"},0,0,0,{"v":0,"d":"0.0000"},0,{"$f":"IFERROR(ROUND(U49/R49,2),0)","v":0},{"$f":"IFERROR(ROUND(P49-V49,2),\"\")","v":{"v":0,"d":"0.00"}},{"$f":"IFERROR(ROUND(Q49*R49*W49/1000,0),\"\")","v":0},0,0]
[null,{"$f":"IF(C50>1,\"Area 5\",IF(C50,\"\",\"\"))","v":""},{"$f":"IF($E$35=\"COMCheck\",'As-Built COMcheck'!D31,IF($E$35=\"Individual Files\",'Sq. Ft. Area Individual Files'!C15,0))","v":0},null,{"$f":"IF($E$35=\"COMCheck\",'As-Built COMcheck'!D32,IF($E$35=\"Individual Files\",'FixturesByArea Individual Files'!E184,0))","v":0},null,{"$f":"IF($E$35=\"COMCheck\",'As-Built COMcheck'!D34,IF($E$35=\"Individual Files\",'FixturesByArea Individual Files'!E224,0))","v":0},"","-","",{"v":0.04,"d":"$0.04"},"",null,"Area 5",{"v":0,"d":"0.00"},{"v":0,"d":"0.00"},0,0,0,{"v":0,"d":"0.0000"},0,{"$f":"IFERROR(ROUND(U50/R50,2),0)","v":0},{"$f":"IFERROR(ROUND(P50-V50,2),\"\")","v":{"v":0,"d":"0.00"}},{"$f":"IFERROR(ROUND(Q50*R50*W50/1000,0),\"\")","v":0},0,0]
[null,{"$f":"IF(C51>1,\"Area 6\",IF(C51,\"\",\"\"))","v":""},{"$f":"IF($E$35=\"COMCheck\",'As-Built COMcheck'!D36,IF($E$35=\"Individual Files\",'Sq. Ft. Area Individual Files'!C16,0))","v":0},null,{"$f":"IF($E$35=\"COMCheck\",'As-Built COMcheck'!D37,IF($E$35=\"Individual Files\",'FixturesByArea Individual Files'!E227,0))","v":0},null,{"$f":"IF($E$35=\"COMCheck\",'As-Built COMcheck'!D39,IF($E$35=\"Individual Files\",'FixturesByArea Individual Files'!E267,0))","v":0},{"$f":"IFERROR(ROUND(G51/C51,2),\"\")","v":""},"-",{"$f":"IFERROR(ROUND(C51*D51*I51/1000,0),\"\")","v":""},{"v":0.04,"d":"$0.04"},{"$f":"IFERROR(J51*K51,\"\")","v":""},null,"Area 6",{"v":0,"d":"0.00"},{"v":0,"d":"0.00"},0,0,0,{"v":0,"d":"0.0000"},0,0,{"v":0,"d":"0.00"},0,0,0]
[null,{"$f":"IF(C52>1,\"Area 7\",IF(C52,\"\",\"\"))","v":""},{"$f":"IF($E$35=\"COMCheck\",'As-Built COMcheck'!D41,IF($E$35=\"Individual Files\",'Sq. Ft. Area Individual Files'!C17,0))","v":0},null,{"$f":"IF($E$35=\"COMCheck\",'As-Built COMcheck'!D42,IF($E$35=\"Individual Files\",'FixturesByArea Individual Files'!E270,0))","v":0},null,{"$f":"IF($E$35=\"COMCheck\",'As-Built COMcheck'!D44,IF($E$35=\"Individual Files\",'FixturesByArea Individual Files'!E310,0))","v":0},"",{"$f":"IFERROR(ROUND(E52-H52,2),\"-\")","v":"-"},"",{"v":0.04,"d":"$0.04"},"",null,"Area 7",{"v":0,"d":"0.00"},{"v":0,"d":"0.00"},0,0,0,{"v":0,"d":"0.0000"},0,0,{"v":0,"d":"0.00"},0,0,0]
[null,{"$f":"IF(C53>1,\"Area 8\",IF(C53,\"\",\"\"))","v":""},{"$f":"IF($E$35=\"COMCheck\",'As-Built COMcheck'!D46,IF($E$35=\"Individual Files\",'Sq. Ft. Area Individual Files'!C18,0))","v":0},null,{"$f":"IF($E$35=\"COMCheck\",'As-Built COMcheck'!D47,IF($E$35=\"Individual Files\",'FixturesByArea Individual Files'!E313,0))","v":0},null,{"$f":"IF($E$35=\"COMCheck\",'As-Built COMcheck'!D49,IF($E$35=\"Individual Files\",'FixturesByArea Individual Files'!E353,0))","v":0},"","-","",{"v":0.04,"d":"$0.04"},"",null,"Area 8",{"v":0,"d":"0.00"},{"v":0,"d":"0.00"},0,0,0,{"v":0,"d":"0.0000"},0,0,{"v":0,"d":"0.00"},0,0,0]
[null,{"$f":"IF(C54>1,\"Area 9\",IF(C54,\"\",\"\"))","v":""},{"$f":"IF($E$35=\"COMCheck\",'As-Built COMcheck'!D51,IF($E$35=\"Individual Files\",'Sq. Ft. Area Individual Files'!C19,0))","v":0},null,{"$f":"IF($E$35=\"COMCheck\",'As-Built COMcheck'!D52,IF($E$35=\"Individual Files\",'FixturesByArea Individual Files'!E356,0))","v":0},null,{"$f":"IF($E$35=\"COMCheck\",'As-Built COMcheck'!D54,IF($E$35=\"Individual Files\",'FixturesByArea Individual Files'!E396,0))","v":0},"","-","",{"v":0.04,"d":"$0.04"},"",null,"Area 9",{"v":0,"d":"0.00"},{"v":0,"d":"0.00"},0,0,0,{"v":0,"d":"0.0000"},0,0,{"v":0,"d":"0.00"},0,0,0]
[null,{"$f":"IF(C55>1,\"Area 10\",IF(C55,\"\",\"\"))","v":""},{"$f":"IF($E$35=\"COMCheck\",'As-Built COMcheck'!D56,IF($E$35=\"Individual Files\",'Sq. Ft. Area Individual Files'!C20,0))","v":0},null,{"$f":"IF($E$35=\"COMCheck\",'As-Built COMcheck'!D57,IF($E$35=\"Individual Files\",'FixturesByArea Individual Files'!E399,0))","v":0},null,{"$f":"IF($E$35=\"COMCheck\",'As-Built COMcheck'!D59,IF($E$35=\"Individual Files\",'FixturesByArea Individual Files'!E439,0))","v":0},"","-","",{"v":0.04,"d":"$0.04"},"",null,"Area 10",{"v":0,"d":"0.00"},{"v":0,"d":"0.00"},0,0,0,{"v":0,"d":"0.0000"},0,0,{"v":0,"d":"0.00"},0,0,0]
[null,{"$f":"IF(C56>1,\"Area 11\",IF(C56,\"\",\"\"))","v":""},{"$f":"IF($E$35=\"COMCheck\",'As-Built COMcheck'!D61,IF($E$35=\"Individual Files\",'Sq. Ft. Area Individual Files'!C21,0))","v":0},null,{"$f":"IF($E$35=\"COMCheck\",'As-Built COMcheck'!D62,IF($E$35=\"Individual Files\",'FixturesByArea Individual Files'!E442,0))","v":0},null,{"$f":"IF($E$35=\"COMCheck\",'As-Built COMcheck'!D64,IF($E$35=\"Individual Files\",'FixturesByArea Individual Files'!E482,0))","v":0},"","-","",{"v":0.04,"d":"$0.04"},"",null,"Area 11",{"v":0,"d":"0.00"},{"v":0,"d":"0.00"},0,0,0,{"v":0,"d":"0.0000"},0,0,{"v":0,"d":"0.00"},0,0,0]
[null,{"$f":"IF(C57>1,\"Area 12\",IF(C57,\"\",\"\"))","v":""},{"$f":"IF($E$35=\"COMCheck\",'As-Built COMcheck'!D66,IF($E$35=\"Individual Files\",'Sq. Ft. Area Individual Files'!C22,0))","v":0},null,{"$f":"IF($E$35=\"COMCheck\",'As-Built COMcheck'!D67,IF($E$35=\"Individual Files\",'FixturesByArea Individual Files'!E485,0))","v":0},null,{"$f":"IF($E$35=\"COMCheck\",'As-Built COMcheck'!D69,IF($E$35=\"Individual Files\",'FixturesByArea Individual Files'!E525,0))","v":0},"","-","",{"v":0.04,"d":"$0.04"},"",null,"Area 12",{"v":0,"d":"0.00"},{"v":0,"d":"0.00"},0,0,0,{"v":0,"d":"0.0000"},0,0,{"v":0,"d":"0.00"},0,0,0]
[null,{"$f":"IF(C58>1,\"Area 13\",IF(C58,\"\",\"\"))","v":""},{"$f":"IF($E$35=\"COMCheck\",'As-Built COMcheck'!D71,IF($E$35=\"Individual Files\",'Sq. Ft. Area Individual Files'!C23,0))","v":0},null,{"$f":"IF($E$35=\"COMCheck\",'As-Built COMcheck'!D72,IF($E$35=\"Individual Files\",'FixturesByArea Individual Files'!E528,0))","v":0},null,{"$f":"IF($E$35=\"COMCheck\",'As-Built COMcheck'!D74,IF($E$35=\"Individual Files\",'FixturesByArea Individual Files'!E568,0))","v":0},"","-","",{"v":0.04,"d":"$0.04"},"",null,"Area 13",{"v":0,"d":"0.00"},{"v":0,"d":"0.00"},0,0,0,{"v":0,"d":"0.0000"},0,0,{"v":0,"d":"0.00"},0,0,0]
[null,{"$f":"IF(C59>1,\"Area 14\",IF(C59,\"\",\"\"))","v":""},{"$f":"IF($E$35=\"COMCheck\",'As-Built COMcheck'!D76,IF($E$35=\"Individual Files\",'Sq. Ft. Area Individual Files'!C24,0))","v":0},null,{"$f":"IF($E$35=\"COMCheck\",'As-Built COMcheck'!D77,IF($E$35=\"Individual Files\",'FixturesByArea Individual Files'!E571,0))","v":0},null,{"$f":"IF($E$35=\"COMCheck\",'As-Built COMcheck'!D79,IF($E$35=\"Individual Files\",'FixturesByArea Individual Files'!E611,0))","v":0},"","-","",{"v":0.04,"d":"$0.04"},"",null,"Area 14",{"v":0,"d":"0.00"},{"v":0,"d":"0.00"},0,0,0,{"v":0,"d":"0.0000"},0,0,{"v":0,"d":"0.00"},0,0,0]
[null,{"$f":"IF(C60>1,\"Area 15\",IF(C60,\"\",\"\"))","v":""},{"$f":"IF($E$35=\"COMCheck\",'As-Built COMcheck'!D81,IF($E$35=\"Individual Files\",'Sq. Ft. Area Individual Files'!C25,0))","v":0},null,{"$f":"IF($E$35=\"COMCheck\",'As-Built COMcheck'!D82,IF($E$35=\"Individual Files\",'FixturesByArea Individual Files'!E614,0))","v":0},null,{"$f":"IF($E$35=\"COMCheck\",'As-Built COMcheck'!D84,IF($E$35=\"Individual Files\",'FixturesByArea Individual Files'!E654,0))","v":0},"","-","",{"v":0.04,"d":"$0.04"},"",null,"Area 15",{"v":0,"d":"0.00"},{"v":0,"d":"0.00"},0,0,0,{"v":0,"d":"0.0000"},0,0,{"v":0,"d":"0.00"},0,0,0]
[null,{"$f":"IF(C61>1,\"Area 16\",IF(C61,\"\",\"\"))","v":""},{"$f":"IF($E$35=\"COMCheck\",'As-Built COMcheck'!D86,IF($E$35=\"Individual Files\",'Sq. Ft. Area Individual Files'!C26,0))","v":0},null,{"$f":"IF($E$35=\"COMCheck\",'As-Built COMcheck'!D87,IF($E$35=\"Individual Files\",'FixturesByArea Individual Files'!E657,0))","v":0},null,{"$f":"IF($E$35=\"COMCheck\",'As-Built COMcheck'!D89,IF($E$35=\"Individual Files\",'FixturesByArea Individual Files'!E697,0))","v":0},"","-","",{"v":0.04,"d":"$0.04"},"",null,"Area 16",{"v":0,"d":"0.00"},{"v":0,"d":"0.00"},0,0,0,{"v":0,"d":"0.0000"},0,0,{"v":0,"d":"0.00"},0,0,0]
[null,{"$f":"IF(C62>1,\"Area 17\",IF(C62,\"\",\"\"))","v":""},{"$f":"IF($E$35=\"COMCheck\",'As-Built COMcheck'!D91,IF($E$35=\"Individual Files\",'Sq. Ft. Area Individual Files'!C27,0))","v":0},null,{"$f":"IF($E$35=\"COMCheck\",'As-Built COMcheck'!D92,IF($E$35=\"Individual Files\",'FixturesByArea Individual Files'!E700,0))","v":0},null,{"$f":"IF($E$35=\"COMCheck\",'As-Built COMcheck'!D94,IF($E$35=\"Individual Files\",'FixturesByArea Individual Files'!E740,0))","v":0},"","-","",{"v":0.04,"d":"$0.04"},"",null,"Area 17",{"v":0,"d":"0.00"},{"v":0,"d":"0.00"},0,0,0,{"v":0,"d":"0.0000"},0,0,{"v":0,"d":"0.00"},0,0,0]
[null,{"$f":"IF(C63>1,\"Area 18\",IF(C63,\"\",\"\"))","v":""},{"$f":"IF($E$35=\"COMCheck\",'As-Built COMcheck'!D96,IF($E$35=\"Individual Files\",'Sq. Ft. Area Individual Files'!C28,0))","v":0},null,{"$f":"IF($E$35=\"COMCheck\",'As-Built COMcheck'!D97,IF($E$35=\"Individual Files\",'FixturesByArea Individual Files'!E743,0))","v":0},null,{"$f":"IF($E$35=\"COMCheck\",'As-Built COMcheck'!D99,IF($E$35=\"Individual Files\",'FixturesByArea Individual Files'!E783,0))","v":0},"","-","",{"v":0.04,"d":"$0.04"},"",null,"Area 18",{"v":0,"d":"0.00"},{"v":0,"d":"0.00"},0,0,0,{"v":0,"d":"0.0000"},0,0,{"v":0,"d":"0.00"},0,0,0]
[null,{"$f":"IF(C64>1,\"Area 19\",IF(C64,\"\",\"\"))","v":""},{"$f":"IF($E$35=\"COMCheck\",'As-Built COMcheck'!D101,IF($E$35=\"Individual Files\",'Sq. Ft. Area Individual Files'!C29,0))","v":0},null,{"$f":"IF($E$35=\"COMCheck\",'As-Built COMcheck'!D102,IF($E$35=\"Individual Files\",'FixturesByArea Individual Files'!E786,0))","v":0},null,{"$f":"IF($E$35=\"COMCheck\",'As-Built COMcheck'!D104,IF($E$35=\"Individual Files\",'FixturesByArea Individual Files'!E826,0))","v":0},"","-","",{"v":0.04,"d":"$0.04"},"",null,"Area 19",{"v":0,"d":"0.00"},{"v":0,"d":"0.00"},0,0,0,{"v":0,"d":"0.0000"},0,0,{"v":0,"d":"0.00"},0,0,0]
[null,{"$f":"IF(C65>1,\"Area 20\",IF(C65,\"\",\"\"))","v":""},{"$f":"IF($E$35=\"COMCheck\",'As-Built COMcheck'!D106,IF($E$35=\"Individual Files\",'Sq. Ft. Area Individual Files'!C30,0))","v":0},null,{"$f":"IF($E$35=\"COMCheck\",'As-Built COMcheck'!D107,IF($E$35=\"Individual Files\",'FixturesByArea Individual Files'!E829,0))","v":0},null,{"$f":"IF($E$35=\"COMCheck\",'As-Built COMcheck'!D109,IF($E$35=\"Individual Files\",'FixturesByArea Individual Files'!E869,0))","v":0},"","-","",{"v":0.04,"d":"$0.04"},"",null,"Area 20",{"v":0,"d":"0.00"},{"v":0,"d":"0.00"},0,0,0,{"v":0,"d":"0.0000"},0,0,{"v":0,"d":"0.00"},0,0,0]
[null,{"$f":"IF(C66>1,\"Area 21\",IF(C66,\"\",\"\"))","v":""},{"$f":"IF($E$35=\"COMCheck\",'As-Built COMcheck'!D111,IF($E$35=\"Individual Files\",'Sq. Ft. Area Individual Files'!C31,0))","v":0},null,{"$f":"IF($E$35=\"COMCheck\",'As-Built COMcheck'!D112,IF($E$35=\"Individual Files\",'FixturesByArea Individual Files'!E872,0))","v":0},null,{"$f":"IF($E$35=\"COMCheck\",'As-Built COMcheck'!D114,IF($E$35=\"Individual Files\",'FixturesByArea Individual Files'!E912,0))","v":0},"","-","",{"v":0.04,"d":"$0.04"},"",null,"Area 21",{"v":0,"d":"0.00"},{"v":0,"d":"0.00"},0,0,0,{"v":0,"d":"0.0000"},0,0,{"v":0,"d":"0.00"},0,0,0]
[null,{"$f":"IF(C67>1,\"Area 22\",IF(C67,\"\",\"\"))","v":""},{"$f":"IF($E$35=\"COMCheck\",'As-Built COMcheck'!D116,IF($E$35=\"Individual Files\",'Sq. Ft. Area Individual Files'!C32,0))","v":0},null,{"$f":"IF($E$35=\"COMCheck\",'As-Built COMcheck'!D117,IF($E$35=\"Individual Files\",'FixturesByArea Individual Files'!E915,0))","v":0},null,{"$f":"IF($E$35=\"COMCheck\",'As-Built COMcheck'!D119,IF($E$35=\"Individual Files\",'FixturesByArea Individual Files'!E955,0))","v":0},"","-","",{"v":0.04,"d":"$0.04"},"",null,"Area 22",{"v":0,"d":"0.00"},{"v":0,"d":"0.00"},0,0,0,{"v":0,"d":"0.0000"},0,0,{"v":0,"d":"0.00"},0,0,0]
[null,{"$f":"IF(C68>1,\"Area 23\",IF(C68,\"\",\"\"))","v":""},{"$f":"IF($E$35=\"COMCheck\",'As-Built COMcheck'!D121,IF($E$35=\"Individual Files\",'Sq. Ft. Area Individual Files'!C33,0))","v":0},null,{"$f":"IF($E$35=\"COMCheck\",'As-Built COMcheck'!D122,IF($E$35=\"Individual Files\",'FixturesByArea Individual Files'!E958,0))","v":0},null,{"$f":"IF($E$35=\"COMCheck\",'As-Built COMcheck'!D124,IF($E$35=\"Individual Files\",'FixturesByArea Individual Files'!E998,0))","v":0},"","-","",{"v":0.04,"d":"$0.04"},"",null,"Area 23",{"v":0,"d":"0.00"},{"v":0,"d":"0.00"},0,0,0,{"v":0,"d":"0.0000"},0,0,{"v":0,"d":"0.00"},0,0,0]
[null,{"$f":"IF(C69>1,\"Area 24\",IF(C69,\"\",\"\"))","v":""},{"$f":"IF($E$35=\"COMCheck\",'As-Built COMcheck'!D126,IF($E$35=\"Individual Files\",'Sq. Ft. Area Individual Files'!C34,0))","v":0},null,{"$f":"IF($E$35=\"COMCheck\",'As-Built COMcheck'!D127,IF($E$35=\"Individual Files\",'FixturesByArea Individual Files'!E1001,0))","v":0},null,{"$f":"IF($E$35=\"COMCheck\",'As-Built COMcheck'!D129,IF($E$35=\"Individual Files\",'FixturesByArea Individual Files'!E1041,0))","v":0},"","-","",{"v":0.04,"d":"$0.04"},"",null,"Area 24",{"v":0,"d":"0.00"},{"v":0,"d":"0.00"},0,0,0,{"v":0,"d":"0.0000"},0,0,{"v":0,"d":"0.00"},0,0,0]
[null,{"$f":"IF(C70>1,\"Area 25\",IF(C70,\"\",\"\"))","v":""},{"$f":"IF($E$35=\"COMCheck\",'As-Built COMcheck'!D131,IF($E$35=\"Individual Files\",'Sq. Ft. Area Individual Files'!C35,0))","v":0},null,{"$f":"IF($E$35=\"COMCheck\",'As-Built COMcheck'!D132,IF($E$35=\"Individual Files\",'FixturesByArea Individual Files'!E1044,0))","v":0},null,{"$f":"IF($E$35=\"COMCheck\",'As-Built COMcheck'!D134,IF($E$35=\"Individual Files\",'FixturesByArea Individual Files'!E1084,0))","v":0},"","-","",{"v":0.04,"d":"$0.04"},"",null,"Area 25",{"v":0,"d":"0.00"},{"v":0,"d":"0.00"},0,0,0,{"v":0,"d":"0.0000"},0,0,{"v":0,"d":"0.00"},0,0,0]
[{"$nulls":10},"Total:",{"$f":"SUBTOTAL(9,(L46:L70))","v":0},{"$nulls":5},"Total Project",{"$f":"SUBTOTAL(9,(S46:S70))","v":0},{"$f":"SUBTOTAL(9,(T46:T70))","v":{"v":0,"d":"0.0000"}},0,{"v":0,"d":"0.00000"},{"v":0,"d":"0.00"},0,0,0,"Industry Standard Cost"]
[{"$nulls":11},{"$f":"IF(L71>24999.99,\"Post Inspection Required. Focus on Energy will contact to schedule.\",IF(L71<25000,\"\"))","v":""}]
[null,"Important \nNotes: ","The above calculation is an estimated incentive and is subject to review.  If discrepancies are discovered, Focus on Energy reserves the right to adjust the incentive."]
[null,null,"The Incentive application and LPD workbook must be submitted within 60 days of project completion.  Both are required for incentive processing."]
[null,null,"Project Completion is considered occupancy date or final equipment installation date, whichever occurs later."]
[null,null,"Contact Focus on Energy at business@focusonenergy.com or 800.762.7077."]
[null,null,"Link to Focus on Energy Catalogs",{"$nulls":7},"Last Revised:",{"$f":"MAX(RevisionHistory!B5:B41)","v":"2023-01-23"}]
[]
[null,null,"NLC Measure Summary"]
[null,null,"(A)\nSquare Footage","(B)\nAnnual\nHours of Use","(C)\nWatts Controlled with NLC, High Bay",null,"(D)\nWatts Controlled with NLC, Non-High Bay","(E)\nWatts Controlled with NLC, Spaces with Daylighting","(F)\nPeak kW Savings","(G)\nAnnual kWh Savings","(H)\nIncentive Rate\n($/kWh Reduced)","(I)\nRequested Incentive\n(G x H)"]
[null,{"$f":"IF(C81>1,\"Area 1\",IF(C81,\"\",\"\"))","v":""},{"$f":"IF($E$35=\"COMCheck\",'As-Built COMcheck'!D9,IF($E$35=\"Individual Files\",'Sq. Ft. Area Individual Files'!C11,0))","v":0},{"$f":"D46","v":0},{"$f":"SUMIFS('FixturesByArea Individual Files'!$E$16:$E$51, 'FixturesByArea Individual Files'!$F$16:$F$51,\"Yes\", 'FixturesByArea Individual Files'!$G$16:$G$51, Admin_Lists!$A$83)","v":0},null,{"$f":"SUMIFS('FixturesByArea Individual Files'!$E$16:$E$51, 'FixturesByArea Individual Files'!$F$16:$F$51,\"Yes\", 'FixturesByArea Individual Files'!$G$16:$G$51, Admin_Lists!$A$85)","v":0},{"$f":"SUMIFS('FixturesByArea Individual Files'!$E$16:$E$51, 'FixturesByArea Individual Files'!$F$16:$F$51,\"Yes\", 'FixturesByArea Individual Files'!$G$16:$G$51, Admin_Lists!$A$84)","v":0},{"$f":"'FixturesByArea Individual Files'!H52","v":{"v":0,"d":"0.00"}},{"$f":"'FixturesByArea Individual Files'!I52","v":0},{"$f":"NLC_Incentive_Rate","v":{"v":0.04,"d":"$0.04"}},{"$f":"IFERROR(J81*K81,\"\")","v":0}]
[null,{"$f":"IF(C82>1,\"Area 2\",IF(C82,\"\",\"\"))","v":""},{"$f":"IF($E$35=\"COMCheck\",'As-Built COMcheck'!D10,IF($E$35=\"Individual Files\",'Sq. Ft. Area Individual Files'!C12,0))","v":0},{"$f":"D47","v":0},{"$f":"SUMIFS('FixturesByArea Individual Files'!$E$59:$E$94, 'FixturesByArea Individual Files'!$F$59:$F$94,\"Yes\", 'FixturesByArea Individual Files'!$G$59:$G$94, Admin_Lists!$A$83)","v":0},null,{"$f":"SUMIFS('FixturesByArea Individual Files'!$E$59:$E$94, 'FixturesByArea Individual Files'!$F$59:$F$94,\"Yes\", 'FixturesByArea Individual Files'!$G$59:$G$94, Admin_Lists!$A$85)","v":0},{"$f":"SUMIFS('FixturesByArea Individual Files'!$E$59:$E$94, 'FixturesByArea Individual Files'!$F$59:$F$94,\"Yes\", 'FixturesByArea Individual Files'!$G$59:$G$94, Admin_Lists!$A$84)","v":0},{"$f":"'FixturesByArea Individual Files'!H95","v":{"v":0,"d":"0.00"}},{"$f":"'FixturesByArea Individual Files'!I95","v":0},{"v":0.04,"d":"$0.04"},{"$f":"IFERROR(J82*K82,\"\")","v":0}]
[null,{"$f":"IF(C83>1,\"Area 3\",IF(C83,\"\",\"\"))","v":""},{"$f":"IF($E$35=\"COMCheck\",'As-Built COMcheck'!D11,IF($E$35=\"Individual Files\",'Sq. Ft. Area Individual Files'!C13,0))","v":0},0,{"$f":"SUMIFS('FixturesByArea Individual Files'!$E$102:$E$137, 'FixturesByArea Individual Files'!$F$102:$F$137,\"Yes\", 'FixturesByArea Individual Files'!$G$102:$G$137, Admin_Lists!$A$83)","v":0},null,{"$f":"SUMIFS('FixturesByArea Individual Files'!$E$102:$E$137, 'FixturesByArea Individual Files'!$F$102:$F$137,\"Yes\", 'FixturesByArea Individual Files'!$G$102:$G$137, Admin_Lists!$A$85)","v":0},{"$f":"SUMIFS('FixturesByArea Individual Files'!$E$102:$E$137, 'FixturesByArea Individual Files'!$F$102:$F$137,\"Yes\", 'FixturesByArea Individual Files'!$G$102:$G$137, Admin_Lists!$A$84)","v":0},{"$f":"'FixturesByArea Individual Files'!H138","v":{"v":0,"d":"0.00"}},{"$f":"'FixturesByArea Individual Files'!I138","v":0},{"v":0.04,"d":"$0.04"},0]
[null,{"$f":"IF(C84>1,\"Area 4\",IF(C84,\"\",\"\"))","v":""},{"$f":"IF($E$35=\"COMCheck\",'As-Built COMcheck'!D12,IF($E$35=\"Individual Files\",'Sq. Ft. Area Individual Files'!C14,0))","v":0},0,{"$f":"SUMIFS('FixturesByArea Individual Files'!$E$145:$E$180, 'FixturesByArea Individual Files'!$F$145:$F$180,\"Yes\", 'FixturesByArea Individual Files'!$G$145:$G$180, Admin_Lists!$A$83)","v":0},null,{"$f":"SUMIFS('FixturesByArea Individual Files'!$E$145:$E$180, 'FixturesByArea Individual Files'!$F$145:$F$180,\"Yes\", 'FixturesByArea Individual Files'!$G$145:$G$180, Admin_Lists!$A$85)","v":0},{"$f":"SUMIFS('FixturesByArea Individual Files'!$E$145:$E$180, 'FixturesByArea Individual Files'!$F$145:$F$180,\"Yes\", 'FixturesByArea Individual Files'!$G$145:$G$180, Admin_Lists!$A$84)","v":0},{"$f":"'FixturesByArea Individual Files'!H181","v":{"v":0,"d":"0.00"}},{"$f":"+'FixturesByArea Individual Files'!I181","v":0},{"v":0.04,"d":"$0.04"},0]
[null,{"$f":"IF(C85>1,\"Area 5\",IF(C85,\"\",\"\"))","v":""},{"$f":"IF($E$35=\"COMCheck\",'As-Built COMcheck'!D13,IF($E$35=\"Individual Files\",'Sq. Ft. Area Individual Files'!C15,0))","v":0},0,{"$f":"SUMIFS('FixturesByArea Individual Files'!$E$188:$E$223, 'FixturesByArea Individual Files'!$F$188:$F$223,\"Yes\", 'FixturesByArea Individual Files'!$G$188:$G$223, Admin_Lists!$A$83)","v":0},null,{"$f":"SUMIFS('FixturesByArea Individual Files'!$E$188:$E$223, 'FixturesByArea Individual Files'!$F$188:$F$223,\"Yes\", 'FixturesByArea Individual Files'!$G$188:$G$223, Admin_Lists!$A$85)","v":0},{"$f":"SUMIFS('FixturesByArea Individual Files'!$E$188:$E$223, 'FixturesByArea Individual Files'!$F$188:$F$223,\"Yes\", 'FixturesByArea Individual Files'!$G$188:$G$223, Admin_Lists!$A$84)","v":0},{"$f":"'FixturesByArea Individual Files'!H224","v":{"v":0,"d":"0.00"}},{"$f":"'FixturesByArea Individual Files'!I224","v":0},{"v":0.04,"d":"$0.04"},0]
[null,{"$f":"IF(C86>1,\"Area 6\",IF(C86,\"\",\"\"))","v":""},{"$f":"IF($E$35=\"COMCheck\",'As-Built COMcheck'!D14,IF($E$35=\"Individual Files\",'Sq. Ft. Area Individual Files'!C16,0))","v":0},0,{"$f":"SUMIFS('FixturesByArea Individual Files'!$E$231:$E$266, 'FixturesByArea Individual Files'!$F$231:$F$266,\"Yes\", 'FixturesByArea Individual Files'!$G$231:$G$266, Admin_Lists!$A$83)","v":0},null,{"$f":"SUMIFS('FixturesByArea Individual Files'!$E$231:$E$266, 'FixturesByArea Individual Files'!$F$231:$F$266,\"Yes\", 'FixturesByArea Individual Files'!$G$231:$G$266, Admin_Lists!$A$85)","v":0},{"$f":"SUMIFS('FixturesByArea Individual Files'!$E$231:$E$266, 'FixturesByArea Individual Files'!$F$231:$F$266,\"Yes\", 'FixturesByArea Individual Files'!$G$231:$G$266, Admin_Lists!$A$84)","v":0},{"$f":"'FixturesByArea Individual Files'!H267","v":{"v":0,"d":"0.00"}},{"$f":"'FixturesByArea Individual Files'!I267","v":0},{"v":0.04,"d":"$0.04"},0]
[null,{"$f":"IF(C87>1,\"Area 7\",IF(C87,\"\",\"\"))","v":""},{"$f":"IF($E$35=\"COMCheck\",'As-Built COMcheck'!D15,IF($E$35=\"Individual Files\",'Sq. Ft. Area Individual Files'!C17,0))","v":0},0,{"$f":"SUMIFS('FixturesByArea Individual Files'!$E$274:$E$309, 'FixturesByArea Individual Files'!$F$274:$F$309,\"Yes\", 'FixturesByArea Individual Files'!$G$274:$G$309, Admin_Lists!$A$83)","v":0},null,{"$f":"SUMIFS('FixturesByArea Individual Files'!$E$274:$E$309, 'FixturesByArea Individual Files'!$F$274:$F$309,\"Yes\", 'FixturesByArea Individual Files'!$G$274:$G$309, Admin_Lists!$A$85)","v":0},{"$f":"SUMIFS('FixturesByArea Individual Files'!$E$274:$E$309, 'FixturesByArea Individual Files'!$F$274:$F$309,\"Yes\", 'FixturesByArea Individual Files'!$G$274:$G$309, Admin_Lists!$A$84)","v":0},{"$f":"'FixturesByArea Individual Files'!H310","v":{"v":0,"d":"0.00"}},{"$f":"'FixturesByArea Individual Files'!I310","v":0},{"v":0.04,"d":"$0.04"},0]
[null,{"$f":"IF(C88>1,\"Area 8\",IF(C88,\"\",\"\"))","v":""},{"$f":"IF($E$35=\"COMCheck\",'As-Built COMcheck'!D16,IF($E$35=\"Individual Files\",'Sq. Ft. Area Individual Files'!C18,0))","v":0},0,{"$f":"SUMIFS('FixturesByArea Individual Files'!$E$317:$E$352, 'FixturesByArea Individual Files'!$F$317:$F$352,\"Yes\", 'FixturesByArea Individual Files'!$G$317:$G$352, Admin_Lists!$A$83)","v":0},null,{"$f":"SUMIFS('FixturesByArea Individual Files'!$E$317:$E$352, 'FixturesByArea Individual Files'!$F$317:$F$352,\"Yes\", 'FixturesByArea Individual Files'!$G$317:$G$352, Admin_Lists!$A$85)","v":0},{"$f":"SUMIFS('FixturesByArea Individual Files'!$E$317:$E$352, 'FixturesByArea Individual Files'!$F$317:$F$352,\"Yes\", 'FixturesByArea Individual Files'!$G$317:$G$352, Admin_Lists!$A$84)","v":0},{"$f":"'FixturesByArea Individual Files'!H353","v":{"v":0,"d":"0.00"}},{"$f":"'FixturesByArea Individual Files'!I353","v":0},{"v":0.04,"d":"$0.04"},0]
[null,{"$f":"IF(C89>1,\"Area 9\",IF(C89,\"\",\"\"))","v":""},{"$f":"IF($E$35=\"COMCheck\",'As-Built COMcheck'!D17,IF($E$35=\"Individual Files\",'Sq. Ft. Area Individual Files'!C19,0))","v":0},0,{"$f":"SUMIFS('FixturesByArea Individual Files'!$E$360:$E$395, 'FixturesByArea Individual Files'!$F$360:$F$395,\"Yes\", 'FixturesByArea Individual Files'!$G$360:$G$395, Admin_Lists!$A$83)","v":0},null,{"$f":"SUMIFS('FixturesByArea Individual Files'!$E$360:$E$395, 'FixturesByArea Individual Files'!$F$360:$F$395,\"Yes\", 'FixturesByArea Individual Files'!$G$360:$G$395, Admin_Lists!$A$85)","v":0},{"$f":"SUMIFS('FixturesByArea Individual Files'!$E$360:$E$395, 'FixturesByArea Individual Files'!$F$360:$F$395,\"Yes\", 'FixturesByArea Individual Files'!$G$360:$G$395, Admin_Lists!$A$84)","v":0},{"$f":"'FixturesByArea Individual Files'!H396","v":{"v":0,"d":"0.00"}},{"$f":"'FixturesByArea Individual Files'!I396","v":0},{"v":0.04,"d":"$0.04"},0]
[null,{"$f":"IF(C90>1,\"Area 10\",IF(C90,\"\",\"\"))","v":""},{"$f":"IF($E$35=\"COMCheck\",'As-Built COMcheck'!D18,IF($E$35=\"Individual Files\",'Sq. Ft. Area Individual Files'!C20,0))","v":0},0,{"$f":"SUMIFS('FixturesByArea Individual Files'!$E$403:$E$438, 'FixturesByArea Individual Files'!$F$403:$F$438,\"Yes\", 'FixturesByArea Individual Files'!$G$403:$G$438, Admin_Lists!$A$83)","v":0},null,{"$f":"SUMIFS('FixturesByArea Individual Files'!$E$403:$E$438, 'FixturesByArea Individual Files'!$F$403:$F$438,\"Yes\", 'FixturesByArea Individual Files'!$G$403:$G$438, Admin_Lists!$A$85)","v":0},{"$f":"SUMIFS('FixturesByArea Individual Files'!$E$403:$E$438, 'FixturesByArea Individual Files'!$F$403:$F$438,\"Yes\", 'FixturesByArea Individual Files'!$G$403:$G$438, Admin_Lists!$A$84)","v":0},{"$f":"'FixturesByArea Individual Files'!H439","v":{"v":0,"d":"0.00"}},{"$f":"'FixturesByArea Individual Files'!I439","v":0},{"v":0.04,"d":"$0.04"},0]
[null,{"$f":"IF(C91>1,\"Area 11\",IF(C91,\"\",\"\"))","v":""},{"$f":"IF($E$35=\"COMCheck\",'As-Built COMcheck'!D19,IF($E$35=\"Individual Files\",'Sq. Ft. Area Individual Files'!C21,0))","v":0},0,{"$f":"SUMIFS('FixturesByArea Individual Files'!$E$446:$E$481, 'FixturesByArea Individual Files'!$F$446:$F$481,\"Yes\", 'FixturesByArea Individual Files'!$G$446:$G$481, Admin_Lists!$A$83)","v":0},null,{"$f":"SUMIFS('FixturesByArea Individual Files'!$E$446:$E$481, 'FixturesByArea Individual Files'!$F$446:$F$481,\"Yes\", 'FixturesByArea Individual Files'!$G$446:$G$481, Admin_Lists!$A$85)","v":0},{"$f":"SUMIFS('FixturesByArea Individual Files'!$E$446:$E$481, 'FixturesByArea Individual Files'!$F$446:$F$481,\"Yes\", 'FixturesByArea Individual Files'!$G$446:$G$481, Admin_Lists!$A$84)","v":0},{"$f":"'FixturesByArea Individual Files'!H482","v":{"v":0,"d":"0.00"}},{"$f":"'FixturesByArea Individual Files'!I482","v":0},{"v":0.04,"d":"$0.04"},0]
[null,{"$f":"IF(C92>1,\"Area 12\",IF(C92,\"\",\"\"))","v":""},{"$f":"IF($E$35=\"COMCheck\",'As-Built COMcheck'!D20,IF($E$35=\"Individual Files\",'Sq. Ft. Area Individual Files'!C22,0))","v":0},0,{"$f":"SUMIFS('FixturesByArea Individual Files'!$E$489:$E$524, 'FixturesByArea Individual Files'!$F$489:$F$524,\"Yes\", 'FixturesByArea Individual Files'!$G$489:$G$524, Admin_Lists!$A$83)","v":0},null,{"$f":"SUMIFS('FixturesByArea Individual Files'!$E$489:$E$524, 'FixturesByArea Individual Files'!$F$489:$F$524,\"Yes\", 'FixturesByArea Individual Files'!$G$489:$G$524, Admin_Lists!$A$85)","v":0},{"$f":"SUMIFS('FixturesByArea Individual Files'!$E$489:$E$524, 'FixturesByArea Individual Files'!$F$489:$F$524,\"Yes\", 'FixturesByArea Individual Files'!$G$489:$G$524, Admin_Lists!$A$84)","v":0},{"$f":"'FixturesByArea Individual Files'!H525","v":{"v":0,"d":"0.00"}},{"$f":"'FixturesByArea Individual Files'!I525","v":0},{"v":0.04,"d":"$0.04"},0]
[null,{"$f":"IF(C93>1,\"Area 13\",IF(C93,\"\",\"\"))","v":""},{"$f":"IF($E$35=\"COMCheck\",'As-Built COMcheck'!D21,IF($E$35=\"Individual Files\",'Sq. Ft. Area Individual Files'!C23,0))","v":0},0,{"$f":"SUMIFS('FixturesByArea Individual Files'!$E$532:$E$567, 'FixturesByArea Individual Files'!$F$532:$F$567,\"Yes\", 'FixturesByArea Individual Files'!$G$532:$G$567, Admin_Lists!$A$83)","v":0},null,{"$f":"SUMIFS('FixturesByArea Individual Files'!$E$532:$E$567, 'FixturesByArea Individual Files'!$F$532:$F$567,\"Yes\", 'FixturesByArea Individual Files'!$G$532:$G$567, Admin_Lists!$A$85)","v":0},{"$f":"SUMIFS('FixturesByArea Individual Files'!$E$532:$E$567, 'FixturesByArea Individual Files'!$F$532:$F$567,\"Yes\", 'FixturesByArea Individual Files'!$G$532:$G$567, Admin_Lists!$A$84)","v":0},{"$f":"'FixturesByArea Individual Files'!H568","v":{"v":0,"d":"0.00"}},{"$f":"'FixturesByArea Individual Files'!I568","v":0},{"v":0.04,"d":"$0.04"},0]
[null,{"$f":"IF(C94>1,\"Area 14\",IF(C94,\"\",\"\"))","v":""},{"$f":"IF($E$35=\"COMCheck\",'As-Built COMcheck'!D22,IF($E$35=\"Individual Files\",'Sq. Ft. Area Individual Files'!C24,0))","v":0},0,{"$f":"SUMIFS('FixturesByArea Individual Files'!$E$575:$E$610, 'FixturesByArea Individual Files'!$F$575:$F$610,\"Yes\", 'FixturesByArea Individual Files'!$G$575:$G$610, Admin_Lists!$A$83)","v":0},null,{"$f":"SUMIFS('FixturesByArea Individual Files'!$E$575:$E$610, 'FixturesByArea Individual Files'!$F$575:$F$610,\"Yes\", 'FixturesByArea Individual Files'!$G$575:$G$610, Admin_Lists!$A$85)","v":0},{"$f":"SUMIFS('FixturesByArea Individual Files'!$E$575:$E$610, 'FixturesByArea Individual Files'!$F$575:$F$610,\"Yes\", 'FixturesByArea Individual Files'!$G$575:$G$610, Admin_Lists!$A$84)","v":0},{"$f":"'FixturesByArea Individual Files'!H611","v":{"v":0,"d":"0.00"}},{"$f":"'FixturesByArea Individual Files'!I611","v":0},{"v":0.04,"d":"$0.04"},0]
[null,{"$f":"IF(C95>1,\"Area 15\",IF(C95,\"\",\"\"))","v":""},{"$f":"IF($E$35=\"COMCheck\",'As-Built COMcheck'!D23,IF($E$35=\"Individual Files\",'Sq. Ft. Area Individual Files'!C25,0))","v":0},0,{"$f":"SUMIFS('FixturesByArea Individual Files'!$E$618:$E$653, 'FixturesByArea Individual Files'!$F$618:$F$653,\"Yes\", 'FixturesByArea Individual Files'!$G$618:$G$653, Admin_Lists!$A$83)","v":0},null,{"$f":"SUMIFS('FixturesByArea Individual Files'!$E$618:$E$653, 'FixturesByArea Individual Files'!$F$618:$F$653,\"Yes\", 'FixturesByArea Individual Files'!$G$618:$G$653, Admin_Lists!$A$85)","v":0},{"$f":"SUMIFS('FixturesByArea Individual Files'!$E$618:$E$653, 'FixturesByArea Individual Files'!$F$618:$F$653,\"Yes\", 'FixturesByArea Individual Files'!$G$618:$G$653, Admin_Lists!$A$84)","v":0},{"$f":"'FixturesByArea Individual Files'!H654","v":{"v":0,"d":"0.00"}},{"$f":"'FixturesByArea Individual Files'!I654","v":0},{"v":0.04,"d":"$0.04"},0]
[null,{"$f":"IF(C96>1,\"Area 16\",IF(C96,\"\",\"\"))","v":""},{"$f":"IF($E$35=\"COMCheck\",'As-Built COMcheck'!D24,IF($E$35=\"Individual Files\",'Sq. Ft. Area Individual Files'!C26,0))","v":0},0,{"$f":"SUMIFS('FixturesByArea Individual Files'!$E$661:$E$696, 'FixturesByArea Individual Files'!$F$661:$F$696,\"Yes\", 'FixturesByArea Individual Files'!$G$661:$G$696, Admin_Lists!$A$83)","v":0},null,{"$f":"SUMIFS('FixturesByArea Individual Files'!$E$661:$E$696, 'FixturesByArea Individual Files'!$F$661:$F$696,\"Yes\", 'FixturesByArea Individual Files'!$G$661:$G$696, Admin_Lists!$A$85)","v":0},{"$f":"SUMIFS('FixturesByArea Individual Files'!$E$661:$E$696, 'FixturesByArea Individual Files'!$F$661:$F$696,\"Yes\", 'FixturesByArea Individual Files'!$G$661:$G$696, Admin_Lists!$A$84)","v":0},{"$f":"'FixturesByArea Individual Files'!H697","v":{"v":0,"d":"0.00"}},{"$f":"'FixturesByArea Individual Files'!I697","v":0},{"v":0.04,"d":"$0.04"},0]
[null,{"$f":"IF(C97>1,\"Area 17\",IF(C97,\"\",\"\"))","v":""},{"$f":"IF($E$35=\"COMCheck\",'As-Built COMcheck'!D25,IF($E$35=\"Individual Files\",'Sq. Ft. Area Individual Files'!C27,0))","v":0},0,{"$f":"SUMIFS('FixturesByArea Individual Files'!$E$704:$E$739, 'FixturesByArea Individual Files'!$F$704:$F$739,\"Yes\", 'FixturesByArea Individual Files'!$G$704:$G$739, Admin_Lists!$A$83)","v":0},null,{"$f":"SUMIFS('FixturesByArea Individual Files'!$E$704:$E$739, 'FixturesByArea Individual Files'!$F$704:$F$739,\"Yes\", 'FixturesByArea Individual Files'!$G$704:$G$739, Admin_Lists!$A$85)","v":0},{"$f":"SUMIFS('FixturesByArea Individual Files'!$E$704:$E$739, 'FixturesByArea Individual Files'!$F$704:$F$739,\"Yes\", 'FixturesByArea Individual Files'!$G$704:$G$739, Admin_Lists!$A$84)","v":0},{"$f":"'FixturesByArea Individual Files'!H740","v":{"v":0,"d":"0.00"}},{"$f":"'FixturesByArea Individual Files'!I740","v":0},{"v":0.04,"d":"$0.04"},0]
[null,{"$f":"IF(C98>1,\"Area 18\",IF(C98,\"\",\"\"))","v":""},{"$f":"IF($E$35=\"COMCheck\",'As-Built COMcheck'!D26,IF($E$35=\"Individual Files\",'Sq. Ft. Area Individual Files'!C28,0))","v":0},0,{"$f":"SUMIFS('FixturesByArea Individual Files'!$E$747:$E$782, 'FixturesByArea Individual Files'!$F$747:$F$782,\"Yes\", 'FixturesByArea Individual Files'!$G$747:$G$782, Admin_Lists!$A$83)","v":0},null,{"$f":"SUMIFS('FixturesByArea Individual Files'!$E$747:$E$782, 'FixturesByArea Individual Files'!$F$747:$F$782,\"Yes\", 'FixturesByArea Individual Files'!$G$747:$G$782, Admin_Lists!$A$85)","v":0},{"$f":"SUMIFS('FixturesByArea Individual Files'!$E$747:$E$782, 'FixturesByArea Individual Files'!$F$747:$F$782,\"Yes\", 'FixturesByArea Individual Files'!$G$747:$G$782, Admin_Lists!$A$84)","v":0},{"$f":"'FixturesByArea Individual Files'!H783","v":{"v":0,"d":"0.00"}},{"$f":"'FixturesByArea Individual Files'!I783","v":0},{"v":0.04,"d":"$0.04"},0]
[null,{"$f":"IF(C99>1,\"Area 19\",IF(C99,\"\",\"\"))","v":""},{"$f":"IF($E$35=\"COMCheck\",'As-Built COMcheck'!D27,IF($E$35=\"Individual Files\",'Sq. Ft. Area Individual Files'!C29,0))","v":0},0,{"$f":"SUMIFS('FixturesByArea Individual Files'!$E$790:$E$825, 'FixturesByArea Individual Files'!$F$790:$F$825,\"Yes\", 'FixturesByArea Individual Files'!$G$790:$G$825, Admin_Lists!$A$83)","v":0},null,{"$f":"SUMIFS('FixturesByArea Individual Files'!$E$790:$E$825, 'FixturesByArea Individual Files'!$F$790:$F$825,\"Yes\", 'FixturesByArea Individual Files'!$G$790:$G$825, Admin_Lists!$A$85)","v":0},{"$f":"SUMIFS('FixturesByArea Individual Files'!$E$790:$E$825, 'FixturesByArea Individual Files'!$F$790:$F$825,\"Yes\", 'FixturesByArea Individual Files'!$G$790:$G$825, Admin_Lists!$A$84)","v":0},{"$f":"'FixturesByArea Individual Files'!H826","v":{"v":0,"d":"0.00"}},{"$f":"'FixturesByArea Individual Files'!I826","v":0},{"v":0.04,"d":"$0.04"},0]
[null,{"$f":"IF(C100>1,\"Area 20\",IF(C100,\"\",\"\"))","v":""},{"$f":"IF($E$35=\"COMCheck\",'As-Built COMcheck'!D28,IF($E$35=\"Individual Files\",'Sq. Ft. Area Individual Files'!C30,0))","v":0},0,{"$f":"SUMIFS('FixturesByArea Individual Files'!$E$833:$E$868, 'FixturesByArea Individual Files'!$F$833:$F$868,\"Yes\", 'FixturesByArea Individual Files'!$G$833:$G$868, Admin_Lists!$A$83)","v":0},null,{"$f":"SUMIFS('FixturesByArea Individual Files'!$E$833:$E$868, 'FixturesByArea Individual Files'!$F$833:$F$868,\"Yes\", 'FixturesByArea Individual Files'!$G$833:$G$868, Admin_Lists!$A$85)","v":0},{"$f":"SUMIFS('FixturesByArea Individual Files'!$E$833:$E$868, 'FixturesByArea Individual Files'!$F$833:$F$868,\"Yes\", 'FixturesByArea Individual Files'!$G$833:$G$868, Admin_Lists!$A$84)","v":0},{"$f":"'FixturesByArea Individual Files'!H869","v":{"v":0,"d":"0.00"}},{"$f":"'FixturesByArea Individual Files'!I869","v":0},{"v":0.04,"d":"$0.04"},0]
[null,{"$f":"IF(C101>1,\"Area 21\",IF(C101,\"\",\"\"))","v":""},{"$f":"IF($E$35=\"COMCheck\",'As-Built COMcheck'!D29,IF($E$35=\"Individual Files\",'Sq. Ft. Area Individual Files'!C31,0))","v":0},0,{"$f":"SUMIFS('FixturesByArea Individual Files'!$E$876:$E$911, 'FixturesByArea Individual Files'!$F$876:$F$911,\"Yes\", 'FixturesByArea Individual Files'!$G$876:$G$911, Admin_Lists!$A$83)","v":0},null,{"$f":"SUMIFS('FixturesByArea Individual Files'!$E$876:$E$911, 'FixturesByArea Individual Files'!$F$876:$F$911,\"Yes\", 'FixturesByArea Individual Files'!$G$876:$G$911, Admin_Lists!$A$85)","v":0},{"$f":"SUMIFS('FixturesByArea Individual Files'!$E$876:$E$911, 'FixturesByArea Individual Files'!$F$876:$F$911,\"Yes\", 'FixturesByArea Individual Files'!$G$876:$G$911, Admin_Lists!$A$84)","v":0},{"$f":"'FixturesByArea Individual Files'!H912","v":{"v":0,"d":"0.00"}},{"$f":"'FixturesByArea Individual Files'!I912","v":0},{"v":0.04,"d":"$0.04"},0]
[null,{"$f":"IF(C102>1,\"Area 22\",IF(C102,\"\",\"\"))","v":""},{"$f":"IF($E$35=\"COMCheck\",'As-Built COMcheck'!D30,IF($E$35=\"Individual Files\",'Sq. Ft. Area Individual Files'!C32,0))","v":0},0,{"$f":"SUMIFS('FixturesByArea Individual Files'!$E$919:$E$954, 'FixturesByArea Individual Files'!$F$919:$F$954,\"Yes\", 'FixturesByArea Individual Files'!$G$919:$G$954, Admin_Lists!$A$83)","v":0},null,{"$f":"SUMIFS('FixturesByArea Individual Files'!$E$919:$E$954, 'FixturesByArea Individual Files'!$F$919:$F$954,\"Yes\", 'FixturesByArea Individual Files'!$G$919:$G$954, Admin_Lists!$A$85)","v":0},{"$f":"SUMIFS('FixturesByArea Individual Files'!$E$919:$E$954, 'FixturesByArea Individual Files'!$F$919:$F$954,\"Yes\", 'FixturesByArea Individual Files'!$G$919:$G$954, Admin_Lists!$A$84)","v":0},{"$f":"'FixturesByArea Individual Files'!H955","v":{"v":0,"d":"0.00"}},{"$f":"'FixturesByArea Individual Files'!I955","v":0},{"v":0.04,"d":"$0.04"},0]
[null,{"$f":"IF(C103>1,\"Area 23\",IF(C103,\"\",\"\"))","v":""},{"$f":"IF($E$35=\"COMCheck\",'As-Built COMcheck'!D31,IF($E$35=\"Individual Files\",'Sq. Ft. Area Individual Files'!C33,0))","v":0},0,{"$f":"SUMIFS('FixturesByArea Individual Files'!$E$962:$E$997, 'FixturesByArea Individual Files'!$F$962:$F$997,\"Yes\", 'FixturesByArea Individual Files'!$G$962:$G$997, Admin_Lists!$A$83)","v":0},null,{"$f":"SUMIFS('FixturesByArea Individual Files'!$E$962:$E$997, 'FixturesByArea Individual Files'!$F$962:$F$997,\"Yes\", 'FixturesByArea Individual Files'!$G$962:$G$997, Admin_Lists!$A$85)","v":0},{"$f":"SUMIFS('FixturesByArea Individual Files'!$E$962:$E$997, 'FixturesByArea Individual Files'!$F$962:$F$997,\"Yes\", 'FixturesByArea Individual Files'!$G$962:$G$997, Admin_Lists!$A$84)","v":0},{"$f":"'FixturesByArea Individual Files'!H998","v":{"v":0,"d":"0.00"}},{"$f":"'FixturesByArea Individual Files'!I998","v":0},{"v":0.04,"d":"$0.04"},0]
[null,{"$f":"IF(C104>1,\"Area 24\",IF(C104,\"\",\"\"))","v":""},{"$f":"IF($E$35=\"COMCheck\",'As-Built COMcheck'!D32,IF($E$35=\"Individual Files\",'Sq. Ft. Area Individual Files'!C34,0))","v":0},0,{"$f":"SUMIFS('FixturesByArea Individual Files'!$E$1005:$E$1040, 'FixturesByArea Individual Files'!$F$1005:$F$1040,\"Yes\", 'FixturesByArea Individual Files'!$G$1005:$G$1040, Admin_Lists!$A$83)","v":0},null,{"$f":"SUMIFS('FixturesByArea Individual Files'!$E$1005:$E$1040, 'FixturesByArea Individual Files'!$F$1005:$F$1040,\"Yes\", 'FixturesByArea Individual Files'!$G$1005:$G$1040, Admin_Lists!$A$85)","v":0},{"$f":"SUMIFS('FixturesByArea Individual Files'!$E$1005:$E$1040, 'FixturesByArea Individual Files'!$F$1005:$F$1040,\"Yes\", 'FixturesByArea Individual Files'!$G$1005:$G$1040, Admin_Lists!$A$84)","v":0},{"$f":"'FixturesByArea Individual Files'!H1041","v":{"v":0,"d":"0.00"}},{"$f":"'FixturesByArea Individual Files'!I1041","v":0},{"v":0.04,"d":"$0.04"},0]
[null,{"$f":"IF(C105>1,\"Area 25\",IF(C105,\"\",\"\"))","v":""},{"$f":"IF($E$35=\"COMCheck\",'As-Built COMcheck'!D33,IF($E$35=\"Individual Files\",'Sq. Ft. Area Individual Files'!C35,0))","v":0},0,{"$f":"SUMIFS('FixturesByArea Individual Files'!$E$1048:$E$1083, 'FixturesByArea Individual Files'!$F$1048:$F$1083,\"Yes\", 'FixturesByArea Individual Files'!$G$1048:$G$1083, Admin_Lists!$A$83)","v":0},null,{"$f":"SUMIFS('FixturesByArea Individual Files'!$E$1048:$E$1083, 'FixturesByArea Individual Files'!$F$1048:$F$1083,\"Yes\", 'FixturesByArea Individual Files'!$G$1048:$G$1083, Admin_Lists!$A$85)","v":0},{"$f":"SUMIFS('FixturesByArea Individual Files'!$E$1048:$E$1083, 'FixturesByArea Individual Files'!$F$1048:$F$1083,\"Yes\", 'FixturesByArea Individual Files'!$G$1048:$G$1083, Admin_Lists!$A$84)","v":0},{"$f":"'FixturesByArea Individual Files'!H1084","v":{"v":0,"d":"0.00"}},{"$f":"'FixturesByArea Individual Files'!I1084","v":0},{"v":0.04,"d":"$0.04"},0]
[{"$nulls":10},"Total:",{"$f":"SUBTOTAL(9,(L81:L105))","v":0}]

{"sheet":" Requirements COMcheck","index":1,"n_rows":0,"n_cols":0,"rows_kept":0,"hidden":true}

{"sheet":"As-Built COMcheck","index":2,"n_rows":176,"n_cols":26,"rows_kept":176,"hidden":true,"merged":[[0,0,5,10],[0,11,0,20],[1,11,2,20],[3,11,4,20],[5,11,5,20],[11,4,12,9],[11,13,11,22],[16,13,18,24],[19,13,20,24],[21,13,22,24],[24,13,28,24],[36,25,36,26],[38,25,38,26],[135,13,136,19],[137,0,149,10],[152,0,171,10]]}
["For data provided via COMcheck report\n - Provide the As-Built COMcheck report signed by a credentialed lighting professional\n       See Requirements tab for list of accepted credentials\n       If the COMcheck is not signed, go to Start Here tab and choose \"Individual Files\" from drop-down\n - If COMcheck lists more than 5 Area Types, contact Focus on Energy for assistance (business@focusonenergy.com)\n - See Helpful Tips tab for directions on inserting files",{"$nulls":10},"Invoices to Support Fixtures Installed"]
[{"$nulls":11}," - Include invoices for all interior fixtures installed (indicate any items \n   on invoice that are not part of the LPD offering)"]
[]
[{"$nulls":11}," - Provide itemized invoices showing quantity and make/model number\n - Include multiple files if appropriate"]
[]
[{"$nulls":11}," - Supply as separate document attachment(s) if file size is prohibitive"]
[]
[]
["Area 1:",null,"Total Sq. Ft:",null,"Found on COMcheck as \"Floor Area (ft2)\""]
[null,null,"Allowed Watts/ft2:",null,"Found on COMcheck as \"Allowed Watts / ft2\""]
[null,null,"Total Allowed Watts:",{"$f":"IFERROR(ROUND(D9*D10,0),\"\")","v":0},"This will calculate"]
[null,null,"New System Installed Watts:",null,"For Single Area Facility find on COMcheck as Total Proposed\nWatts - For multi-area add all wattage installed in Area 1 ",{"$nulls":8},"Important Reminders for COMcheck Reports"]
[{"$nulls":13},"Must use Energy Code \"2015 IECC\""]
["Lines 15-33 used if multiple area types are listed on COMcheck, as indicated under \"Area Category\""]
[]
["Area 2:",null,"Total Sq. Ft:",null,"Found on COMcheck as \"Floor Area (ft2)\" "]
[null,null,"Allowed Watts/ft2:",null,"Found on COMcheck as \"Allowed Watts / ft2\"",{"$nulls":8},"Must report As-Built conditions\nIf the installed scope of work differs from the initial COMcheck report, a revised COMcheck is required.  If discrepancies are found in review (ex.: COMcheck report, invoicing, in-person inspection), assumptions of higher value installed will be made."]
[null,null,"Total Allowed Watts:",{"$f":"IFERROR(ROUND(D16*D17,0),\"\")","v":0},"This will calculate"]
[null,null,"New System Installed Watts:",null,"On COMcheck add all wattage installed in Area 2"]
[{"$nulls":13},"Signature is required\nSignature on COMcheck report must include the lighting professional's credentials "]
["Area 3:",null,"Total Sq. Ft:",null,"Found on COMcheck as \"Floor Area (ft2)\". "]
[null,null,"Allowed Watts/ft2:",null,"Found on COMcheck as \"Allowed Watts / ft2\""]
[null,null,"Total Allowed Watts:",{"$f":"IFERROR(ROUND(D21*D22,0),\"\")","v":0},"This will calculate"]
[null,null,"New System Installed Watts:",null,"On COMcheck add all wattage installed in Area 3"]
[{"$nulls":13},"For Projects with Multiple Area Types listed on COMcheck\n1. Follow example showing how to enter values\n2. If COMcheck lists more than 5 Area Types, contact Focus on Energy for assistance (business@focusonenergy.com)"]
["Area 4:",null,"Total Sq. Ft:",null,"Found on COMcheck as \"Floor Area (ft2)\". "]
[null,null,"Allowed Watts/ft2:",null,"Found on COMcheck as \"Allowed Watts / ft2\""]
[null,null,"Total Allowed Watts:",{"$f":"IFERROR(ROUND(D26*D27,0),\"\")","v":0},"This will calculate"]
[null,null,"New System Installed Watts:",null,"On COMcheck add all wattage installed in Area 4"]
[{"$nulls":14},"Example: "]
["Area 5:",null,"Total Sq. Ft:",null,"Found on COMcheck as \"Floor Area (ft2)\". "]
[null,null,"Allowed Watts/ft2:",null,"Found on COMcheck as \"Allowed Watts / ft2\""]
[null,null,"Total Allowed Watts:",{"$f":"IFERROR(ROUND(D31*D32,0),\"\")","v":0},"This will calculate"]
[null,null,"New System Installed Watts:",null,"On COMcheck add all wattage installed in Area 5"]
[]
["Area 6:",null,"Total Sq. Ft:",null,"Found on COMcheck as \"Floor Area (ft2)\". "]
[null,null,"Allowed Watts/ft2:",null,"Found on COMcheck as \"Allowed Watts / ft2\"",{"$nulls":20},"Sum: 18,654 + 584 = 19,148"]
[null,null,"Total Allowed Watts:",{"$f":"IFERROR(ROUND(D36*D37,0),\"\")","v":0},"This will calculate"]
[null,null,"New System Installed Watts:",null,"On COMcheck add all wattage installed in Area 5",{"$nulls":20},"Sum: 6,194 + 60 = 6,254"]
[]
["Area 7:",null,"Total Sq. Ft:",null,"Found on COMcheck as \"Floor Area (ft2)\". "]
[null,null,"Allowed Watts/ft2:",null,"Found on COMcheck as \"Allowed Watts / ft2\""]
[null,null,"Total Allowed Watts:",{"$f":"IFERROR(ROUND(D41*D42,0),\"\")","v":0},"This will calculate"]
[null,null,"New System Installed Watts:",null,"On COMcheck add all wattage installed in Area 5"]
[]
["Area 8:",null,"Total Sq. Ft:",null,"Found on COMcheck as \"Floor Area (ft2)\". "]
[null,null,"Allowed Watts/ft2:",null,"Found on COMcheck as \"Allowed Watts / ft2\""]
[null,null,"Total Allowed Watts:",{"$f":"IFERROR(ROUND(D46*D47,0),\"\")","v":0},"This will calculate"]
[null,null,"New System Installed Watts:",null,"On COMcheck add all wattage installed in Area 5"]
[]
["Area 9:",null,"Total Sq. Ft:",null,"Found on COMcheck as \"Floor Area (ft2)\". "]
[null,null,"Allowed Watts/ft2:",null,"Found on COMcheck as \"Allowed Watts / ft2\""]
[null,null,"Total Allowed Watts:",{"$f":"IFERROR(ROUND(D51*D52,0),\"\")","v":0},"This will calculate"]
[null,null,"New System Installed Watts:",null,"On COMcheck add all wattage installed in Area 5"]
[]
["Area 10:",null,"Total Sq. Ft:",null,"Found on COMcheck as \"Floor Area (ft2)\". "]
[null,null,"Allowed Watts/ft2:",null,"Found on COMcheck as \"Allowed Watts / ft2\""]
[null,null,"Total Allowed Watts:",{"$f":"IFERROR(ROUND(D56*D57,0),\"\")","v":0},"This will calculate"]
[null,null,"New System Installed Watts:",null,"On COMcheck add all wattage installed in Area 5"]
[]
["Area 11:",null,"Total Sq. Ft:",null,"Found on COMcheck as \"Floor Area (ft2)\". "]
[null,null,"Allowed Watts/ft2:",null,"Found on COMcheck as \"Allowed Watts / ft2\""]
[null,null,"Total Allowed Watts:",{"$f":"IFERROR(ROUND(D61*D62,0),\"\")","v":0},"This will calculate"]
[null,null,"New System Installed Watts:",null,"On COMcheck add all wattage installed in Area 5"]
[]
["Area 12:",null,"Total Sq. Ft:",null,"Found on COMcheck as \"Floor Area (ft2)\". "]
[null,null,"Allowed Watts/ft2:",null,"Found on COMcheck as \"Allowed Watts / ft2\""]
[null,null,"Total Allowed Watts:",{"$f":"IFERROR(ROUND(D66*D67,0),\"\")","v":0},"This will calculate"]
[null,null,"New System Installed Watts:",null,"On COMcheck add all wattage installed in Area 5"]
[]
["Area 13:",null,"Total Sq. Ft:",null,"Found on COMcheck as \"Floor Area (ft2)\". "]
[null,null,"Allowed Watts/ft2:",null,"Found on COMcheck as \"Allowed Watts / ft2\""]
[null,null,"Total Allowed Watts:",{"$f":"IFERROR(ROUND(D71*D72,0),\"\")","v":0},"This will calculate"]
[null,null,"New System Installed Watts:",null,"On COMcheck add all wattage installed in Area 5"]
[]
["Area 14:",null,"Total Sq. Ft:",null,"Found on COMcheck as \"Floor Area (ft2)\". "]
[null,null,"Allowed Watts/ft2:",null,"Found on COMcheck as \"Allowed Watts / ft2\""]
[null,null,"Total Allowed Watts:",{"$f":"IFERROR(ROUND(D76*D77,0),\"\")","v":0},"This will calculate"]
[null,null,"New System Installed Watts:",null,"On COMcheck add all wattage installed in Area 5"]
[]
["Area 15:",null,"Total Sq. Ft:",null,"Found on COMcheck as \"Floor Area (ft2)\". "]
[null,null,"Allowed Watts/ft2:",null,"Found on COMcheck as \"Allowed Watts / ft2\""]
[null,null,"Total Allowed Watts:",{"$f":"IFERROR(ROUND(D81*D82,0),\"\")","v":0},"This will calculate"]
[null,null,"New System Installed Watts:",null,"On COMcheck add all wattage installed in Area 5"]
[]
["Area 16:",null,"Total Sq. Ft:",null,"Found on COMcheck as \"Floor Area (ft2)\". "]
[null,null,"Allowed Watts/ft2:",null,"Found on COMcheck as \"Allowed Watts / ft2\""]
[null,null,"Total Allowed Watts:",{"$f":"IFERROR(ROUND(D86*D87,0),\"\")","v":0},"This will calculate"]
[null,null,"New System Installed Watts:",null,"On COMcheck add all wattage installed in Area 5"]
[]
["Area 17:",null,"Total Sq. Ft:",null,"Found on COMcheck as \"Floor Area (ft2)\". "]
[null,null,"Allowed Watts/ft2:",null,"Found on COMcheck as \"Allowed Watts / ft2\""]
[null,null,"Total Allowed Watts:",{"$f":"IFERROR(ROUND(D91*D92,0),\"\")","v":0},"This will calculate"]
[null,null,"New System Installed Watts:",null,"On COMcheck add all wattage installed in Area 5"]
[]
["Area 18:",null,"Total Sq. Ft:",null,"Found on COMcheck as \"Floor Area (ft2)\". "]
[null,null,"Allowed Watts/ft2:",null,"Found on COMcheck as \"Allowed Watts / ft2\""]
[null,null,"Total Allowed Watts:",{"$f":"IFERROR(ROUND(D96*D97,0),\"\")","v":0},"This will calculate"]
[null,null,"New System Installed Watts:",null,"On COMcheck add all wattage installed in Area 5"]
[]
["Area 19:",null,"Total Sq. Ft:",null,"Found on COMcheck as \"Floor Area (ft2)\". "]
[null,null,"Allowed Watts/ft2:",null,"Found on COMcheck as \"Allowed Watts / ft2\""]
[null,null,"Total Allowed Watts:",{"$f":"IFERROR(ROUND(D101*D102,0),\"\")","v":0},"This will calculate"]
[null,null,"New System Installed Watts:",null,"On COMcheck add all wattage installed in Area 5"]
[]
["Area 20:",null,"Total Sq. Ft:",null,"Found on COMcheck as \"Floor Area (ft2)\". "]
[null,null,"Allowed Watts/ft2:",null,"Found on COMcheck as \"Allowed Watts / ft2\""]
[null,null,"Total Allowed Watts:",{"$f":"IFERROR(ROUND(D106*D107,0),\"\")","v":0},"This will calculate"]
[null,null,"New System Installed Watts:",null,"On COMcheck add all wattage installed in Area 5"]
[]
["Area 21:",null,"Total Sq. Ft:",null,"Found on COMcheck as \"Floor Area (ft2)\". "]
[null,null,"Allowed Watts/ft2:",null,"Found on COMcheck as \"Allowed Watts / ft2\""]
[null,null,"Total Allowed Watts:",{"$f":"IFERROR(ROUND(D111*D112,0),\"\")","v":0},"This will calculate"]
[null,null,"New System Installed Watts:",null,"On COMcheck add all wattage installed in Area 5"]
[]
["Area 22:",null,"Total Sq. Ft:",null,"Found on COMcheck as \"Floor Area (ft2)\". "]
[null,null,"Allowed Watts/ft2:",null,"Found on COMcheck as \"Allowed Watts / ft2\""]
[null,null,"Total Allowed Watts:",{"$f":"IFERROR(ROUND(D116*D117,0),\"\")","v":0},"This will calculate"]
[null,null,"New System Installed Watts:",null,"On COMcheck add all wattage installed in Area 5"]
[]
["Area 23:",null,"Total Sq. Ft:",null,"Found on COMcheck as \"Floor Area (ft2)\". "]
[null,null,"Allowed Watts/ft2:",null,"Found on COMcheck as \"Allowed Watts / ft2\""]
[null,null,"Total Allowed Watts:",{"$f":"IFERROR(ROUND(D121*D122,0),\"\")","v":0},"This will calculate"]
[null,null,"New System Installed Watts:",null,"On COMcheck add all wattage installed in Area 5"]
[]
["Area 24:",null,"Total Sq. Ft:",null,"Found on COMcheck as \"Floor Area (ft2)\". "]
[null,null,"Allowed Watts/ft2:",null,"Found on COMcheck as \"Allowed Watts / ft2\""]
[null,null,"Total Allowed Watts:",{"$f":"IFERROR(ROUND(D126*D127,0),\"\")","v":0},"This will calculate"]
[null,null,"New System Installed Watts:",null,"On COMcheck add all wattage installed in Area 5"]
[]
["Area 25:",null,"Total Sq. Ft:",null,"Found on COMcheck as \"Floor Area (ft2)\". "]
[null,null,"Allowed Watts/ft2:",null,"Found on COMcheck as \"Allowed Watts / ft2\""]
[null,null,"Total Allowed Watts:",{"$f":"IFERROR(ROUND(D131*D132,0),\"\")","v":0},"This will calculate"]
[null,null,"New System Installed Watts:",null,"On COMcheck add all wattage installed in Area 5"]
[{"$nulls":12},"2015 IECC Lighting Power Density (LPD) Reference Table:"]
[{"$nulls":13},"LIGHTING POWER DENSITY (AREA METHOD) - 2015 IECC"]
["Insert pdf of As-Built COMcheck here:"]
[{"$nulls":13},"Automotive Facility",{"$nulls":5},0.8]
[{"$nulls":13},"Convention Center",{"$nulls":5},1.01]
[{"$nulls":13},"Court House",{"$nulls":5},1.01]
[{"$nulls":13},"Dining: Bar Lounge/Leisure",{"$nulls":5},1.01]
[{"$nulls":13},"Dining: Cafeteria/Fast Food",{"$nulls":5},0.9]
[{"$nulls":13},"Dining: Family",{"$nulls":5},0.95]
[{"$nulls":13},"Dormitory",{"$nulls":5},0.57]
[{"$nulls":13},"Exercise Center",{"$nulls":5},0.84]
[{"$nulls":13},"Fire Station",{"$nulls":5},0.67]
[{"$nulls":13},"Free Stall",{"$nulls":5},0.5]
[{"$nulls":13},"General Animal Care Area, Utility Room",{"$nulls":5},0.5]
[{"$nulls":13},"Gymnasium",{"$nulls":5},0.94]
[{"$nulls":13},"Healthcare Clinic",{"$nulls":5},0.9]
[{"$nulls":13},"Hospital",{"$nulls":5},1.05]
["Insert pdf of fixture invoices here:",{"$nulls":12},"Hotel/Motel",{"$nulls":5},0.87]
[{"$nulls":13},"Library",{"$nulls":5},1.19]
[{"$nulls":13},"Loading and Storage Area, Restroom",{"$nulls":5},0.5]
[{"$nulls":13},"Manual Wash Sink, Treatment or Surgery Area",{"$nulls":5},1.19]
[{"$nulls":13},"Manufacturing Facility",{"$nulls":5},1.17]
[{"$nulls":13},"Motion Picture Theater",{"$nulls":5},0.76]
[{"$nulls":13},"Multifamily",{"$nulls":5},0.51]
[{"$nulls":13},"Museum",{"$nulls":5},1.02]
[{"$nulls":13},"Non-Dairy Livestock Housing, Holding Area, Machine Storage",{"$nulls":5},0.21]
[{"$nulls":13},"Office",{"$nulls":5},0.82]
[{"$nulls":13},"Operator's Pit, Office Area at Desk Top, Farm Shop/Repair Area ",{"$nulls":5},0.82]
[{"$nulls":13},"Parking Garage",{"$nulls":5},0.21]
[{"$nulls":13},"Penitentiary",{"$nulls":5},0.81]
[{"$nulls":13},"Performing Arts Theater",{"$nulls":5},1.39]
[{"$nulls":13},"Police Station",{"$nulls":5},0.87]
[{"$nulls":13},"Post Office",{"$nulls":5},0.87]
[{"$nulls":13},"Religious Building",{"$nulls":5},1]
[{"$nulls":13},"Retail",{"$nulls":5},1.26]
[{"$nulls":13},"School/University",{"$nulls":5},0.87]
[{"$nulls":13},"Sports Arena",{"$nulls":5},0.91]
[{"$nulls":13},"Tie Stall Feeding Alley, Milking Parlor, Milk Room",{"$nulls":5},0.5]
[{"$nulls":13},"Town Hall",{"$nulls":5},0.89]
[{"$nulls":13},"Transportation",{"$nulls":5},0.7]
[{"$nulls":13},"Warehouse",{"$nulls":5},0.66]
[{"$nulls":13},"Workshop",{"$nulls":5},1.19]

{"sheet":" Requirements Individual Files","index":3,"n_rows":0,"n_cols":0,"rows_kept":0,"hidden":true}

{"sheet":"Sq. Ft. Area Individual Files","index":4,"n_rows":35,"n_cols":16,"rows_kept":35,"hidden":true,"merged":[[0,0,6,5],[9,12,10,16],[11,12,16,16],[19,14,20,14]]}
["Documentation Showing As-Built Square Footage\n - Building Plans must be signed by credentialed lighting professional \n      See Requirements tab for list of accepted credentials\n - Floorplan layout must include dimensions\n - Include multiple files if appropriate\n - Supply as separate document attachment(s) if file size is prohibitive\n - See Helpful Tips tab for help inserting files"]
{"$rows_empty":7}
[null,null,"Sq. Ft.","Describe Area",null,"Insert floorplan PDF(s) here:"]
[null,null,"The value entered will be verified on the floorplan layout"," (ex.: Warehouse, Offices, etc.)",{"$nulls":8},"For Projects with Multiple Area Use Types\n   Ex.: Warehouse (Area 1), Showroom (Area 2) and Offices (Area 3) within same facility\n"]
[null,"Area 1:"]
[null,"Area 2:",{"$nulls":10},"1. Enter description of each Area\n2. Combine all of facility's common Use Type Areas within one area calculation\n       Example: Office spaces on Floor 1 (956 sq. ft.) + Floor 2 (5,110 sq. ft.) + Floor 3 \n       (554 sq. ft.) = 6,620 sq. ft. for the \"office\" area type \n3. Be sure all area types are clearly marked on building layout pdf "]
[null,"Area 3:"]
[null,"Area 4:"]
[null,"Area 5:"]
[null,"Area 6:"]
[null,"Area 7:"]
[null,"Area 8:"]
[null,"Area 9:",{"$nulls":10},"Example:",null,"Sq. Ft.","Describe Area"]
[null,"Area 10:",{"$nulls":12},"The value entered will be verified on the pdf layout"]
[null,"Area 11:",{"$nulls":13}," (ex.: Warehouse, Offices, etc.):"]
[null,"Area 12:",{"$nulls":11},"Area 1:",{"v":42412,"d":"42,412"},"Manufacturing"]
[null,"Area 13:",{"$nulls":11},"Area 2:",{"v":6620,"d":"6,620"},"Offices on Floors 1, 2 & 3"]
[null,"Area 14:",{"$nulls":11},"Area 3:",{"v":5625,"d":"5,625"},"Showroom"]
[null,"Area 15:"]
[null,"Area 16:"]
[null,"Area 17:"]
[null,"Area 18:"]
[null,"Area 19:"]
[null,"Area 20:"]
[null,"Area 21:"]
[null,"Area 22:"]
[null,"Area 23:"]
[null,"Area 24:"]
[null,"Area 25:"]

{"sheet":"Fixture List Individual Files","index":5,"n_rows":63,"n_cols":19,"rows_kept":63,"hidden":true,"merged":[[0,7,0,11],[1,1,1,6],[1,7,2,11],[2,1,2,6],[3,1,3,6],[3,7,3,11],[4,1,4,6],[4,7,4,11],[5,7,5,11],[6,1,6,6],[6,7,6,11],[7,1,7,6],[7,7,10,11],[8,1,8,6],[9,1,9,6],[10,1,10,6],[11,14,11,18]]}
["List of ALL Interior fixtures installed, along with documentation of installed fixture wattage. ",{"$nulls":6},"Invoices to Support Fixtures Installed"]
["-","Acceptable forms of wattage documentation: ENERGY STAR or DLC SSL QPL listings and/or Manufacturer's specs.",{"$nulls":5}," - Include invoices for all interior fixtures installed (indicate any items \n   on invoice that are not part of the LPD offering)"]
["-","Do not include Exterior fixtures, or emergency / exit lights.\n"]
["-","If the project was NOT developed and overseen by a credentialed lighting professional (see Requirements tab for accepted credentials), then ALL lighting fixtures must be ENERGY STAR® or DLC SSL QPL listed (TRT V5.1 or higher). ",{"$nulls":5}," - Provide itemized invoices showing quantity and make/model number\n - Include multiple files if appropriate"]
[null,"          *Note* If even one fixture is not ENERGY STAR or DLC listed, the entire LPD measure is disqualified.",{"$nulls":5}," - Supply as separate document attachment(s) if file size is prohibitive"]
["-","For fixture wattage, enter wattage to 1 or 2 decimals, however it is shown on the spec sheet. "]
["-","All data should be per As-Built conditions. If discrepancies are found in review (fixtures listed, invoicing, in-person inspection), \nwill use higher value.",{"$nulls":5},"Insert shared spec sheet, DLC/ENERGY STAR, and Invoice PDFs here:"]
["-","Installed lamps purchased at participating instant discount retailers disqualify the LPD measure."]
["-","For NLC - Industrial, School and Goverment customer installing NLC in high bay spaces and/or spaces requiring daylighting controls are not eligible for NLC incentives (N-L5233); NLC installed in other spaces are still eligible."]
["-","If the fixture has NLC controls, check yes in column E and then select a Space Type in column F. Use a separate Fixture Mark to denote fixtures with and without NLC controls. "]
["-","See Helpful Tips tab for help inserting files"]
[{"$nulls":14},"Example"]
[null,"Fixture Mark","Fixture Name","Fixture Watts","Has NLC Controls (Yes/No)","Space type","Spec Sheet","DLC or ENERGY STAR Listing (If Applicable)","Invoice","Total Fixture Count (All Spaces)",{"$nulls":4},"Fixture Mark","Fixture\nName",null,"Fixture Watts","Fixture\nCount"]
[{"$nulls":5},"Choose from Drop-down",{"$nulls":3},{"$f":"SUMIF('FixturesByArea Individual Files'!$A$14:$A$1083,B14,'FixturesByArea Individual Files'!$C$14:$C$1083)","v":0},{"$nulls":4},"HB","Lithonia High Bay IBG 24000 LM SEF AFL",null,150,4]
[{"$nulls":5},"Choose from Drop-down",{"$nulls":3},{"$f":"SUMIF('FixturesByArea Individual Files'!$A$14:$A$1083,B15,'FixturesByArea Individual Files'!$C$14:$C$1083)","v":0},{"$nulls":4},"SC","Lithonia CLX L96 6000LM SEF RDL ",null,49,10]
[null," ",{"$nulls":3},"Choose from Drop-down",{"$nulls":3},{"$f":"SUMIF('FixturesByArea Individual Files'!$A$14:$A$1083,B16,'FixturesByArea Individual Files'!$C$14:$C$1083)","v":0},{"$nulls":4},"LS4.64","Lithonia Surface Mounted",null,55,251]
[null," ",{"$nulls":3},"Choose from Drop-down",{"$nulls":3},{"$f":"SUMIF('FixturesByArea Individual Files'!$A$14:$A$1083,B17,'FixturesByArea Individual Files'!$C$14:$C$1083)","v":0},{"$nulls":4},"LS4.47","Lithonia Surface Mounted",null,43,359]
[null," ",{"$nulls":3},"Choose from Drop-down",{"$nulls":3},{"$f":"SUMIF('FixturesByArea Individual Files'!$A$14:$A$1083,B18,'FixturesByArea Individual Files'!$C$14:$C$1083)","v":0},{"$nulls":4},"LS4.5","Lithonia Surface Mounted",null,43,1]
[null," ",{"$nulls":3},"Choose from Drop-down",{"$nulls":3},{"$f":"SUMIF('FixturesByArea Individual Files'!$A$14:$A$1083,B19,'FixturesByArea Individual Files'!$C$14:$C$1083)","v":0},{"$nulls":4},"LSW4","GE Wall Mounted",null,48,2]
[null," ",{"$nulls":3},"Choose from Drop-down",{"$nulls":3},{"$f":"SUMIF('FixturesByArea Individual Files'!$A$14:$A$1083,B20,'FixturesByArea Individual Files'!$C$14:$C$1083)","v":0}]
[null," ",{"$nulls":3},"Choose from Drop-down",{"$nulls":3},{"$f":"SUMIF('FixturesByArea Individual Files'!$A$14:$A$1083,B21,'FixturesByArea Individual Files'!$C$14:$C$1083)","v":0}]
[null," ",{"$nulls":3},"Choose from Drop-down",{"$nulls":3},{"$f":"SUMIF('FixturesByArea Individual Files'!$A$14:$A$1083,B22,'FixturesByArea Individual Files'!$C$14:$C$1083)","v":0}]
[null," ",{"$nulls":3},"Choose from Drop-down",{"$nulls":3},{"$f":"SUMIF('FixturesByArea Individual Files'!$A$14:$A$1083,B23,'FixturesByArea Individual Files'!$C$14:$C$1083)","v":0}]
[null," ",{"$nulls":3},"Choose from Drop-down",{"$nulls":3},{"$f":"SUMIF('FixturesByArea Individual Files'!$A$14:$A$1083,B24,'FixturesByArea Individual Files'!$C$14:$C$1083)","v":0}]
[null," ",{"$nulls":3},"Choose from Drop-down",{"$nulls":3},{"$f":"SUMIF('FixturesByArea Individual Files'!$A$14:$A$1083,B25,'FixturesByArea Individual Files'!$C$14:$C$1083)","v":0}]
[null," ",{"$nulls":3},"Choose from Drop-down",{"$nulls":3},{"$f":"SUMIF('FixturesByArea Individual Files'!$A$14:$A$1083,B26,'FixturesByArea Individual Files'!$C$14:$C$1083)","v":0}]
[null," ",{"$nulls":3},"Choose from Drop-down",{"$nulls":3},{"$f":"SUMIF('FixturesByArea Individual Files'!$A$14:$A$1083,B27,'FixturesByArea Individual Files'!$C$14:$C$1083)","v":0}]
[null," ",{"$nulls":3},"Choose from Drop-down",{"$nulls":3},{"$f":"SUMIF('FixturesByArea Individual Files'!$A$14:$A$1083,B28,'FixturesByArea Individual Files'!$C$14:$C$1083)","v":0}]
[null," ",{"$nulls":3},"Choose from Drop-down",{"$nulls":3},{"$f":"SUMIF('FixturesByArea Individual Files'!$A$14:$A$1083,B29,'FixturesByArea Individual Files'!$C$14:$C$1083)","v":0}]
[null," ",{"$nulls":3},"Choose from Drop-down",{"$nulls":3},{"$f":"SUMIF('FixturesByArea Individual Files'!$A$14:$A$1083,B30,'FixturesByArea Individual Files'!$C$14:$C$1083)","v":0}]
[null," ",{"$nulls":3},"Choose from Drop-down",{"$nulls":3},{"$f":"SUMIF('FixturesByArea Individual Files'!$A$14:$A$1083,B31,'FixturesByArea Individual Files'!$C$14:$C$1083)","v":0}]
[null," ",{"$nulls":3},"Choose from Drop-down",{"$nulls":3},{"$f":"SUMIF('FixturesByArea Individual Files'!$A$14:$A$1083,B32,'FixturesByArea Individual Files'!$C$14:$C$1083)","v":0}]
[null," ",{"$nulls":3},"Choose from Drop-down",{"$nulls":3},{"$f":"SUMIF('FixturesByArea Individual Files'!$A$14:$A$1083,B33,'FixturesByArea Individual Files'!$C$14:$C$1083)","v":0}]
[null," ",{"$nulls":3},"Choose from Drop-down",{"$nulls":3},{"$f":"SUMIF('FixturesByArea Individual Files'!$A$14:$A$1083,B34,'FixturesByArea Individual Files'!$C$14:$C$1083)","v":0}]
[null," ",{"$nulls":3},"Choose from Drop-down",{"$nulls":3},{"$f":"SUMIF('FixturesByArea Individual Files'!$A$14:$A$1083,B35,'FixturesByArea Individual Files'!$C$14:$C$1083)","v":0}]
[null," ",{"$nulls":3},"Choose from Drop-down",{"$nulls":3},{"$f":"SUMIF('FixturesByArea Individual Files'!$A$14:$A$1083,B36,'FixturesByArea Individual Files'!$C$14:$C$1083)","v":0}]
[null," ",{"$nulls":3},"Choose from Drop-down",{"$nulls":3},{"$f":"SUMIF('FixturesByArea Individual Files'!$A$14:$A$1083,B37,'FixturesByArea Individual Files'!$C$14:$C$1083)","v":0}]
[null," ",{"$nulls":3},"Choose from Drop-down",{"$nulls":3},{"$f":"SUMIF('FixturesByArea Individual Files'!$A$14:$A$1083,B38,'FixturesByArea Individual Files'!$C$14:$C$1083)","v":0}]
[null," ",{"$nulls":3},"Choose from Drop-down",{"$nulls":3},{"$f":"SUMIF('FixturesByArea Individual Files'!$A$14:$A$1083,B39,'FixturesByArea Individual Files'!$C$14:$C$1083)","v":0}]
[null," ",{"$nulls":3},"Choose from Drop-down",{"$nulls":3},{"$f":"SUMIF('FixturesByArea Individual Files'!$A$14:$A$1083,B40,'FixturesByArea Individual Files'!$C$14:$C$1083)","v":0}]
[null," ",{"$nulls":3},"Choose from Drop-down",{"$nulls":3},{"$f":"SUMIF('FixturesByArea Individual Files'!$A$14:$A$1083,B41,'FixturesByArea Individual Files'!$C$14:$C$1083)","v":0}]
[null," ",{"$nulls":3},"Choose from Drop-down",{"$nulls":3},{"$f":"SUMIF('FixturesByArea Individual Files'!$A$14:$A$1083,B42,'FixturesByArea Individual Files'!$C$14:$C$1083)","v":0}]
[null," ",{"$nulls":3},"Choose from Drop-down",{"$nulls":3},{"$f":"SUMIF('FixturesByArea Individual Files'!$A$14:$A$1083,B43,'FixturesByArea Individual Files'!$C$14:$C$1083)","v":0}]
[null," ",{"$nulls":3},"Choose from Drop-down",{"$nulls":3},{"$f":"SUMIF('FixturesByArea Individual Files'!$A$14:$A$1083,B44,'FixturesByArea Individual Files'!$C$14:$C$1083)","v":0}]
[null," ",{"$nulls":3},"Choose from Drop-down",{"$nulls":3},{"$f":"SUMIF('FixturesByArea Individual Files'!$A$14:$A$1083,B45,'FixturesByArea Individual Files'!$C$14:$C$1083)","v":0}]
[null," ",{"$nulls":3},"Choose from Drop-down",{"$nulls":3},{"$f":"SUMIF('FixturesByArea Individual Files'!$A$14:$A$1083,B46,'FixturesByArea Individual Files'!$C$14:$C$1083)","v":0}]
[null," ",{"$nulls":3},"Choose from Drop-down",{"$nulls":3},{"$f":"SUMIF('FixturesByArea Individual Files'!$A$14:$A$1083,B47,'FixturesByArea Individual Files'!$C$14:$C$1083)","v":0}]
[null," ",{"$nulls":3},"Choose from Drop-down",{"$nulls":3},{"$f":"SUMIF('FixturesByArea Individual Files'!$A$14:$A$1083,B48,'FixturesByArea Individual Files'!$C$14:$C$1083)","v":0}]
[null," ",{"$nulls":3},"Choose from Drop-down",{"$nulls":3},{"$f":"SUMIF('FixturesByArea Individual Files'!$A$14:$A$1083,B49,'FixturesByArea Individual Files'!$C$14:$C$1083)","v":0}]
[null," ",{"$nulls":3},"Choose from Drop-down",{"$nulls":3},{"$f":"SUMIF('FixturesByArea Individual Files'!$A$14:$A$1083,B50,'FixturesByArea Individual Files'!$C$14:$C$1083)","v":0}]
[null," ",{"$nulls":3},"Choose from Drop-down",{"$nulls":3},{"$f":"SUMIF('FixturesByArea Individual Files'!$A$14:$A$1083,B51,'FixturesByArea Individual Files'!$C$14:$C$1083)","v":0}]
[null," ",{"$nulls":3},"Choose from Drop-down",{"$nulls":3},{"$f":"SUMIF('FixturesByArea Individual Files'!$A$14:$A$1083,B52,'FixturesByArea Individual Files'!$C$14:$C$1083)","v":0}]
[null," ",{"$nulls":3},"Choose from Drop-down",{"$nulls":3},{"$f":"SUMIF('FixturesByArea Individual Files'!$A$14:$A$1083,B53,'FixturesByArea Individual Files'!$C$14:$C$1083)","v":0}]
[null," ",{"$nulls":3},"Choose from Drop-down",{"$nulls":3},{"$f":"SUMIF('FixturesByArea Individual Files'!$A$14:$A$1083,B54,'FixturesByArea Individual Files'!$C$14:$C$1083)","v":0}]
[null," ",{"$nulls":3},"Choose from Drop-down",{"$nulls":3},{"$f":"SUMIF('FixturesByArea Individual Files'!$A$14:$A$1083,B55,'FixturesByArea Individual Files'!$C$14:$C$1083)","v":0}]
[null," ",{"$nulls":3},"Choose from Drop-down",{"$nulls":3},{"$f":"SUMIF('FixturesByArea Individual Files'!$A$14:$A$1083,B56,'FixturesByArea Individual Files'!$C$14:$C$1083)","v":0}]
[null," ",{"$nulls":3},"Choose from Drop-down",{"$nulls":3},{"$f":"SUMIF('FixturesByArea Individual Files'!$A$14:$A$1083,B57,'FixturesByArea Individual Files'!$C$14:$C$1083)","v":0}]
[null," ",{"$nulls":3},"Choose from Drop-down",{"$nulls":3},{"$f":"SUMIF('FixturesByArea Individual Files'!$A$14:$A$1083,B58,'FixturesByArea Individual Files'!$C$14:$C$1083)","v":0}]
[null," ",{"$nulls":3},"Choose from Drop-down",{"$nulls":3},{"$f":"SUMIF('FixturesByArea Individual Files'!$A$14:$A$1083,B59,'FixturesByArea Individual Files'!$C$14:$C$1083)","v":0}]
[null," ",{"$nulls":3},"Choose from Drop-down",{"$nulls":3},{"$f":"SUMIF('FixturesByArea Individual Files'!$A$14:$A$1083,B60,'FixturesByArea Individual Files'!$C$14:$C$1083)","v":0}]
[null," ",{"$nulls":3},"Choose from Drop-down",{"$nulls":3},{"$f":"SUMIF('FixturesByArea Individual Files'!$A$14:$A$1083,B61,'FixturesByArea Individual Files'!$C$14:$C$1083)","v":0}]
[null," ",{"$nulls":3},"Choose from Drop-down",{"$nulls":3},{"$f":"SUMIF('FixturesByArea Individual Files'!$A$14:$A$1083,B62,'FixturesByArea Individual Files'!$C$14:$C$1083)","v":0}]
[null," ",{"$nulls":3},"Choose from Drop-down",{"$nulls":3},{"$f":"SUMIF('FixturesByArea Individual Files'!$A$14:$A$1083,B63,'FixturesByArea Individual Files'!$C$14:$C$1083)","v":0}]

{"sheet":"FixturesByArea Individual Files","index":6,"n_rows":1093,"n_cols":19,"rows_kept":1093,"hidden":true,"merged":[[0,0,0,9],[1,1,1,9],[2,1,2,9],[3,1,3,9],[4,1,4,9],[5,1,5,9],[6,1,6,9],[7,1,7,9],[10,0,10,4],[12,1,12,4],[12,14,12,18],[13,0,14,0],[13,1,14,1],[13,2,14,2],[13,3,14,3],[13,4,14,4],[13,5,14,5],[13,6,14,6],[13,7,13,9],[53,0,53,4],[55,1,55,4],[56,0,57,0],[56,1,57,1],[56,2,57,2],[56,3,57,3],[56,4,57,4],[56,5,57,5],[56,6,57,6],[56,7,56,9],[96,0,96,4],[98,1,98,4],[99,0,100,0],[99,1,100,1],[99,2,100,2],[99,3,100,3],[99,4,100,4],[99,5,100,5],[99,6,100,6],[99,7,99,9],[139,0,139,4],[141,1,141,4],[142,0,143,0],[142,1,143,1],[142,2,143,2],[142,3,143,3],[142,4,143,4],[142,5,143,5],[142,6,143,6],[142,7,142,9],[182,0,182,4],[184,1,184,4],[185,0,186,0],[185,1,186,1],[185,2,186,2],[185,3,186,3],[185,4,186,4],[185,5,186,5],[185,6,186,6],[185,7,185,9],[225,0,225,4],[227,1,227,4],[228,0,229,0],[228,1,229,1],[228,2,229,2],[228,3,229,3],[228,4,229,4],[228,5,229,5],[228,6,229,6],[228,7,228,9],[268,0,268,4],[270,1,270,4],[271,0,272,0],[271,1,272,1],[271,2,272,2],[271,3,272,3],[271,4,272,4],[271,5,272,5],[271,6,272,6],[271,7,271,9],[311,0,311,4],[313,1,313,4],[314,0,315,0],[314,1,315,1],[314,2,315,2],[314,3,315,3],[314,4,315,4],[314,5,315,5],[314,6,315,6],[314,7,314,9],[354,0,354,4],[356,1,356,4],[357,0,358,0],[357,1,358,1],[357,2,358,2],[357,3,358,3],[357,4,358,4],[357,5,358,5],[357,6,358,6],[357,7,357,9],[397,0,397,4],[399,1,399,4],[400,0,401,0],[400,1,401,1],[400,2,401,2],[400,3,401,3],[400,4,401,4],[400,5,401,5],[400,6,401,6],[400,7,400,9],[440,0,440,4],[442,1,442,4],[443,0,444,0],[443,1,444,1],[443,2,444,2],[443,3,444,3],[443,4,444,4],[443,5,444,5],[443,6,444,6],[443,7,443,9],[483,0,483,4],[485,1,485,4],[486,0,487,0],[486,1,487,1],[486,2,487,2],[486,3,487,3],[486,4,487,4],[486,5,487,5],[486,6,487,6],[486,7,486,9],[526,0,526,4],[528,1,528,4],[529,0,530,0],[529,1,530,1],[529,2,530,2],[529,3,530,3],[529,4,530,4],[529,5,530,5],[529,6,530,6],[529,7,529,9],[569,0,569,4],[571,1,571,4],[572,0,573,0],[572,1,573,1],[572,2,573,2],[572,3,573,3],[572,4,573,4],[572,5,573,5],[572,6,573,6],[572,7,572,9],[612,0,612,4],[614,1,614,4],[615,0,616,0],[615,1,616,1],[615,2,616,2],[615,3,616,3],[615,4,616,4],[615,5,616,5],[615,6,616,6],[615,7,615,9],[655,0,655,4],[657,1,657,4],[658,0,659,0],[658,1,659,1],[658,2,659,2],[658,3,659,3],[658,4,659,4],[658,5,659,5],[658,6,659,6],[658,7,658,9],[698,0,698,4],[700,1,700,4],[701,0,702,0],[701,1,702,1],[701,2,702,2],[701,3,702,3],[701,4,702,4],[701,5,702,5],[701,6,702,6],[701,7,701,9],[741,0,741,4],[743,1,743,4],[744,0,745,0],[744,1,745,1],[744,2,745,2],[744,3,745,3],[744,4,745,4],[744,5,745,5],[744,6,745,6],[744,7,744,9],[784,0,784,4],[786,1,786,4],[787,0,788,0],[787,1,788,1],[787,2,788,2],[787,3,788,3],[787,4,788,4],[787,5,788,5],[787,6,788,6],[787,7,787,9],[827,0,827,4],[829,1,829,4],[830,0,831,0],[830,1,831,1],[830,2,831,2],[830,3,831,3],[830,4,831,4],[830,5,831,5],[830,6,831,6],[830,7,830,9],[870,0,870,4],[872,1,872,4],[873,0,874,0],[873,1,874,1],[873,2,874,2],[873,3,874,3],[873,4,874,4],[873,5,874,5],[873,6,874,6],[873,7,873,9],[913,0,913,4],[915,1,915,4],[916,0,917,0],[916,1,917,1],[916,2,917,2],[916,3,917,3],[916,4,917,4],[916,5,917,5],[916,6,917,6],[916,7,916,9],[956,0,956,4],[958,1,958,4],[959,0,960,0],[959,1,960,1],[959,2,960,2],[959,3,960,3],[959,4,960,4],[959,5,960,5],[959,6,960,6],[959,7,959,9],[999,0,999,4],[1001,1,1001,4],[1002,0,1003,0],[1002,1,1003,1],[1002,2,1003,2],[1002,3,1003,3],[1002,4,1003,4],[1002,5,1003,5],[1002,6,1003,6],[1002,7,1002,9],[1042,0,1042,4],[1044,1,1044,4],[1046,0,1047,0],[1046,1,1047,1],[1046,2,1047,2],[1046,3,1047,3],[1046,4,1047,4],[1046,5,1047,5],[1046,6,1047,6],[1046,7,1046,9],[1088,12,1088,15]]}
["List of ALL Interior fixtures (including quantity) in the area(s) where they were installed. "]
["-","Do not include Exterior fixtures, or emergency / exit lights."]
["-","If the project was NOT developed and overseen by a credentialed lighting professional (see Requirements tab for accepted credentials), then ALL lighting fixtures must be ENERGY STAR® or DLC SSL QPL listed (TRT V5.1 or higher)."]
[null,"          *Note* If even one fixture is not ENERGY STAR or DLC listed, the entire LPD measure is disqualified."]
["-","All data should be per As-Built conditions. If discrepancies are found in review (fixtures listed, invoicing, in-person inspection), will use higher value."]
["-","Choose Area Type(s) best describing the use of space."]
["-","If \"Other-Identify\" is chosen, note on Start Here! Tab in \"Project Notes\"- The LPD calculation/incentive will be calculated upon review."]
["-","For NLC - Industrial, School and Goverment customer installing NLC in high bay spaces and/or spaces requiring daylighting controls are not eligible for NLC incentives (N-L5233); NLC installed in other spaces are still eligible."]
[]
[]
["Area 1",{"$nulls":4},"NLC area factor:",{"$nulls":3},{"$f":"IF(VLOOKUP(A11,'Start Here!'!$N$46:$Q$70,4,FALSE)=0,VLOOKUP(Facility_Type,Admin_Lists!$A$63:$B$66,2,FALSE),VLOOKUP(A11,'Start Here!'!$N$46:$Q$70,4,FALSE))","v":{"$error":"#N/A"}}]
["Type:",{"$nulls":3},{"$f":"IFERROR(VLOOKUP(B12,Admin_Lists!$A$9:$B$49,2,FALSE),\"\")","v":""},"W/sq ft",{"$nulls":3},{"$f":"VLOOKUP(A11,'Start Here!'!$N$46:$O$70,2,FALSE)","v":0}]
[null,{"$f":"\"Area Description: \"&'Sq. Ft. Area Individual Files'!D11","v":"Area Description: "},{"$nulls":3},"Sq Ft: ",{"$f":"'Sq. Ft. Area Individual Files'!C11","v":{"v":0,"d":"0 "}},{"$nulls":7},"Example"]
["Fixture Mark","Fixture\nName","Fixture\nCount","Fixture Watts","Total Watts \n(Fixt Count \nx Fixt Watts)","NLC Controls (Yes/No)","Space type","NLC Controls Savings",{"$nulls":6},"Type:","Warehouse",null,null,0.66]
[{"$nulls":7},"Peak kW Savings","Annual kWh Savings","LC kWh Savings",{"$nulls":4},"Fixture Mark","Fixture\nName","Fixture\nCount","Fixture Watts","Total Watts \n(Fixt Count \nx Fixt Watts)"]
[null,{"$f":"IF(A16=\"\",\"\",VLOOKUP(A16,'Fixture List Individual Files'!$B$14:$F$63,2,FALSE))","v":""},null,{"$f":"IF(A16=\"\",\"\",VLOOKUP(A16,'Fixture List Individual Files'!$B$14:$F$63,3,FALSE))","v":""},{"$f":"IF(D16=\"\",\"\",C16*D16)","v":""},{"$f":"IF(A16=\"\",\"\",VLOOKUP(A16,'Fixture List Individual Files'!$B$14:$F$63,4,FALSE))","v":""},{"$f":"IF(A16=\"\",\"\",VLOOKUP(A16,'Fixture List Individual Files'!$B$14:$F$63,5,FALSE))","v":""},{"$f":"IF(AND(F16=\"Yes\",Facility_Type=\"Commercial\"),(SFE_Commercial-SFBASE_Commercial)*E16/1000*$J$12,IF(AND(F16=\"Yes\",Facility_Type=\"Industrial\",G16=\"Non-High Bay\"),(SFE_Industrial-SFBASE_Industrial)*E16/1000*$J$12,IF(AND(F16=\"Yes\",Facility_Type=\"Schools & Government\",G16=\"Non-High Bay\"),((SFE_SG-SFBASE_SG)*E16/1000*$J$12),\"\")))","v":""},{"$f":"IF(AND(F16=\"Yes\",Facility_Type=\"Commercial\"),(SFE_Commercial-SFBASE_Commercial)*E16/1000*$J$11,IF(AND(F16=\"Yes\",Facility_Type=\"Industrial\",G16=\"Non-High Bay\"),(SFE_Industrial-SFBASE_Industrial)*E16/1000*$J$11,IF(AND(F16=\"Yes\",Facility_Type=\"Schools & Government\",G16=\"Non-High Bay\"),((SFE_SG-SFBASE_SG)*E16/1000*$J$11),\"\")))","v":""},{"$f":"IFERROR(I16*EUL_for_NLC,\"\")","v":""},{"$nulls":4},"HB","Lithonia High Bay IBG 240000 LM SEF AFL",4,150,{"$f":"Q16*R16","v":600}]
[null,{"$f":"IF(A17=\"\",\"\",VLOOKUP(A17,'Fixture List Individual Files'!$B$14:$F$63,2,FALSE))","v":""},null,{"$f":"IF(A17=\"\",\"\",VLOOKUP(A17,'Fixture List Individual Files'!$B$14:$F$63,3,FALSE))","v":""},{"$f":"IF(D17=\"\",\"\",C17*D17)","v":""},{"$f":"IF(A17=\"\",\"\",VLOOKUP(A17,'Fixture List Individual Files'!$B$14:$F$63,4,FALSE))","v":""},{"$f":"IF(A17=\"\",\"\",VLOOKUP(A17,'Fixture List Individual Files'!$B$14:$F$63,5,FALSE))","v":""},{"$f":"IF(AND(F17=\"Yes\",Facility_Type=\"Commercial\"),(SFE_Commercial-SFBASE_Commercial)*E17/1000*$J$12,IF(AND(F17=\"Yes\",Facility_Type=\"Industrial\",G17=\"Non-High Bay\"),(SFE_Industrial-SFBASE_Industrial)*E17/1000*$J$12,IF(AND(F17=\"Yes\",Facility_Type=\"Schools & Government\",G17=\"Non-High Bay\"),((SFE_SG-SFBASE_SG)*E17/1000*$J$12),\"\")))","v":""},{"$f":"IF(AND(F17=\"Yes\",Facility_Type=\"Commercial\"),(SFE_Commercial-SFBASE_Commercial)*E17/1000*$J$11,IF(AND(F17=\"Yes\",Facility_Type=\"Industrial\",G17=\"Non-High Bay\"),(SFE_Industrial-SFBASE_Industrial)*E17/1000*$J$11,IF(AND(F17=\"Yes\",Facility_Type=\"Schools & Government\",G17=\"Non-High Bay\"),((SFE_SG-SFBASE_SG)*E17/1000*$J$11),\"\")))","v":""},{"$f":"IFERROR(I17*EUL_for_NLC,\"\")","v":""},{"$nulls":4},"SC","Lithonia CLX L96 6000LM SEF RDL ",10,49,490]
[null,{"$f":"IF(A18=\"\",\"\",VLOOKUP(A18,'Fixture List Individual Files'!$B$14:$F$63,2,FALSE))","v":""},null,{"$f":"IF(A18=\"\",\"\",VLOOKUP(A18,'Fixture List Individual Files'!$B$14:$F$63,3,FALSE))","v":""},"",{"$f":"IF(A18=\"\",\"\",VLOOKUP(A18,'Fixture List Individual Files'!$B$14:$F$63,4,FALSE))","v":""},{"$f":"IF(A18=\"\",\"\",VLOOKUP(A18,'Fixture List Individual Files'!$B$14:$F$63,5,FALSE))","v":""},{"$f":"IF(AND(F18=\"Yes\",Facility_Type=\"Commercial\"),(SFE_Commercial-SFBASE_Commercial)*E18/1000*$J$12,IF(AND(F18=\"Yes\",Facility_Type=\"Industrial\",G18=\"Non-High Bay\"),(SFE_Industrial-SFBASE_Industrial)*E18/1000*$J$12,IF(AND(F18=\"Yes\",Facility_Type=\"Schools & Government\",G18=\"Non-High Bay\"),((SFE_SG-SFBASE_SG)*E18/1000*$J$12),\"\")))","v":""},{"$f":"IF(AND(F18=\"Yes\",Facility_Type=\"Commercial\"),(SFE_Commercial-SFBASE_Commercial)*E18/1000*$J$11,IF(AND(F18=\"Yes\",Facility_Type=\"Industrial\",G18=\"Non-High Bay\"),(SFE_Industrial-SFBASE_Industrial)*E18/1000*$J$11,IF(AND(F18=\"Yes\",Facility_Type=\"Schools & Government\",G18=\"Non-High Bay\"),((SFE_SG-SFBASE_SG)*E18/1000*$J$11),\"\")))","v":""},{"$f":"IFERROR(I18*EUL_for_NLC,\"\")","v":""},{"$nulls":4},"LS4.64","Lithonia Surface Mounted",251,55,13805]
[null,{"$f":"IF(A19=\"\",\"\",VLOOKUP(A19,'Fixture List Individual Files'!$B$14:$F$63,2,FALSE))","v":""},null,{"$f":"IF(A19=\"\",\"\",VLOOKUP(A19,'Fixture List Individual Files'!$B$14:$F$63,3,FALSE))","v":""},"",{"$f":"IF(A19=\"\",\"\",VLOOKUP(A19,'Fixture List Individual Files'!$B$14:$F$63,4,FALSE))","v":""},{"$f":"IF(A19=\"\",\"\",VLOOKUP(A19,'Fixture List Individual Files'!$B$14:$F$63,5,FALSE))","v":""},"","","",{"$nulls":4},"LS4.47","Lithonia Surface Mounted",359,43,15437]
[null,{"$f":"IF(A20=\"\",\"\",VLOOKUP(A20,'Fixture List Individual Files'!$B$14:$F$63,2,FALSE))","v":""},null,{"$f":"IF(A20=\"\",\"\",VLOOKUP(A20,'Fixture List Individual Files'!$B$14:$F$63,3,FALSE))","v":""},"",{"$f":"IF(A20=\"\",\"\",VLOOKUP(A20,'Fixture List Individual Files'!$B$14:$F$63,4,FALSE))","v":""},{"$f":"IF(A20=\"\",\"\",VLOOKUP(A20,'Fixture List Individual Files'!$B$14:$F$63,5,FALSE))","v":""},"","","",{"$nulls":4},"LS4.5","Lithonia Surface Mounted",1,43,43]
[null,{"$f":"IF(A21=\"\",\"\",VLOOKUP(A21,'Fixture List Individual Files'!$B$14:$F$63,2,FALSE))","v":""},null,{"$f":"IF(A21=\"\",\"\",VLOOKUP(A21,'Fixture List Individual Files'!$B$14:$F$63,3,FALSE))","v":""},"",{"$f":"IF(A21=\"\",\"\",VLOOKUP(A21,'Fixture List Individual Files'!$B$14:$F$63,4,FALSE))","v":""},{"$f":"IF(A21=\"\",\"\",VLOOKUP(A21,'Fixture List Individual Files'!$B$14:$F$63,5,FALSE))","v":""},"","","",{"$nulls":4},"LSW4","GE Wall Mounted",2,48,96]
[null,{"$f":"IF(A22=\"\",\"\",VLOOKUP(A22,'Fixture List Individual Files'!$B$14:$F$63,2,FALSE))","v":""},null,{"$f":"IF(A22=\"\",\"\",VLOOKUP(A22,'Fixture List Individual Files'!$B$14:$F$63,3,FALSE))","v":""},"",{"$f":"IF(A22=\"\",\"\",VLOOKUP(A22,'Fixture List Individual Files'!$B$14:$F$63,4,FALSE))","v":""},{"$f":"IF(A22=\"\",\"\",VLOOKUP(A22,'Fixture List Individual Files'!$B$14:$F$63,5,FALSE))","v":""},"","",""]
[null,{"$f":"IF(A23=\"\",\"\",VLOOKUP(A23,'Fixture List Individual Files'!$B$14:$F$63,2,FALSE))","v":""},null,{"$f":"IF(A23=\"\",\"\",VLOOKUP(A23,'Fixture List Individual Files'!$B$14:$F$63,3,FALSE))","v":""},"",{"$f":"IF(A23=\"\",\"\",VLOOKUP(A23,'Fixture List Individual Files'!$B$14:$F$63,4,FALSE))","v":""},{"$f":"IF(A23=\"\",\"\",VLOOKUP(A23,'Fixture List Individual Files'!$B$14:$F$63,5,FALSE))","v":""},"","",""]
[null,{"$f":"IF(A24=\"\",\"\",VLOOKUP(A24,'Fixture List Individual Files'!$B$14:$F$63,2,FALSE))","v":""},null,{"$f":"IF(A24=\"\",\"\",VLOOKUP(A24,'Fixture List Individual Files'!$B$14:$F$63,3,FALSE))","v":""},"",{"$f":"IF(A24=\"\",\"\",VLOOKUP(A24,'Fixture List Individual Files'!$B$14:$F$63,4,FALSE))","v":""},{"$f":"IF(A24=\"\",\"\",VLOOKUP(A24,'Fixture List Individual Files'!$B$14:$F$63,5,FALSE))","v":""},"","",""]
[null,{"$f":"IF(A25=\"\",\"\",VLOOKUP(A25,'Fixture List Individual Files'!$B$14:$F$63,2,FALSE))","v":""},null,{"$f":"IF(A25=\"\",\"\",VLOOKUP(A25,'Fixture List Individual Files'!$B$14:$F$63,3,FALSE))","v":""},"",{"$f":"IF(A25=\"\",\"\",VLOOKUP(A25,'Fixture List Individual Files'!$B$14:$F$63,4,FALSE))","v":""},{"$f":"IF(A25=\"\",\"\",VLOOKUP(A25,'Fixture List Individual Files'!$B$14:$F$63,5,FALSE))","v":""},"","",""]
[null,{"$f":"IF(A26=\"\",\"\",VLOOKUP(A26,'Fixture List Individual Files'!$B$14:$F$63,2,FALSE))","v":""},null,{"$f":"IF(A26=\"\",\"\",VLOOKUP(A26,'Fixture List Individual Files'!$B$14:$F$63,3,FALSE))","v":""},"",{"$f":"IF(A26=\"\",\"\",VLOOKUP(A26,'Fixture List Individual Files'!$B$14:$F$63,4,FALSE))","v":""},{"$f":"IF(A26=\"\",\"\",VLOOKUP(A26,'Fixture List Individual Files'!$B$14:$F$63,5,FALSE))","v":""},"","",""]
[null,{"$f":"IF(A27=\"\",\"\",VLOOKUP(A27,'Fixture List Individual Files'!$B$14:$F$63,2,FALSE))","v":""},null,{"$f":"IF(A27=\"\",\"\",VLOOKUP(A27,'Fixture List Individual Files'!$B$14:$F$63,3,FALSE))","v":""},"",{"$f":"IF(A27=\"\",\"\",VLOOKUP(A27,'Fixture List Individual Files'!$B$14:$F$63,4,FALSE))","v":""},{"$f":"IF(A27=\"\",\"\",VLOOKUP(A27,'Fixture List Individual Files'!$B$14:$F$63,5,FALSE))","v":""},"","",""]
[null,{"$f":"IF(A28=\"\",\"\",VLOOKUP(A28,'Fixture List Individual Files'!$B$14:$F$63,2,FALSE))","v":""},null,{"$f":"IF(A28=\"\",\"\",VLOOKUP(A28,'Fixture List Individual Files'!$B$14:$F$63,3,FALSE))","v":""},"",{"$f":"IF(A28=\"\",\"\",VLOOKUP(A28,'Fixture List Individual Files'!$B$14:$F$63,4,FALSE))","v":""},{"$f":"IF(A28=\"\",\"\",VLOOKUP(A28,'Fixture List Individual Files'!$B$14:$F$63,5,FALSE))","v":""},"","",""]
[null,{"$f":"IF(A29=\"\",\"\",VLOOKUP(A29,'Fixture List Individual Files'!$B$14:$F$63,2,FALSE))","v":""},null,{"$f":"IF(A29=\"\",\"\",VLOOKUP(A29,'Fixture List Individual Files'!$B$14:$F$63,3,FALSE))","v":""},"",{"$f":"IF(A29=\"\",\"\",VLOOKUP(A29,'Fixture List Individual Files'!$B$14:$F$63,4,FALSE))","v":""},{"$f":"IF(A29=\"\",\"\",VLOOKUP(A29,'Fixture List Individual Files'!$B$14:$F$63,5,FALSE))","v":""},"","",""]
[null,{"$f":"IF(A30=\"\",\"\",VLOOKUP(A30,'Fixture List Individual Files'!$B$14:$F$63,2,FALSE))","v":""},null,{"$f":"IF(A30=\"\",\"\",VLOOKUP(A30,'Fixture List Individual Files'!$B$14:$F$63,3,FALSE))","v":""},"",{"$f":"IF(A30=\"\",\"\",VLOOKUP(A30,'Fixture List Individual Files'!$B$14:$F$63,4,FALSE))","v":""},{"$f":"IF(A30=\"\",\"\",VLOOKUP(A30,'Fixture List Individual Files'!$B$14:$F$63,5,FALSE))","v":""},"","",""]
[null,{"$f":"IF(A31=\"\",\"\",VLOOKUP(A31,'Fixture List Individual Files'!$B$14:$F$63,2,FALSE))","v":""},null,{"$f":"IF(A31=\"\",\"\",VLOOKUP(A31,'Fixture List Individual Files'!$B$14:$F$63,3,FALSE))","v":""},"",{"$f":"IF(A31=\"\",\"\",VLOOKUP(A31,'Fixture List Individual Files'!$B$14:$F$63,4,FALSE))","v":""},{"$f":"IF(A31=\"\",\"\",VLOOKUP(A31,'Fixture List Individual Files'!$B$14:$F$63,5,FALSE))","v":""},"","",""]
[null,{"$f":"IF(A32=\"\",\"\",VLOOKUP(A32,'Fixture List Individual Files'!$B$14:$F$63,2,FALSE))","v":""},null,{"$f":"IF(A32=\"\",\"\",VLOOKUP(A32,'Fixture List Individual Files'!$B$14:$F$63,3,FALSE))","v":""},"",{"$f":"IF(A32=\"\",\"\",VLOOKUP(A32,'Fixture List Individual Files'!$B$14:$F$63,4,FALSE))","v":""},{"$f":"IF(A32=\"\",\"\",VLOOKUP(A32,'Fixture List Individual Files'!$B$14:$F$63,5,FALSE))","v":""},"","",""]
[null,{"$f":"IF(A33=\"\",\"\",VLOOKUP(A33,'Fixture List Individual Files'!$B$14:$F$63,2,FALSE))","v":""},null,{"$f":"IF(A33=\"\",\"\",VLOOKUP(A33,'Fixture List Individual Files'!$B$14:$F$63,3,FALSE))","v":""},"",{"$f":"IF(A33=\"\",\"\",VLOOKUP(A33,'Fixture List Individual Files'!$B$14:$F$63,4,FALSE))","v":""},{"$f":"IF(A33=\"\",\"\",VLOOKUP(A33,'Fixture List Individual Files'!$B$14:$F$63,5,FALSE))","v":""},"","",""]
[null,{"$f":"IF(A34=\"\",\"\",VLOOKUP(A34,'Fixture List Individual Files'!$B$14:$F$63,2,FALSE))","v":""},null,{"$f":"IF(A34=\"\",\"\",VLOOKUP(A34,'Fixture List Individual Files'!$B$14:$F$63,3,FALSE))","v":""},"",{"$f":"IF(A34=\"\",\"\",VLOOKUP(A34,'Fixture List Individual Files'!$B$14:$F$63,4,FALSE))","v":""},{"$f":"IF(A34=\"\",\"\",VLOOKUP(A34,'Fixture List Individual Files'!$B$14:$F$63,5,FALSE))","v":""},"","",""]
[null,{"$f":"IF(A35=\"\",\"\",VLOOKUP(A35,'Fixture List Individual Files'!$B$14:$F$63,2,FALSE))","v":""},null,{"$f":"IF(A35=\"\",\"\",VLOOKUP(A35,'Fixture List Individual Files'!$B$14:$F$63,3,FALSE))","v":""},"",{"$f":"IF(A35=\"\",\"\",VLOOKUP(A35,'Fixture List Individual Files'!$B$14:$F$63,4,FALSE))","v":""},{"$f":"IF(A35=\"\",\"\",VLOOKUP(A35,'Fixture List Individual Files'!$B$14:$F$63,5,FALSE))","v":""},"","",""]
[null,{"$f":"IF(A36=\"\",\"\",VLOOKUP(A36,'Fixture List Individual Files'!$B$14:$F$63,2,FALSE))","v":""},null,{"$f":"IF(A36=\"\",\"\",VLOOKUP(A36,'Fixture List Individual Files'!$B$14:$F$63,3,FALSE))","v":""},"",{"$f":"IF(A36=\"\",\"\",VLOOKUP(A36,'Fixture List Individual Files'!$B$14:$F$63,4,FALSE))","v":""},{"$f":"IF(A36=\"\",\"\",VLOOKUP(A36,'Fixture List Individual Files'!$B$14:$F$63,5,FALSE))","v":""},"","",""]
[null,{"$f":"IF(A37=\"\",\"\",VLOOKUP(A37,'Fixture List Individual Files'!$B$14:$F$63,2,FALSE))","v":""},null,{"$f":"IF(A37=\"\",\"\",VLOOKUP(A37,'Fixture List Individual Files'!$B$14:$F$63,3,FALSE))","v":""},"",{"$f":"IF(A37=\"\",\"\",VLOOKUP(A37,'Fixture List Individual Files'!$B$14:$F$63,4,FALSE))","v":""},{"$f":"IF(A37=\"\",\"\",VLOOKUP(A37,'Fixture List Individual Files'!$B$14:$F$63,5,FALSE))","v":""},"","",""]
[null,{"$f":"IF(A38=\"\",\"\",VLOOKUP(A38,'Fixture List Individual Files'!$B$14:$F$63,2,FALSE))","v":""},null,{"$f":"IF(A38=\"\",\"\",VLOOKUP(A38,'Fixture List Individual Files'!$B$14:$F$63,3,FALSE))","v":""},"",{"$f":"IF(A38=\"\",\"\",VLOOKUP(A38,'Fixture List Individual Files'!$B$14:$F$63,4,FALSE))","v":""},{"$f":"IF(A38=\"\",\"\",VLOOKUP(A38,'Fixture List Individual Files'!$B$14:$F$63,5,FALSE))","v":""},"","",""]
[null,{"$f":"IF(A39=\"\",\"\",VLOOKUP(A39,'Fixture List Individual Files'!$B$14:$F$63,2,FALSE))","v":""},null,{"$f":"IF(A39=\"\",\"\",VLOOKUP(A39,'Fixture List Individual Files'!$B$14:$F$63,3,FALSE))","v":""},"",{"$f":"IF(A39=\"\",\"\",VLOOKUP(A39,'Fixture List Individual Files'!$B$14:$F$63,4,FALSE))","v":""},{"$f":"IF(A39=\"\",\"\",VLOOKUP(A39,'Fixture List Individual Files'!$B$14:$F$63,5,FALSE))","v":""},"","",""]
[null,{"$f":"IF(A40=\"\",\"\",VLOOKUP(A40,'Fixture List Individual Files'!$B$14:$F$63,2,FALSE))","v":""},null,{"$f":"IF(A40=\"\",\"\",VLOOKUP(A40,'Fixture List Individual Files'!$B$14:$F$63,3,FALSE))","v":""},"",{"$f":"IF(A40=\"\",\"\",VLOOKUP(A40,'Fixture List Individual Files'!$B$14:$F$63,4,FALSE))","v":""},{"$f":"IF(A40=\"\",\"\",VLOOKUP(A40,'Fixture List Individual Files'!$B$14:$F$63,5,FALSE))","v":""},"","",""]
[null,{"$f":"IF(A41=\"\",\"\",VLOOKUP(A41,'Fixture List Individual Files'!$B$14:$F$63,2,FALSE))","v":""},null,{"$f":"IF(A41=\"\",\"\",VLOOKUP(A41,'Fixture List Individual Files'!$B$14:$F$63,3,FALSE))","v":""},"",{"$f":"IF(A41=\"\",\"\",VLOOKUP(A41,'Fixture List Individual Files'!$B$14:$F$63,4,FALSE))","v":""},{"$f":"IF(A41=\"\",\"\",VLOOKUP(A41,'Fixture List Individual Files'!$B$14:$F$63,5,FALSE))","v":""},"","",""]
[null,{"$f":"IF(A42=\"\",\"\",VLOOKUP(A42,'Fixture List Individual Files'!$B$14:$F$63,2,FALSE))","v":""},null,{"$f":"IF(A42=\"\",\"\",VLOOKUP(A42,'Fixture List Individual Files'!$B$14:$F$63,3,FALSE))","v":""},"",{"$f":"IF(A42=\"\",\"\",VLOOKUP(A42,'Fixture List Individual Files'!$B$14:$F$63,4,FALSE))","v":""},{"$f":"IF(A42=\"\",\"\",VLOOKUP(A42,'Fixture List Individual Files'!$B$14:$F$63,5,FALSE))","v":""},"","",""]
[null,{"$f":"IF(A43=\"\",\"\",VLOOKUP(A43,'Fixture List Individual Files'!$B$14:$F$63,2,FALSE))","v":""},null,{"$f":"IF(A43=\"\",\"\",VLOOKUP(A43,'Fixture List Individual Files'!$B$14:$F$63,3,FALSE))","v":""},"",{"$f":"IF(A43=\"\",\"\",VLOOKUP(A43,'Fixture List Individual Files'!$B$14:$F$63,4,FALSE))","v":""},{"$f":"IF(A43=\"\",\"\",VLOOKUP(A43,'Fixture List Individual Files'!$B$14:$F$63,5,FALSE))","v":""},"","",""]
[null,{"$f":"IF(A44=\"\",\"\",VLOOKUP(A44,'Fixture List Individual Files'!$B$14:$F$63,2,FALSE))","v":""},null,{"$f":"IF(A44=\"\",\"\",VLOOKUP(A44,'Fixture List Individual Files'!$B$14:$F$63,3,FALSE))","v":""},"",{"$f":"IF(A44=\"\",\"\",VLOOKUP(A44,'Fixture List Individual Files'!$B$14:$F$63,4,FALSE))","v":""},{"$f":"IF(A44=\"\",\"\",VLOOKUP(A44,'Fixture List Individual Files'!$B$14:$F$63,5,FALSE))","v":""},"","",""]
[null,{"$f":"IF(A45=\"\",\"\",VLOOKUP(A45,'Fixture List Individual Files'!$B$14:$F$63,2,FALSE))","v":""},null,{"$f":"IF(A45=\"\",\"\",VLOOKUP(A45,'Fixture List Individual Files'!$B$14:$F$63,3,FALSE))","v":""},"",{"$f":"IF(A45=\"\",\"\",VLOOKUP(A45,'Fixture List Individual Files'!$B$14:$F$63,4,FALSE))","v":""},{"$f":"IF(A45=\"\",\"\",VLOOKUP(A45,'Fixture List Individual Files'!$B$14:$F$63,5,FALSE))","v":""},"","",""]
[null,{"$f":"IF(A46=\"\",\"\",VLOOKUP(A46,'Fixture List Individual Files'!$B$14:$F$63,2,FALSE))","v":""},null,{"$f":"IF(A46=\"\",\"\",VLOOKUP(A46,'Fixture List Individual Files'!$B$14:$F$63,3,FALSE))","v":""},"",{"$f":"IF(A46=\"\",\"\",VLOOKUP(A46,'Fixture List Individual Files'!$B$14:$F$63,4,FALSE))","v":""},{"$f":"IF(A46=\"\",\"\",VLOOKUP(A46,'Fixture List Individual Files'!$B$14:$F$63,5,FALSE))","v":""},"","",""]
[null,{"$f":"IF(A47=\"\",\"\",VLOOKUP(A47,'Fixture List Individual Files'!$B$14:$F$63,2,FALSE))","v":""},null,{"$f":"IF(A47=\"\",\"\",VLOOKUP(A47,'Fixture List Individual Files'!$B$14:$F$63,3,FALSE))","v":""},"",{"$f":"IF(A47=\"\",\"\",VLOOKUP(A47,'Fixture List Individual Files'!$B$14:$F$63,4,FALSE))","v":""},{"$f":"IF(A47=\"\",\"\",VLOOKUP(A47,'Fixture List Individual Files'!$B$14:$F$63,5,FALSE))","v":""},"","",""]
[null,{"$f":"IF(A48=\"\",\"\",VLOOKUP(A48,'Fixture List Individual Files'!$B$14:$F$63,2,FALSE))","v":""},null,{"$f":"IF(A48=\"\",\"\",VLOOKUP(A48,'Fixture List Individual Files'!$B$14:$F$63,3,FALSE))","v":""},"",{"$f":"IF(A48=\"\",\"\",VLOOKUP(A48,'Fixture List Individual Files'!$B$14:$F$63,4,FALSE))","v":""},{"$f":"IF(A48=\"\",\"\",VLOOKUP(A48,'Fixture List Individual Files'!$B$14:$F$63,5,FALSE))","v":""},"","",""]
[null,{"$f":"IF(A49=\"\",\"\",VLOOKUP(A49,'Fixture List Individual Files'!$B$14:$F$63,2,FALSE))","v":""},null,{"$f":"IF(A49=\"\",\"\",VLOOKUP(A49,'Fixture List Individual Files'!$B$14:$F$63,3,FALSE))","v":""},"",{"$f":"IF(A49=\"\",\"\",VLOOKUP(A49,'Fixture List Individual Files'!$B$14:$F$63,4,FALSE))","v":""},{"$f":"IF(A49=\"\",\"\",VLOOKUP(A49,'Fixture List Individual Files'!$B$14:$F$63,5,FALSE))","v":""},"","",""]
[null,{"$f":"IF(A50=\"\",\"\",VLOOKUP(A50,'Fixture List Individual Files'!$B$14:$F$63,2,FALSE))","v":""},null,{"$f":"IF(A50=\"\",\"\",VLOOKUP(A50,'Fixture List Individual Files'!$B$14:$F$63,3,FALSE))","v":""},"",{"$f":"IF(A50=\"\",\"\",VLOOKUP(A50,'Fixture List Individual Files'!$B$14:$F$63,4,FALSE))","v":""},{"$f":"IF(A50=\"\",\"\",VLOOKUP(A50,'Fixture List Individual Files'!$B$14:$F$63,5,FALSE))","v":""},"","",""]
[null,{"$f":"IF(A51=\"\",\"\",VLOOKUP(A51,'Fixture List Individual Files'!$B$14:$F$63,2,FALSE))","v":""},null,{"$f":"IF(A51=\"\",\"\",VLOOKUP(A51,'Fixture List Individual Files'!$B$14:$F$63,3,FALSE))","v":""},"",{"$f":"IF(A51=\"\",\"\",VLOOKUP(A51,'Fixture List Individual Files'!$B$14:$F$63,4,FALSE))","v":""},{"$f":"IF(A51=\"\",\"\",VLOOKUP(A51,'Fixture List Individual Files'!$B$14:$F$63,5,FALSE))","v":""},"","",""]
[null,"Totals:",{"$f":"SUM(C16:C51)","v":0},null,{"$f":"SUM(E16:E51)","v":0},{"$f":"SUMIF(F16:F51,\"Yes\",E16:E51)","v":0},null,{"$f":"SUM(H16:H51)","v":{"v":0,"d":"0.000"}},{"$f":"SUM(I16:I51)","v":0},0]
[]
["Area 2",{"$nulls":4},"NLC area factor:",{"$nulls":3},{"$f":"IF(VLOOKUP(A54,'Start Here!'!$N$46:$Q$70,4,FALSE)=0,VLOOKUP(Facility_Type,Admin_Lists!$A$63:$B$66,2,FALSE),VLOOKUP(A54,'Start Here!'!$N$46:$Q$70,4,FALSE))","v":{"$error":"#N/A"}}]
["Type:",{"$nulls":3},{"$f":"IFERROR(VLOOKUP(B55,Admin_Lists!$A$9:$B$49,2,FALSE),\"\")","v":""},"W/sq ft",{"$nulls":3},{"$f":"VLOOKUP(A54,'Start Here!'!$N$46:$O$70,2,FALSE)","v":0}]
[null,{"$f":"\"Area Description: \"&'Sq. Ft. Area Individual Files'!D12","v":"Area Description: "},{"$nulls":3},"Sq Ft: ",{"$f":"'Sq. Ft. Area Individual Files'!C12","v":{"v":0,"d":"0 "}}]
["Fixture Mark","Fixture\nName","Fixture\nCount","Fixture Watts","Total Watts \n(Fixt Count \nx Fixt Watts)","NLC Controls (Yes/No)","Space type","NLC Controls Savings"]
[{"$nulls":7},"Peak kW Savings","Annual kWh Savings","LC kWh Savings"]
[null,{"$f":"IF(A59=\"\",\"\",VLOOKUP(A59,'Fixture List Individual Files'!$B$14:$F$63,2,FALSE))","v":""},null,{"$f":"IF(A59=\"\",\"\",VLOOKUP(A59,'Fixture List Individual Files'!$B$14:$F$63,3,FALSE))","v":""},{"$f":"IF(D59=\"\",\"\",C59*D59)","v":""},{"$f":"IF(A59=\"\",\"\",VLOOKUP(A59,'Fixture List Individual Files'!$B$14:$F$63,4,FALSE))","v":""},{"$f":"IF(A59=\"\",\"\",VLOOKUP(A59,'Fixture List Individual Files'!$B$14:$F$63,5,FALSE))","v":""},{"$f":"IF(AND(F59=\"Yes\",Facility_Type=\"Commercial\"),(SFE_Commercial-SFBASE_Commercial)*E59/1000*$J$55,IF(AND(F59=\"Yes\",Facility_Type=\"Industrial\",G59=\"Non-High Bay\"),(SFE_Industrial-SFBASE_Industrial)*E59/1000*$J$55,IF(AND(F59=\"Yes\",Facility_Type=\"Schools & Government\",G59=\"Non-High Bay\"),((SFE_SG-SFBASE_SG)*E59/1000*$J$55),\"\")))","v":""},{"$f":"IF(AND(F59=\"Yes\",Facility_Type=\"Commercial\"),(SFE_Commercial-SFBASE_Commercial)*E59/1000*$J$54,IF(AND(F59=\"Yes\",Facility_Type=\"Industrial\",G59=\"Non-High Bay\"),(SFE_Industrial-SFBASE_Industrial)*E59/1000*$J$54,IF(AND(F59=\"Yes\",Facility_Type=\"Schools & Government\",G59=\"Non-High Bay\"),((SFE_SG-SFBASE_SG)*E59/1000*$J$54),\"\")))","v":""},{"$f":"IFERROR(I59*EUL_for_NLC,\"\")","v":""}]
[null,{"$f":"IF(A60=\"\",\"\",VLOOKUP(A60,'Fixture List Individual Files'!$B$14:$F$63,2,FALSE))","v":""},null,{"$f":"IF(A60=\"\",\"\",VLOOKUP(A60,'Fixture List Individual Files'!$B$14:$F$63,3,FALSE))","v":""},{"$f":"IF(D60=\"\",\"\",C60*D60)","v":""},{"$f":"IF(A60=\"\",\"\",VLOOKUP(A60,'Fixture List Individual Files'!$B$14:$F$63,4,FALSE))","v":""},{"$f":"IF(A60=\"\",\"\",VLOOKUP(A60,'Fixture List Individual Files'!$B$14:$F$63,5,FALSE))","v":""},"","",""]
[null,{"$f":"IF(A61=\"\",\"\",VLOOKUP(A61,'Fixture List Individual Files'!$B$14:$F$63,2,FALSE))","v":""},null,{"$f":"IF(A61=\"\",\"\",VLOOKUP(A61,'Fixture List Individual Files'!$B$14:$F$63,3,FALSE))","v":""},"",{"$f":"IF(A61=\"\",\"\",VLOOKUP(A61,'Fixture List Individual Files'!$B$14:$F$63,4,FALSE))","v":""},{"$f":"IF(A61=\"\",\"\",VLOOKUP(A61,'Fixture List Individual Files'!$B$14:$F$63,5,FALSE))","v":""},"","",""]
[null,{"$f":"IF(A62=\"\",\"\",VLOOKUP(A62,'Fixture List Individual Files'!$B$14:$F$63,2,FALSE))","v":""},null,{"$f":"IF(A62=\"\",\"\",VLOOKUP(A62,'Fixture List Individual Files'!$B$14:$F$63,3,FALSE))","v":""},"",{"$f":"IF(A62=\"\",\"\",VLOOKUP(A62,'Fixture List Individual Files'!$B$14:$F$63,4,FALSE))","v":""},{"$f":"IF(A62=\"\",\"\",VLOOKUP(A62,'Fixture List Individual Files'!$B$14:$F$63,5,FALSE))","v":""},"","",""]
[null,{"$f":"IF(A63=\"\",\"\",VLOOKUP(A63,'Fixture List Individual Files'!$B$14:$F$63,2,FALSE))","v":""},null,{"$f":"IF(A63=\"\",\"\",VLOOKUP(A63,'Fixture List Individual Files'!$B$14:$F$63,3,FALSE))","v":""},"",{"$f":"IF(A63=\"\",\"\",VLOOKUP(A63,'Fixture List Individual Files'!$B$14:$F$63,4,FALSE))","v":""},{"$f":"IF(A63=\"\",\"\",VLOOKUP(A63,'Fixture List Individual Files'!$B$14:$F$63,5,FALSE))","v":""},"","",""]
[null,{"$f":"IF(A64=\"\",\"\",VLOOKUP(A64,'Fixture List Individual Files'!$B$14:$F$63,2,FALSE))","v":""},null,{"$f":"IF(A64=\"\",\"\",VLOOKUP(A64,'Fixture List Individual Files'!$B$14:$F$63,3,FALSE))","v":""},"",{"$f":"IF(A64=\"\",\"\",VLOOKUP(A64,'Fixture List Individual Files'!$B$14:$F$63,4,FALSE))","v":""},{"$f":"IF(A64=\"\",\"\",VLOOKUP(A64,'Fixture List Individual Files'!$B$14:$F$63,5,FALSE))","v":""},"","",""]
[null,{"$f":"IF(A65=\"\",\"\",VLOOKUP(A65,'Fixture List Individual Files'!$B$14:$F$63,2,FALSE))","v":""},null,{"$f":"IF(A65=\"\",\"\",VLOOKUP(A65,'Fixture List Individual Files'!$B$14:$F$63,3,FALSE))","v":""},"",{"$f":"IF(A65=\"\",\"\",VLOOKUP(A65,'Fixture List Individual Files'!$B$14:$F$63,4,FALSE))","v":""},{"$f":"IF(A65=\"\",\"\",VLOOKUP(A65,'Fixture List Individual Files'!$B$14:$F$63,5,FALSE))","v":""},"","",""]
[null,{"$f":"IF(A66=\"\",\"\",VLOOKUP(A66,'Fixture List Individual Files'!$B$14:$F$63,2,FALSE))","v":""},null,{"$f":"IF(A66=\"\",\"\",VLOOKUP(A66,'Fixture List Individual Files'!$B$14:$F$63,3,FALSE))","v":""},"",{"$f":"IF(A66=\"\",\"\",VLOOKUP(A66,'Fixture List Individual Files'!$B$14:$F$63,4,FALSE))","v":""},{"$f":"IF(A66=\"\",\"\",VLOOKUP(A66,'Fixture List Individual Files'!$B$14:$F$63,5,FALSE))","v":""},"","",""]
[null,{"$f":"IF(A67=\"\",\"\",VLOOKUP(A67,'Fixture List Individual Files'!$B$14:$F$63,2,FALSE))","v":""},null,{"$f":"IF(A67=\"\",\"\",VLOOKUP(A67,'Fixture List Individual Files'!$B$14:$F$63,3,FALSE))","v":""},"",{"$f":"IF(A67=\"\",\"\",VLOOKUP(A67,'Fixture List Individual Files'!$B$14:$F$63,4,FALSE))","v":""},{"$f":"IF(A67=\"\",\"\",VLOOKUP(A67,'Fixture List Individual Files'!$B$14:$F$63,5,FALSE))","v":""},"","",""]
[null,{"$f":"IF(A68=\"\",\"\",VLOOKUP(A68,'Fixture List Individual Files'!$B$14:$F$63,2,FALSE))","v":""},null,{"$f":"IF(A68=\"\",\"\",VLOOKUP(A68,'Fixture List Individual Files'!$B$14:$F$63,3,FALSE))","v":""},"",{"$f":"IF(A68=\"\",\"\",VLOOKUP(A68,'Fixture List Individual Files'!$B$14:$F$63,4,FALSE))","v":""},{"$f":"IF(A68=\"\",\"\",VLOOKUP(A68,'Fixture List Individual Files'!$B$14:$F$63,5,FALSE))","v":""},"","",""]
[null,{"$f":"IF(A69=\"\",\"\",VLOOKUP(A69,'Fixture List Individual Files'!$B$14:$F$63,2,FALSE))","v":""},null,{"$f":"IF(A69=\"\",\"\",VLOOKUP(A69,'Fixture List Individual Files'!$B$14:$F$63,3,FALSE))","v":""},"",{"$f":"IF(A69=\"\",\"\",VLOOKUP(A69,'Fixture List Individual Files'!$B$14:$F$63,4,FALSE))","v":""},{"$f":"IF(A69=\"\",\"\",VLOOKUP(A69,'Fixture List Individual Files'!$B$14:$F$63,5,FALSE))","v":""},"","",""]
[null,{"$f":"IF(A70=\"\",\"\",VLOOKUP(A70,'Fixture List Individual Files'!$B$14:$F$63,2,FALSE))","v":""},null,{"$f":"IF(A70=\"\",\"\",VLOOKUP(A70,'Fixture List Individual Files'!$B$14:$F$63,3,FALSE))","v":""},"",{"$f":"IF(A70=\"\",\"\",VLOOKUP(A70,'Fixture List Individual Files'!$B$14:$F$63,4,FALSE))","v":""},{"$f":"IF(A70=\"\",\"\",VLOOKUP(A70,'Fixture List Individual Files'!$B$14:$F$63,5,FALSE))","v":""},"","",""]
[null,{"$f":"IF(A71=\"\",\"\",VLOOKUP(A71,'Fixture List Individual Files'!$B$14:$F$63,2,FALSE))","v":""},null,{"$f":"IF(A71=\"\",\"\",VLOOKUP(A71,'Fixture List Individual Files'!$B$14:$F$63,3,FALSE))","v":""},"",{"$f":"IF(A71=\"\",\"\",VLOOKUP(A71,'Fixture List Individual Files'!$B$14:$F$63,4,FALSE))","v":""},{"$f":"IF(A71=\"\",\"\",VLOOKUP(A71,'Fixture List Individual Files'!$B$14:$F$63,5,FALSE))","v":""},"","",""]
[null,{"$f":"IF(A72=\"\",\"\",VLOOKUP(A72,'Fixture List Individual Files'!$B$14:$F$63,2,FALSE))","v":""},null,{"$f":"IF(A72=\"\",\"\",VLOOKUP(A72,'Fixture List Individual Files'!$B$14:$F$63,3,FALSE))","v":""},"",{"$f":"IF(A72=\"\",\"\",VLOOKUP(A72,'Fixture List Individual Files'!$B$14:$F$63,4,FALSE))","v":""},{"$f":"IF(A72=\"\",\"\",VLOOKUP(A72,'Fixture List Individual Files'!$B$14:$F$63,5,FALSE))","v":""},"","",""]
[null,{"$f":"IF(A73=\"\",\"\",VLOOKUP(A73,'Fixture List Individual Files'!$B$14:$F$63,2,FALSE))","v":""},null,{"$f":"IF(A73=\"\",\"\",VLOOKUP(A73,'Fixture List Individual Files'!$B$14:$F$63,3,FALSE))","v":""},"",{"$f":"IF(A73=\"\",\"\",VLOOKUP(A73,'Fixture List Individual Files'!$B$14:$F$63,4,FALSE))","v":""},{"$f":"IF(A73=\"\",\"\",VLOOKUP(A73,'Fixture List Individual Files'!$B$14:$F$63,5,FALSE))","v":""},"","",""]
[null,{"$f":"IF(A74=\"\",\"\",VLOOKUP(A74,'Fixture List Individual Files'!$B$14:$F$63,2,FALSE))","v":""},null,{"$f":"IF(A74=\"\",\"\",VLOOKUP(A74,'Fixture List Individual Files'!$B$14:$F$63,3,FALSE))","v":""},"",{"$f":"IF(A74=\"\",\"\",VLOOKUP(A74,'Fixture List Individual Files'!$B$14:$F$63,4,FALSE))","v":""},{"$f":"IF(A74=\"\",\"\",VLOOKUP(A74,'Fixture List Individual Files'!$B$14:$F$63,5,FALSE))","v":""},"","",""]
[null,{"$f":"IF(A75=\"\",\"\",VLOOKUP(A75,'Fixture List Individual Files'!$B$14:$F$63,2,FALSE))","v":""},null,{"$f":"IF(A75=\"\",\"\",VLOOKUP(A75,'Fixture List Individual Files'!$B$14:$F$63,3,FALSE))","v":""},"",{"$f":"IF(A75=\"\",\"\",VLOOKUP(A75,'Fixture List Individual Files'!$B$14:$F$63,4,FALSE))","v":""},{"$f":"IF(A75=\"\",\"\",VLOOKUP(A75,'Fixture List Individual Files'!$B$14:$F$63,5,FALSE))","v":""},"","",""]
[null,{"$f":"IF(A76=\"\",\"\",VLOOKUP(A76,'Fixture List Individual Files'!$B$14:$F$63,2,FALSE))","v":""},null,{"$f":"IF(A76=\"\",\"\",VLOOKUP(A76,'Fixture List Individual Files'!$B$14:$F$63,3,FALSE))","v":""},"",{"$f":"IF(A76=\"\",\"\",VLOOKUP(A76,'Fixture List Individual Files'!$B$14:$F$63,4,FALSE))","v":""},{"$f":"IF(A76=\"\",\"\",VLOOKUP(A76,'Fixture List Individual Files'!$B$14:$F$63,5,FALSE))","v":""},"","",""]
[null,{"$f":"IF(A77=\"\",\"\",VLOOKUP(A77,'Fixture List Individual Files'!$B$14:$F$63,2,FALSE))","v":""},null,{"$f":"IF(A77=\"\",\"\",VLOOKUP(A77,'Fixture List Individual Files'!$B$14:$F$63,3,FALSE))","v":""},"",{"$f":"IF(A77=\"\",\"\",VLOOKUP(A77,'Fixture List Individual Files'!$B$14:$F$63,4,FALSE))","v":""},{"$f":"IF(A77=\"\",\"\",VLOOKUP(A77,'Fixture List Individual Files'!$B$14:$F$63,5,FALSE))","v":""},"","",""]
[null,{"$f":"IF(A78=\"\",\"\",VLOOKUP(A78,'Fixture List Individual Files'!$B$14:$F$63,2,FALSE))","v":""},null,{"$f":"IF(A78=\"\",\"\",VLOOKUP(A78,'Fixture List Individual Files'!$B$14:$F$63,3,FALSE))","v":""},"",{"$f":"IF(A78=\"\",\"\",VLOOKUP(A78,'Fixture List Individual Files'!$B$14:$F$63,4,FALSE))","v":""},{"$f":"IF(A78=\"\",\"\",VLOOKUP(A78,'Fixture List Individual Files'!$B$14:$F$63,5,FALSE))","v":""},"","",""]
[null,{"$f":"IF(A79=\"\",\"\",VLOOKUP(A79,'Fixture List Individual Files'!$B$14:$F$63,2,FALSE))","v":""},null,{"$f":"IF(A79=\"\",\"\",VLOOKUP(A79,'Fixture List Individual Files'!$B$14:$F$63,3,FALSE))","v":""},"",{"$f":"IF(A79=\"\",\"\",VLOOKUP(A79,'Fixture List Individual Files'!$B$14:$F$63,4,FALSE))","v":""},{"$f":"IF(A79=\"\",\"\",VLOOKUP(A79,'Fixture List Individual Files'!$B$14:$F$63,5,FALSE))","v":""},"","",""]
[null,{"$f":"IF(A80=\"\",\"\",VLOOKUP(A80,'Fixture List Individual Files'!$B$14:$F$63,2,FALSE))","v":""},null,{"$f":"IF(A80=\"\",\"\",VLOOKUP(A80,'Fixture List Individual Files'!$B$14:$F$63,3,FALSE))","v":""},"",{"$f":"IF(A80=\"\",\"\",VLOOKUP(A80,'Fixture List Individual Files'!$B$14:$F$63,4,FALSE))","v":""},{"$f":"IF(A80=\"\",\"\",VLOOKUP(A80,'Fixture List Individual Files'!$B$14:$F$63,5,FALSE))","v":""},"","",""]
[null,{"$f":"IF(A81=\"\",\"\",VLOOKUP(A81,'Fixture List Individual Files'!$B$14:$F$63,2,FALSE))","v":""},null,{"$f":"IF(A81=\"\",\"\",VLOOKUP(A81,'Fixture List Individual Files'!$B$14:$F$63,3,FALSE))","v":""},"",{"$f":"IF(A81=\"\",\"\",VLOOKUP(A81,'Fixture List Individual Files'!$B$14:$F$63,4,FALSE))","v":""},{"$f":"IF(A81=\"\",\"\",VLOOKUP(A81,'Fixture List Individual Files'!$B$14:$F$63,5,FALSE))","v":""},"","",""]
[null,{"$f":"IF(A82=\"\",\"\",VLOOKUP(A82,'Fixture List Individual Files'!$B$14:$F$63,2,FALSE))","v":""},null,{"$f":"IF(A82=\"\",\"\",VLOOKUP(A82,'Fixture List Individual Files'!$B$14:$F$63,3,FALSE))","v":""},"",{"$f":"IF(A82=\"\",\"\",VLOOKUP(A82,'Fixture List Individual Files'!$B$14:$F$63,4,FALSE))","v":""},{"$f":"IF(A82=\"\",\"\",VLOOKUP(A82,'Fixture List Individual Files'!$B$14:$F$63,5,FALSE))","v":""},"","",""]
[null,{"$f":"IF(A83=\"\",\"\",VLOOKUP(A83,'Fixture List Individual Files'!$B$14:$F$63,2,FALSE))","v":""},null,{"$f":"IF(A83=\"\",\"\",VLOOKUP(A83,'Fixture List Individual Files'!$B$14:$F$63,3,FALSE))","v":""},"",{"$f":"IF(A83=\"\",\"\",VLOOKUP(A83,'Fixture List Individual Files'!$B$14:$F$63,4,FALSE))","v":""},{"$f":"IF(A83=\"\",\"\",VLOOKUP(A83,'Fixture List Individual Files'!$B$14:$F$63,5,FALSE))","v":""},"","",""]
[null,{"$f":"IF(A84=\"\",\"\",VLOOKUP(A84,'Fixture List Individual Files'!$B$14:$F$63,2,FALSE))","v":""},null,{"$f":"IF(A84=\"\",\"\",VLOOKUP(A84,'Fixture List Individual Files'!$B$14:$F$63,3,FALSE))","v":""},"",{"$f":"IF(A84=\"\",\"\",VLOOKUP(A84,'Fixture List Individual Files'!$B$14:$F$63,4,FALSE))","v":""},{"$f":"IF(A84=\"\",\"\",VLOOKUP(A84,'Fixture List Individual Files'!$B$14:$F$63,5,FALSE))","v":""},"","",""]
[null,{"$f":"IF(A85=\"\",\"\",VLOOKUP(A85,'Fixture List Individual Files'!$B$14:$F$63,2,FALSE))","v":""},null,{"$f":"IF(A85=\"\",\"\",VLOOKUP(A85,'Fixture List Individual Files'!$B$14:$F$63,3,FALSE))","v":""},"",{"$f":"IF(A85=\"\",\"\",VLOOKUP(A85,'Fixture List Individual Files'!$B$14:$F$63,4,FALSE))","v":""},{"$f":"IF(A85=\"\",\"\",VLOOKUP(A85,'Fixture List Individual Files'!$B$14:$F$63,5,FALSE))","v":""},"","",""]
[null,{"$f":"IF(A86=\"\",\"\",VLOOKUP(A86,'Fixture List Individual Files'!$B$14:$F$63,2,FALSE))","v":""},null,{"$f":"IF(A86=\"\",\"\",VLOOKUP(A86,'Fixture List Individual Files'!$B$14:$F$63,3,FALSE))","v":""},"",{"$f":"IF(A86=\"\",\"\",VLOOKUP(A86,'Fixture List Individual Files'!$B$14:$F$63,4,FALSE))","v":""},{"$f":"IF(A86=\"\",\"\",VLOOKUP(A86,'Fixture List Individual Files'!$B$14:$F$63,5,FALSE))","v":""},"","",""]
[null,{"$f":"IF(A87=\"\",\"\",VLOOKUP(A87,'Fixture List Individual Files'!$B$14:$F$63,2,FALSE))","v":""},null,{"$f":"IF(A87=\"\",\"\",VLOOKUP(A87,'Fixture List Individual Files'!$B$14:$F$63,3,FALSE))","v":""},"",{"$f":"IF(A87=\"\",\"\",VLOOKUP(A87,'Fixture List Individual Files'!$B$14:$F$63,4,FALSE))","v":""},{"$f":"IF(A87=\"\",\"\",VLOOKUP(A87,'Fixture List Individual Files'!$B$14:$F$63,5,FALSE))","v":""},"","",""]
[null,{"$f":"IF(A88=\"\",\"\",VLOOKUP(A88,'Fixture List Individual Files'!$B$14:$F$63,2,FALSE))","v":""},null,{"$f":"IF(A88=\"\",\"\",VLOOKUP(A88,'Fixture List Individual Files'!$B$14:$F$63,3,FALSE))","v":""},"",{"$f":"IF(A88=\"\",\"\",VLOOKUP(A88,'Fixture List Individual Files'!$B$14:$F$63,4,FALSE))","v":""},{"$f":"IF(A88=\"\",\"\",VLOOKUP(A88,'Fixture List Individual Files'!$B$14:$F$63,5,FALSE))","v":""},"","",""]
[null,{"$f":"IF(A89=\"\",\"\",VLOOKUP(A89,'Fixture List Individual Files'!$B$14:$F$63,2,FALSE))","v":""},null,{"$f":"IF(A89=\"\",\"\",VLOOKUP(A89,'Fixture List Individual Files'!$B$14:$F$63,3,FALSE))","v":""},"",{"$f":"IF(A89=\"\",\"\",VLOOKUP(A89,'Fixture List Individual Files'!$B$14:$F$63,4,FALSE))","v":""},{"$f":"IF(A89=\"\",\"\",VLOOKUP(A89,'Fixture List Individual Files'!$B$14:$F$63,5,FALSE))","v":""},"","",""]
[null,{"$f":"IF(A90=\"\",\"\",VLOOKUP(A90,'Fixture List Individual Files'!$B$14:$F$63,2,FALSE))","v":""},null,{"$f":"IF(A90=\"\",\"\",VLOOKUP(A90,'Fixture List Individual Files'!$B$14:$F$63,3,FALSE))","v":""},"",{"$f":"IF(A90=\"\",\"\",VLOOKUP(A90,'Fixture List Individual Files'!$B$14:$F$63,4,FALSE))","v":""},{"$f":"IF(A90=\"\",\"\",VLOOKUP(A90,'Fixture List Individual Files'!$B$14:$F$63,5,FALSE))","v":""},"","",""]
[null,{"$f":"IF(A91=\"\",\"\",VLOOKUP(A91,'Fixture List Individual Files'!$B$14:$F$63,2,FALSE))","v":""},null,{"$f":"IF(A91=\"\",\"\",VLOOKUP(A91,'Fixture List Individual Files'!$B$14:$F$63,3,FALSE))","v":""},"",{"$f":"IF(A91=\"\",\"\",VLOOKUP(A91,'Fixture List Individual Files'!$B$14:$F$63,4,FALSE))","v":""},{"$f":"IF(A91=\"\",\"\",VLOOKUP(A91,'Fixture List Individual Files'!$B$14:$F$63,5,FALSE))","v":""},"","",""]
[null,{"$f":"IF(A92=\"\",\"\",VLOOKUP(A92,'Fixture List Individual Files'!$B$14:$F$63,2,FALSE))","v":""},null,{"$f":"IF(A92=\"\",\"\",VLOOKUP(A92,'Fixture List Individual Files'!$B$14:$F$63,3,FALSE))","v":""},"",{"$f":"IF(A92=\"\",\"\",VLOOKUP(A92,'Fixture List Individual Files'!$B$14:$F$63,4,FALSE))","v":""},{"$f":"IF(A92=\"\",\"\",VLOOKUP(A92,'Fixture List Individual Files'!$B$14:$F$63,5,FALSE))","v":""},"","",""]
[null,{"$f":"IF(A93=\"\",\"\",VLOOKUP(A93,'Fixture List Individual Files'!$B$14:$F$63,2,FALSE))","v":""},null,{"$f":"IF(A93=\"\",\"\",VLOOKUP(A93,'Fixture List Individual Files'!$B$14:$F$63,3,FALSE))","v":""},"",{"$f":"IF(A93=\"\",\"\",VLOOKUP(A93,'Fixture List Individual Files'!$B$14:$F$63,4,FALSE))","v":""},{"$f":"IF(A93=\"\",\"\",VLOOKUP(A93,'Fixture List Individual Files'!$B$14:$F$63,5,FALSE))","v":""},"","",""]
[null,{"$f":"IF(A94=\"\",\"\",VLOOKUP(A94,'Fixture List Individual Files'!$B$14:$F$63,2,FALSE))","v":""},null,{"$f":"IF(A94=\"\",\"\",VLOOKUP(A94,'Fixture List Individual Files'!$B$14:$F$63,3,FALSE))","v":""},"",{"$f":"IF(A94=\"\",\"\",VLOOKUP(A94,'Fixture List Individual Files'!$B$14:$F$63,4,FALSE))","v":""},{"$f":"IF(A94=\"\",\"\",VLOOKUP(A94,'Fixture List Individual Files'!$B$14:$F$63,5,FALSE))","v":""},"","",""]
[null,"Totals:",{"$f":"SUM(C59:C94)","v":0},null,{"$f":"SUM(E59:E94)","v":0},{"$f":"SUMIF(F59:F94,\"Yes\",E59:E94)","v":0},null,{"$f":"SUM(H59:H94)","v":{"v":0,"d":"0.000"}},{"$f":"SUM(I59:I94)","v":0},0]
[]
["Area 3",{"$nulls":4},"NLC area factor:",{"$nulls":3},{"$f":"IF(VLOOKUP(A97,'Start Here!'!$N$46:$Q$70,4,FALSE)=0,VLOOKUP(Facility_Type,Admin_Lists!$A$63:$B$66,2,FALSE),VLOOKUP(A97,'Start Here!'!$N$46:$Q$70,4,FALSE))","v":{"$error":"#N/A"}}]
["Type:",{"$nulls":3},{"$f":"IFERROR(VLOOKUP(B98,Admin_Lists!$A$9:$B$49,2,FALSE),\"\")","v":""},"W/sq ft",{"$nulls":3},{"$f":"VLOOKUP(A97,'Start Here!'!$N$46:$O$70,2,FALSE)","v":0}]
[null,{"$f":"\"Area Description: \"&'Sq. Ft. Area Individual Files'!D13","v":"Area Description: "},{"$nulls":3},"Sq Ft: ",{"$f":"'Sq. Ft. Area Individual Files'!C13","v":{"v":0,"d":"0 "}}]
["Fixture Mark","Fixture\nName","Fixture\nCount","Fixture Watts","Total Watts \n(Fixt Count \nx Fixt Watts)","NLC Controls (Yes/No)","Space type","NLC Controls Savings"]
[{"$nulls":7},"Peak kW Savings","Annual kWh Savings","LC kWh Savings"]
[null,{"$f":"IF(A102=\"\",\"\",VLOOKUP(A102,'Fixture List Individual Files'!$B$14:$F$63,2,FALSE))","v":""},null,{"$f":"IF(A102=\"\",\"\",VLOOKUP(A102,'Fixture List Individual Files'!$B$14:$F$63,3,FALSE))","v":""},{"$f":"IF(D102=\"\",\"\",C102*D102)","v":""},{"$f":"IF(A102=\"\",\"\",VLOOKUP(A102,'Fixture List Individual Files'!$B$14:$F$63,4,FALSE))","v":""},{"$f":"IF(A102=\"\",\"\",VLOOKUP(A102,'Fixture List Individual Files'!$B$14:$F$63,5,FALSE))","v":""},{"$f":"IF(AND(F102=\"Yes\",Facility_Type=\"Commercial\"),(SFE_Commercial-SFBASE_Commercial)*E102/1000*$J$98,IF(AND(F102=\"Yes\",Facility_Type=\"Industrial\",G102=\"Non-High Bay\"),(SFE_Industrial-SFBASE_Industrial)*E102/1000*$J$98,IF(AND(F102=\"Yes\",Facility_Type=\"Schools & Government\",G102=\"Non-High Bay\"),((SFE_SG-SFBASE_SG)*E102/1000*$J$98),\"\")))","v":""},{"$f":"IF(AND(F102=\"Yes\",Facility_Type=\"Commercial\"),(SFE_Commercial-SFBASE_Commercial)*E102/1000*$J$97,IF(AND(F102=\"Yes\",Facility_Type=\"Industrial\",G102=\"Non-High Bay\"),(SFE_Industrial-SFBASE_Industrial)*E102/1000*$J$97,IF(AND(F102=\"Yes\",Facility_Type=\"Schools & Government\",G102=\"Non-High Bay\"),((SFE_SG-SFBASE_SG)*E102/1000*$J$97),\"\")))","v":""},{"$f":"IFERROR(I102*EUL_for_NLC,\"\")","v":""}]
[null,{"$f":"IF(A103=\"\",\"\",VLOOKUP(A103,'Fixture List Individual Files'!$B$14:$F$63,2,FALSE))","v":""},null,{"$f":"IF(A103=\"\",\"\",VLOOKUP(A103,'Fixture List Individual Files'!$B$14:$F$63,3,FALSE))","v":""},{"$f":"IF(D103=\"\",\"\",C103*D103)","v":""},{"$f":"IF(A103=\"\",\"\",VLOOKUP(A103,'Fixture List Individual Files'!$B$14:$F$63,4,FALSE))","v":""},{"$f":"IF(A103=\"\",\"\",VLOOKUP(A103,'Fixture List Individual Files'!$B$14:$F$63,5,FALSE))","v":""},"","",""]
[null,{"$f":"IF(A104=\"\",\"\",VLOOKUP(A104,'Fixture List Individual Files'!$B$14:$F$63,2,FALSE))","v":""},null,{"$f":"IF(A104=\"\",\"\",VLOOKUP(A104,'Fixture List Individual Files'!$B$14:$F$63,3,FALSE))","v":""},"",{"$f":"IF(A104=\"\",\"\",VLOOKUP(A104,'Fixture List Individual Files'!$B$14:$F$63,4,FALSE))","v":""},{"$f":"IF(A104=\"\",\"\",VLOOKUP(A104,'Fixture List Individual Files'!$B$14:$F$63,5,FALSE))","v":""},"","",""]
[null,{"$f":"IF(A105=\"\",\"\",VLOOKUP(A105,'Fixture List Individual Files'!$B$14:$F$63,2,FALSE))","v":""},null,{"$f":"IF(A105=\"\",\"\",VLOOKUP(A105,'Fixture List Individual Files'!$B$14:$F$63,3,FALSE))","v":""},"",{"$f":"IF(A105=\"\",\"\",VLOOKUP(A105,'Fixture List Individual Files'!$B$14:$F$63,4,FALSE))","v":""},{"$f":"IF(A105=\"\",\"\",VLOOKUP(A105,'Fixture List Individual Files'!$B$14:$F$63,5,FALSE))","v":""},"","",""]
[null,{"$f":"IF(A106=\"\",\"\",VLOOKUP(A106,'Fixture List Individual Files'!$B$14:$F$63,2,FALSE))","v":""},null,{"$f":"IF(A106=\"\",\"\",VLOOKUP(A106,'Fixture List Individual Files'!$B$14:$F$63,3,FALSE))","v":""},"",{"$f":"IF(A106=\"\",\"\",VLOOKUP(A106,'Fixture List Individual Files'!$B$14:$F$63,4,FALSE))","v":""},{"$f":"IF(A106=\"\",\"\",VLOOKUP(A106,'Fixture List Individual Files'!$B$14:$F$63,5,FALSE))","v":""},"","",""]
[null,{"$f":"IF(A107=\"\",\"\",VLOOKUP(A107,'Fixture List Individual Files'!$B$14:$F$63,2,FALSE))","v":""},null,{"$f":"IF(A107=\"\",\"\",VLOOKUP(A107,'Fixture List Individual Files'!$B$14:$F$63,3,FALSE))","v":""},"",{"$f":"IF(A107=\"\",\"\",VLOOKUP(A107,'Fixture List Individual Files'!$B$14:$F$63,4,FALSE))","v":""},{"$f":"IF(A107=\"\",\"\",VLOOKUP(A107,'Fixture List Individual Files'!$B$14:$F$63,5,FALSE))","v":""},"","",""]
[null,{"$f":"IF(A108=\"\",\"\",VLOOKUP(A108,'Fixture List Individual Files'!$B$14:$F$63,2,FALSE))","v":""},null,{"$f":"IF(A108=\"\",\"\",VLOOKUP(A108,'Fixture List Individual Files'!$B$14:$F$63,3,FALSE))","v":""},"",{"$f":"IF(A108=\"\",\"\",VLOOKUP(A108,'Fixture List Individual Files'!$B$14:$F$63,4,FALSE))","v":""},{"$f":"IF(A108=\"\",\"\",VLOOKUP(A108,'Fixture List Individual Files'!$B$14:$F$63,5,FALSE))","v":""},"","",""]
[null,{"$f":"IF(A109=\"\",\"\",VLOOKUP(A109,'Fixture List Individual Files'!$B$14:$F$63,2,FALSE))","v":""},null,{"$f":"IF(A109=\"\",\"\",VLOOKUP(A109,'Fixture List Individual Files'!$B$14:$F$63,3,FALSE))","v":""},"",{"$f":"IF(A109=\"\",\"\",VLOOKUP(A109,'Fixture List Individual Files'!$B$14:$F$63,4,FALSE))","v":""},{"$f":"IF(A109=\"\",\"\",VLOOKUP(A109,'Fixture List Individual Files'!$B$14:$F$63,5,FALSE))","v":""},"","",""]
[null,{"$f":"IF(A110=\"\",\"\",VLOOKUP(A110,'Fixture List Individual Files'!$B$14:$F$63,2,FALSE))","v":""},null,{"$f":"IF(A110=\"\",\"\",VLOOKUP(A110,'Fixture List Individual Files'!$B$14:$F$63,3,FALSE))","v":""},"",{"$f":"IF(A110=\"\",\"\",VLOOKUP(A110,'Fixture List Individual Files'!$B$14:$F$63,4,FALSE))","v":""},{"$f":"IF(A110=\"\",\"\",VLOOKUP(A110,'Fixture List Individual Files'!$B$14:$F$63,5,FALSE))","v":""},"","",""]
[null,{"$f":"IF(A111=\"\",\"\",VLOOKUP(A111,'Fixture List Individual Files'!$B$14:$F$63,2,FALSE))","v":""},null,{"$f":"IF(A111=\"\",\"\",VLOOKUP(A111,'Fixture List Individual Files'!$B$14:$F$63,3,FALSE))","v":""},"",{"$f":"IF(A111=\"\",\"\",VLOOKUP(A111,'Fixture List Individual Files'!$B$14:$F$63,4,FALSE))","v":""},{"$f":"IF(A111=\"\",\"\",VLOOKUP(A111,'Fixture List Individual Files'!$B$14:$F$63,5,FALSE))","v":""},"","",""]
[null,{"$f":"IF(A112=\"\",\"\",VLOOKUP(A112,'Fixture List Individual Files'!$B$14:$F$63,2,FALSE))","v":""},null,{"$f":"IF(A112=\"\",\"\",VLOOKUP(A112,'Fixture List Individual Files'!$B$14:$F$63,3,FALSE))","v":""},"",{"$f":"IF(A112=\"\",\"\",VLOOKUP(A112,'Fixture List Individual Files'!$B$14:$F$63,4,FALSE))","v":""},{"$f":"IF(A112=\"\",\"\",VLOOKUP(A112,'Fixture List Individual Files'!$B$14:$F$63,5,FALSE))","v":""},"","",""]
[null,{"$f":"IF(A113=\"\",\"\",VLOOKUP(A113,'Fixture List Individual Files'!$B$14:$F$63,2,FALSE))","v":""},null,{"$f":"IF(A113=\"\",\"\",VLOOKUP(A113,'Fixture List Individual Files'!$B$14:$F$63,3,FALSE))","v":""},"",{"$f":"IF(A113=\"\",\"\",VLOOKUP(A113,'Fixture List Individual Files'!$B$14:$F$63,4,FALSE))","v":""},{"$f":"IF(A113=\"\",\"\",VLOOKUP(A113,'Fixture List Individual Files'!$B$14:$F$63,5,FALSE))","v":""},"","",""]
[null,{"$f":"IF(A114=\"\",\"\",VLOOKUP(A114,'Fixture List Individual Files'!$B$14:$F$63,2,FALSE))","v":""},null,{"$f":"IF(A114=\"\",\"\",VLOOKUP(A114,'Fixture List Individual Files'!$B$14:$F$63,3,FALSE))","v":""},"",{"$f":"IF(A114=\"\",\"\",VLOOKUP(A114,'Fixture List Individual Files'!$B$14:$F$63,4,FALSE))","v":""},{"$f":"IF(A114=\"\",\"\",VLOOKUP(A114,'Fixture List Individual Files'!$B$14:$F$63,5,FALSE))","v":""},"","",""]
[null,{"$f":"IF(A115=\"\",\"\",VLOOKUP(A115,'Fixture List Individual Files'!$B$14:$F$63,2,FALSE))","v":""},null,{"$f":"IF(A115=\"\",\"\",VLOOKUP(A115,'Fixture List Individual Files'!$B$14:$F$63,3,FALSE))","v":""},"",{"$f":"IF(A115=\"\",\"\",VLOOKUP(A115,'Fixture List Individual Files'!$B$14:$F$63,4,FALSE))","v":""},{"$f":"IF(A115=\"\",\"\",VLOOKUP(A115,'Fixture List Individual Files'!$B$14:$F$63,5,FALSE))","v":""},"","",""]
[null,{"$f":"IF(A116=\"\",\"\",VLOOKUP(A116,'Fixture List Individual Files'!$B$14:$F$63,2,FALSE))","v":""},null,{"$f":"IF(A116=\"\",\"\",VLOOKUP(A116,'Fixture List Individual Files'!$B$14:$F$63,3,FALSE))","v":""},"",{"$f":"IF(A116=\"\",\"\",VLOOKUP(A116,'Fixture List Individual Files'!$B$14:$F$63,4,FALSE))","v":""},{"$f":"IF(A116=\"\",\"\",VLOOKUP(A116,'Fixture List Individual Files'!$B$14:$F$63,5,FALSE))","v":""},"","",""]
[null,{"$f":"IF(A117=\"\",\"\",VLOOKUP(A117,'Fixture List Individual Files'!$B$14:$F$63,2,FALSE))","v":""},null,{"$f":"IF(A117=\"\",\"\",VLOOKUP(A117,'Fixture List Individual Files'!$B$14:$F$63,3,FALSE))","v":""},"",{"$f":"IF(A117=\"\",\"\",VLOOKUP(A117,'Fixture List Individual Files'!$B$14:$F$63,4,FALSE))","v":""},{"$f":"IF(A117=\"\",\"\",VLOOKUP(A117,'Fixture List Individual Files'!$B$14:$F$63,5,FALSE))","v":""},"","",""]
[null,{"$f":"IF(A118=\"\",\"\",VLOOKUP(A118,'Fixture List Individual Files'!$B$14:$F$63,2,FALSE))","v":""},null,{"$f":"IF(A118=\"\",\"\",VLOOKUP(A118,'Fixture List Individual Files'!$B$14:$F$63,3,FALSE))","v":""},"",{"$f":"IF(A118=\"\",\"\",VLOOKUP(A118,'Fixture List Individual Files'!$B$14:$F$63,4,FALSE))","v":""},{"$f":"IF(A118=\"\",\"\",VLOOKUP(A118,'Fixture List Individual Files'!$B$14:$F$63,5,FALSE))","v":""},"","",""]
[null,{"$f":"IF(A119=\"\",\"\",VLOOKUP(A119,'Fixture List Individual Files'!$B$14:$F$63,2,FALSE))","v":""},null,{"$f":"IF(A119=\"\",\"\",VLOOKUP(A119,'Fixture List Individual Files'!$B$14:$F$63,3,FALSE))","v":""},"",{"$f":"IF(A119=\"\",\"\",VLOOKUP(A119,'Fixture List Individual Files'!$B$14:$F$63,4,FALSE))","v":""},{"$f":"IF(A119=\"\",\"\",VLOOKUP(A119,'Fixture List Individual Files'!$B$14:$F$63,5,FALSE))","v":""},"","",""]
[null,{"$f":"IF(A120=\"\",\"\",VLOOKUP(A120,'Fixture List Individual Files'!$B$14:$F$63,2,FALSE))","v":""},null,{"$f":"IF(A120=\"\",\"\",VLOOKUP(A120,'Fixture List Individual Files'!$B$14:$F$63,3,FALSE))","v":""},"",{"$f":"IF(A120=\"\",\"\",VLOOKUP(A120,'Fixture List Individual Files'!$B$14:$F$63,4,FALSE))","v":""},{"$f":"IF(A120=\"\",\"\",VLOOKUP(A120,'Fixture List Individual Files'!$B$14:$F$63,5,FALSE))","v":""},"","",""]
[null,{"$f":"IF(A121=\"\",\"\",VLOOKUP(A121,'Fixture List Individual Files'!$B$14:$F$63,2,FALSE))","v":""},null,{"$f":"IF(A121=\"\",\"\",VLOOKUP(A121,'Fixture List Individual Files'!$B$14:$F$63,3,FALSE))","v":""},"",{"$f":"IF(A121=\"\",\"\",VLOOKUP(A121,'Fixture List Individual Files'!$B$14:$F$63,4,FALSE))","v":""},{"$f":"IF(A121=\"\",\"\",VLOOKUP(A121,'Fixture List Individual Files'!$B$14:$F$63,5,FALSE))","v":""},"","",""]
[null,{"$f":"IF(A122=\"\",\"\",VLOOKUP(A122,'Fixture List Individual Files'!$B$14:$F$63,2,FALSE))","v":""},null,{"$f":"IF(A122=\"\",\"\",VLOOKUP(A122,'Fixture List Individual Files'!$B$14:$F$63,3,FALSE))","v":""},"",{"$f":"IF(A122=\"\",\"\",VLOOKUP(A122,'Fixture List Individual Files'!$B$14:$F$63,4,FALSE))","v":""},{"$f":"IF(A122=\"\",\"\",VLOOKUP(A122,'Fixture List Individual Files'!$B$14:$F$63,5,FALSE))","v":""},"","",""]
[null,{"$f":"IF(A123=\"\",\"\",VLOOKUP(A123,'Fixture List Individual Files'!$B$14:$F$63,2,FALSE))","v":""},null,{"$f":"IF(A123=\"\",\"\",VLOOKUP(A123,'Fixture List Individual Files'!$B$14:$F$63,3,FALSE))","v":""},"",{"$f":"IF(A123=\"\",\"\",VLOOKUP(A123,'Fixture List Individual Files'!$B$14:$F$63,4,FALSE))","v":""},{"$f":"IF(A123=\"\",\"\",VLOOKUP(A123,'Fixture List Individual Files'!$B$14:$F$63,5,FALSE))","v":""},"","",""]
[null,{"$f":"IF(A124=\"\",\"\",VLOOKUP(A124,'Fixture List Individual Files'!$B$14:$F$63,2,FALSE))","v":""},null,{"$f":"IF(A124=\"\",\"\",VLOOKUP(A124,'Fixture List Individual Files'!$B$14:$F$63,3,FALSE))","v":""},"",{"$f":"IF(A124=\"\",\"\",VLOOKUP(A124,'Fixture List Individual Files'!$B$14:$F$63,4,FALSE))","v":""},{"$f":"IF(A124=\"\",\"\",VLOOKUP(A124,'Fixture List Individual Files'!$B$14:$F$63,5,FALSE))","v":""},"","",""]
[null,{"$f":"IF(A125=\"\",\"\",VLOOKUP(A125,'Fixture List Individual Files'!$B$14:$F$63,2,FALSE))","v":""},null,{"$f":"IF(A125=\"\",\"\",VLOOKUP(A125,'Fixture List Individual Files'!$B$14:$F$63,3,FALSE))","v":""},"",{"$f":"IF(A125=\"\",\"\",VLOOKUP(A125,'Fixture List Individual Files'!$B$14:$F$63,4,FALSE))","v":""},{"$f":"IF(A125=\"\",\"\",VLOOKUP(A125,'Fixture List Individual Files'!$B$14:$F$63,5,FALSE))","v":""},"","",""]
[null,{"$f":"IF(A126=\"\",\"\",VLOOKUP(A126,'Fixture List Individual Files'!$B$14:$F$63,2,FALSE))","v":""},null,{"$f":"IF(A126=\"\",\"\",VLOOKUP(A126,'Fixture List Individual Files'!$B$14:$F$63,3,FALSE))","v":""},"",{"$f":"IF(A126=\"\",\"\",VLOOKUP(A126,'Fixture List Individual Files'!$B$14:$F$63,4,FALSE))","v":""},{"$f":"IF(A126=\"\",\"\",VLOOKUP(A126,'Fixture List Individual Files'!$B$14:$F$63,5,FALSE))","v":""},"","",""]
[null,{"$f":"IF(A127=\"\",\"\",VLOOKUP(A127,'Fixture List Individual Files'!$B$14:$F$63,2,FALSE))","v":""},null,{"$f":"IF(A127=\"\",\"\",VLOOKUP(A127,'Fixture List Individual Files'!$B$14:$F$63,3,FALSE))","v":""},"",{"$f":"IF(A127=\"\",\"\",VLOOKUP(A127,'Fixture List Individual Files'!$B$14:$F$63,4,FALSE))","v":""},{"$f":"IF(A127=\"\",\"\",VLOOKUP(A127,'Fixture List Individual Files'!$B$14:$F$63,5,FALSE))","v":""},"","",""]
[null,{"$f":"IF(A128=\"\",\"\",VLOOKUP(A128,'Fixture List Individual Files'!$B$14:$F$63,2,FALSE))","v":""},null,{"$f":"IF(A128=\"\",\"\",VLOOKUP(A128,'Fixture List Individual Files'!$B$14:$F$63,3,FALSE))","v":""},"",{"$f":"IF(A128=\"\",\"\",VLOOKUP(A128,'Fixture List Individual Files'!$B$14:$F$63,4,FALSE))","v":""},{"$f":"IF(A128=\"\",\"\",VLOOKUP(A128,'Fixture List Individual Files'!$B$14:$F$63,5,FALSE))","v":""},"","",""]
[null,{"$f":"IF(A129=\"\",\"\",VLOOKUP(A129,'Fixture List Individual Files'!$B$14:$F$63,2,FALSE))","v":""},null,{"$f":"IF(A129=\"\",\"\",VLOOKUP(A129,'Fixture List Individual Files'!$B$14:$F$63,3,FALSE))","v":""},"",{"$f":"IF(A129=\"\",\"\",VLOOKUP(A129,'Fixture List Individual Files'!$B$14:$F$63,4,FALSE))","v":""},{"$f":"IF(A129=\"\",\"\",VLOOKUP(A129,'Fixture List Individual Files'!$B$14:$F$63,5,FALSE))","v":""},"","",""]
[null,{"$f":"IF(A130=\"\",\"\",VLOOKUP(A130,'Fixture List Individual Files'!$B$14:$F$63,2,FALSE))","v":""},null,{"$f":"IF(A130=\"\",\"\",VLOOKUP(A130,'Fixture List Individual Files'!$B$14:$F$63,3,FALSE))","v":""},"",{"$f":"IF(A130=\"\",\"\",VLOOKUP(A130,'Fixture List Individual Files'!$B$14:$F$63,4,FALSE))","v":""},{"$f":"IF(A130=\"\",\"\",VLOOKUP(A130,'Fixture List Individual Files'!$B$14:$F$63,5,FALSE))","v":""},"","",""]
[null,{"$f":"IF(A131=\"\",\"\",VLOOKUP(A131,'Fixture List Individual Files'!$B$14:$F$63,2,FALSE))","v":""},null,{"$f":"IF(A131=\"\",\"\",VLOOKUP(A131,'Fixture List Individual Files'!$B$14:$F$63,3,FALSE))","v":""},"",{"$f":"IF(A131=\"\",\"\",VLOOKUP(A131,'Fixture List Individual Files'!$B$14:$F$63,4,FALSE))","v":""},{"$f":"IF(A131=\"\",\"\",VLOOKUP(A131,'Fixture List Individual Files'!$B$14:$F$63,5,FALSE))","v":""},"","",""]
[null,{"$f":"IF(A132=\"\",\"\",VLOOKUP(A132,'Fixture List Individual Files'!$B$14:$F$63,2,FALSE))","v":""},null,{"$f":"IF(A132=\"\",\"\",VLOOKUP(A132,'Fixture List Individual Files'!$B$14:$F$63,3,FALSE))","v":""},"",{"$f":"IF(A132=\"\",\"\",VLOOKUP(A132,'Fixture List Individual Files'!$B$14:$F$63,4,FALSE))","v":""},{"$f":"IF(A132=\"\",\"\",VLOOKUP(A132,'Fixture List Individual Files'!$B$14:$F$63,5,FALSE))","v":""},"","",""]
[null,{"$f":"IF(A133=\"\",\"\",VLOOKUP(A133,'Fixture List Individual Files'!$B$14:$F$63,2,FALSE))","v":""},null,{"$f":"IF(A133=\"\",\"\",VLOOKUP(A133,'Fixture List Individual Files'!$B$14:$F$63,3,FALSE))","v":""},"",{"$f":"IF(A133=\"\",\"\",VLOOKUP(A133,'Fixture List Individual Files'!$B$14:$F$63,4,FALSE))","v":""},{"$f":"IF(A133=\"\",\"\",VLOOKUP(A133,'Fixture List Individual Files'!$B$14:$F$63,5,FALSE))","v":""},"","",""]
[null,{"$f":"IF(A134=\"\",\"\",VLOOKUP(A134,'Fixture List Individual Files'!$B$14:$F$63,2,FALSE))","v":""},null,{"$f":"IF(A134=\"\",\"\",VLOOKUP(A134,'Fixture List Individual Files'!$B$14:$F$63,3,FALSE))","v":""},"",{"$f":"IF(A134=\"\",\"\",VLOOKUP(A134,'Fixture List Individual Files'!$B$14:$F$63,4,FALSE))","v":""},{"$f":"IF(A134=\"\",\"\",VLOOKUP(A134,'Fixture List Individual Files'!$B$14:$F$63,5,FALSE))","v":""},"","",""]
[null,{"$f":"IF(A135=\"\",\"\",VLOOKUP(A135,'Fixture List Individual Files'!$B$14:$F$63,2,FALSE))","v":""},null,{"$f":"IF(A135=\"\",\"\",VLOOKUP(A135,'Fixture List Individual Files'!$B$14:$F$63,3,FALSE))","v":""},"",{"$f":"IF(A135=\"\",\"\",VLOOKUP(A135,'Fixture List Individual Files'!$B$14:$F$63,4,FALSE))","v":""},{"$f":"IF(A135=\"\",\"\",VLOOKUP(A135,'Fixture List Individual Files'!$B$14:$F$63,5,FALSE))","v":""},"","",""]
[null,{"$f":"IF(A136=\"\",\"\",VLOOKUP(A136,'Fixture List Individual Files'!$B$14:$F$63,2,FALSE))","v":""},null,{"$f":"IF(A136=\"\",\"\",VLOOKUP(A136,'Fixture List Individual Files'!$B$14:$F$63,3,FALSE))","v":""},"",{"$f":"IF(A136=\"\",\"\",VLOOKUP(A136,'Fixture List Individual Files'!$B$14:$F$63,4,FALSE))","v":""},{"$f":"IF(A136=\"\",\"\",VLOOKUP(A136,'Fixture List Individual Files'!$B$14:$F$63,5,FALSE))","v":""},"","",""]
[null,{"$f":"IF(A137=\"\",\"\",VLOOKUP(A137,'Fixture List Individual Files'!$B$14:$F$63,2,FALSE))","v":""},null,{"$f":"IF(A137=\"\",\"\",VLOOKUP(A137,'Fixture List Individual Files'!$B$14:$F$63,3,FALSE))","v":""},"",{"$f":"IF(A137=\"\",\"\",VLOOKUP(A137,'Fixture List Individual Files'!$B$14:$F$63,4,FALSE))","v":""},{"$f":"IF(A137=\"\",\"\",VLOOKUP(A137,'Fixture List Individual Files'!$B$14:$F$63,5,FALSE))","v":""},"","",""]
[null,"Totals:",{"$f":"SUM(C102:C137)","v":0},null,{"$f":"SUM(E102:E137)","v":0},{"$f":"SUMIF(F102:F137,\"Yes\",E102:E137)","v":0},null,{"$f":"SUM(H102:H137)","v":{"v":0,"d":"0.000"}},{"$f":"SUM(I102:I137)","v":0},0]
[]
["Area 4",{"$nulls":4},"NLC area factor:",{"$nulls":3},{"$f":"IF(VLOOKUP(A140,'Start Here!'!$N$46:$Q$70,4,FALSE)=0,VLOOKUP(Facility_Type,Admin_Lists!$A$63:$B$66,2,FALSE),VLOOKUP(A140,'Start Here!'!$N$46:$Q$70,4,FALSE))","v":{"$error":"#N/A"}}]
["Type:","Choose from Drop-down",null,null,{"$f":"IFERROR(VLOOKUP(B141,Admin_Lists!$A$9:$B$49,2,FALSE),\"\")","v":0},"W/sq ft",{"$nulls":3},{"$f":"VLOOKUP(A140,'Start Here!'!$N$46:$O$70,2,FALSE)","v":0}]
[null,{"$f":"\"Area Description: \"&'Sq. Ft. Area Individual Files'!D14","v":"Area Description: "},{"$nulls":3},"Sq Ft: ",{"$f":"'Sq. Ft. Area Individual Files'!C14","v":0}]
["Fixture Mark","Fixture\nName","Fixture\nCount","Fixture Watts","Total Watts \n(Fixt Count \nx Fixt Watts)","NLC Controls (Yes/No)","Space type","NLC Controls Savings"]
[{"$nulls":7},"Peak kW Savings","Annual kWh Savings","LC kWh Savings"]
[null,{"$f":"IF(A145=\"\",\"\",VLOOKUP(A145,'Fixture List Individual Files'!$B$14:$F$63,2,FALSE))","v":""},null,{"$f":"IF(A145=\"\",\"\",VLOOKUP(A145,'Fixture List Individual Files'!$B$14:$F$63,3,FALSE))","v":""},{"$f":"IF(D145=\"\",\"\",C145*D145)","v":""},{"$f":"IF(A145=\"\",\"\",VLOOKUP(A145,'Fixture List Individual Files'!$B$14:$F$63,4,FALSE))","v":""},{"$f":"IF(A145=\"\",\"\",VLOOKUP(A145,'Fixture List Individual Files'!$B$14:$F$63,5,FALSE))","v":""},{"$f":"IF(AND(F145=\"Yes\",Facility_Type=\"Commercial\"),(SFE_Commercial-SFBASE_Commercial)*E145/1000*J141,IF(AND(F145=\"Yes\",Facility_Type=\"Industrial\",G145=\"Non-High Bay\"),(SFE_Industrial-SFBASE_Industrial)*E145/1000*J141,IF(AND(F145=\"Yes\",Facility_Type=\"Schools & Government\",G145=\"Non-High Bay\"),((SFE_SG-SFBASE_SG)*E145/1000*J141),\"\")))","v":""},{"$f":"IF(AND(F145=\"Yes\",Facility_Type=\"Commercial\"),(SFE_Commercial-SFBASE_Commercial)*E145/1000*J140,IF(AND(F145=\"Yes\",Facility_Type=\"Industrial\",G145=\"Non-High Bay\"),(SFE_Industrial-SFBASE_Industrial)*E145/1000*J140,IF(AND(F145=\"Yes\",Facility_Type=\"Schools & Government\",G145=\"Non-High Bay\"),((SFE_SG-SFBASE_SG)*E145/1000*J140),\"\")))","v":""},{"$f":"IFERROR(I145*EUL_for_NLC,\"\")","v":""}]
[null,{"$f":"IF(A146=\"\",\"\",VLOOKUP(A146,'Fixture List Individual Files'!$B$14:$F$63,2,FALSE))","v":""},null,{"$f":"IF(A146=\"\",\"\",VLOOKUP(A146,'Fixture List Individual Files'!$B$14:$F$63,3,FALSE))","v":""},{"$f":"IF(D146=\"\",\"\",C146*D146)","v":""},{"$f":"IF(A146=\"\",\"\",VLOOKUP(A146,'Fixture List Individual Files'!$B$14:$F$63,4,FALSE))","v":""},{"$f":"IF(A146=\"\",\"\",VLOOKUP(A146,'Fixture List Individual Files'!$B$14:$F$63,5,FALSE))","v":""},{"$f":"IF(AND(F146=\"Yes\",Facility_Type=\"Commercial\"),(E146/1000*0.14),IF(AND(F146=\"Yes\",Facility_Type=\"Industrial\",G146=\"Non-High Bay\"),(E146/1000*0.18),IF(AND(F146=\"Yes\",Facility_Type=\"Schools & Government\",G146=\"Non-High Bay\"),(E146/1000*0.14),\"\")))","v":""},{"$f":"IF(AND(F146=\"Yes\",Facility_Type=\"Commercial\"),((1-SFBASE_Commercial)-(1-SFE_Commercial))*E146/1000*Hrs_Commercial,IF(AND(F146=\"Yes\",Facility_Type=\"Industrial\",G146=\"Non-High Bay\"),((1-SFBASE_Industrial)-(1-SFE_Industrial))*E146/1000*Hrs_Industrial,IF(AND(F146=\"Yes\",Facility_Type=\"Schools & Government\",G146=\"Non-High Bay\"),(((1-SFBASE_SG)-(1-SFE_SG))*E146/1000*Hrs_SG),\"\")))","v":""},""]
[null,{"$f":"IF(A147=\"\",\"\",VLOOKUP(A147,'Fixture List Individual Files'!$B$14:$F$63,2,FALSE))","v":""},null,{"$f":"IF(A147=\"\",\"\",VLOOKUP(A147,'Fixture List Individual Files'!$B$14:$F$63,3,FALSE))","v":""},"",{"$f":"IF(A147=\"\",\"\",VLOOKUP(A147,'Fixture List Individual Files'!$B$14:$F$63,4,FALSE))","v":""},{"$f":"IF(A147=\"\",\"\",VLOOKUP(A147,'Fixture List Individual Files'!$B$14:$F$63,5,FALSE))","v":""},"","",""]
[null,{"$f":"IF(A148=\"\",\"\",VLOOKUP(A148,'Fixture List Individual Files'!$B$14:$F$63,2,FALSE))","v":""},null,{"$f":"IF(A148=\"\",\"\",VLOOKUP(A148,'Fixture List Individual Files'!$B$14:$F$63,3,FALSE))","v":""},"",{"$f":"IF(A148=\"\",\"\",VLOOKUP(A148,'Fixture List Individual Files'!$B$14:$F$63,4,FALSE))","v":""},{"$f":"IF(A148=\"\",\"\",VLOOKUP(A148,'Fixture List Individual Files'!$B$14:$F$63,5,FALSE))","v":""},"","",""]
[null,{"$f":"IF(A149=\"\",\"\",VLOOKUP(A149,'Fixture List Individual Files'!$B$14:$F$63,2,FALSE))","v":""},null,{"$f":"IF(A149=\"\",\"\",VLOOKUP(A149,'Fixture List Individual Files'!$B$14:$F$63,3,FALSE))","v":""},"",{"$f":"IF(A149=\"\",\"\",VLOOKUP(A149,'Fixture List Individual Files'!$B$14:$F$63,4,FALSE))","v":""},{"$f":"IF(A149=\"\",\"\",VLOOKUP(A149,'Fixture List Individual Files'!$B$14:$F$63,5,FALSE))","v":""},"","",""]
[null,{"$f":"IF(A150=\"\",\"\",VLOOKUP(A150,'Fixture List Individual Files'!$B$14:$F$63,2,FALSE))","v":""},null,{"$f":"IF(A150=\"\",\"\",VLOOKUP(A150,'Fixture List Individual Files'!$B$14:$F$63,3,FALSE))","v":""},"",{"$f":"IF(A150=\"\",\"\",VLOOKUP(A150,'Fixture List Individual Files'!$B$14:$F$63,4,FALSE))","v":""},{"$f":"IF(A150=\"\",\"\",VLOOKUP(A150,'Fixture List Individual Files'!$B$14:$F$63,5,FALSE))","v":""},"","",""]
[null,{"$f":"IF(A151=\"\",\"\",VLOOKUP(A151,'Fixture List Individual Files'!$B$14:$F$63,2,FALSE))","v":""},null,{"$f":"IF(A151=\"\",\"\",VLOOKUP(A151,'Fixture List Individual Files'!$B$14:$F$63,3,FALSE))","v":""},"",{"$f":"IF(A151=\"\",\"\",VLOOKUP(A151,'Fixture List Individual Files'!$B$14:$F$63,4,FALSE))","v":""},{"$f":"IF(A151=\"\",\"\",VLOOKUP(A151,'Fixture List Individual Files'!$B$14:$F$63,5,FALSE))","v":""},"","",""]
[null,{"$f":"IF(A152=\"\",\"\",VLOOKUP(A152,'Fixture List Individual Files'!$B$14:$F$63,2,FALSE))","v":""},null,{"$f":"IF(A152=\"\",\"\",VLOOKUP(A152,'Fixture List Individual Files'!$B$14:$F$63,3,FALSE))","v":""},"",{"$f":"IF(A152=\"\",\"\",VLOOKUP(A152,'Fixture List Individual Files'!$B$14:$F$63,4,FALSE))","v":""},{"$f":"IF(A152=\"\",\"\",VLOOKUP(A152,'Fixture List Individual Files'!$B$14:$F$63,5,FALSE))","v":""},"","",""]
[null,{"$f":"IF(A153=\"\",\"\",VLOOKUP(A153,'Fixture List Individual Files'!$B$14:$F$63,2,FALSE))","v":""},null,{"$f":"IF(A153=\"\",\"\",VLOOKUP(A153,'Fixture List Individual Files'!$B$14:$F$63,3,FALSE))","v":""},"",{"$f":"IF(A153=\"\",\"\",VLOOKUP(A153,'Fixture List Individual Files'!$B$14:$F$63,4,FALSE))","v":""},{"$f":"IF(A153=\"\",\"\",VLOOKUP(A153,'Fixture List Individual Files'!$B$14:$F$63,5,FALSE))","v":""},"","",""]
[null,{"$f":"IF(A154=\"\",\"\",VLOOKUP(A154,'Fixture List Individual Files'!$B$14:$F$63,2,FALSE))","v":""},null,{"$f":"IF(A154=\"\",\"\",VLOOKUP(A154,'Fixture List Individual Files'!$B$14:$F$63,3,FALSE))","v":""},"",{"$f":"IF(A154=\"\",\"\",VLOOKUP(A154,'Fixture List Individual Files'!$B$14:$F$63,4,FALSE))","v":""},{"$f":"IF(A154=\"\",\"\",VLOOKUP(A154,'Fixture List Individual Files'!$B$14:$F$63,5,FALSE))","v":""},"","",""]
[null,{"$f":"IF(A155=\"\",\"\",VLOOKUP(A155,'Fixture List Individual Files'!$B$14:$F$63,2,FALSE))","v":""},null,{"$f":"IF(A155=\"\",\"\",VLOOKUP(A155,'Fixture List Individual Files'!$B$14:$F$63,3,FALSE))","v":""},"",{"$f":"IF(A155=\"\",\"\",VLOOKUP(A155,'Fixture List Individual Files'!$B$14:$F$63,4,FALSE))","v":""},{"$f":"IF(A155=\"\",\"\",VLOOKUP(A155,'Fixture List Individual Files'!$B$14:$F$63,5,FALSE))","v":""},"","",""]
[null,{"$f":"IF(A156=\"\",\"\",VLOOKUP(A156,'Fixture List Individual Files'!$B$14:$F$63,2,FALSE))","v":""},null,{"$f":"IF(A156=\"\",\"\",VLOOKUP(A156,'Fixture List Individual Files'!$B$14:$F$63,3,FALSE))","v":""},"",{"$f":"IF(A156=\"\",\"\",VLOOKUP(A156,'Fixture List Individual Files'!$B$14:$F$63,4,FALSE))","v":""},{"$f":"IF(A156=\"\",\"\",VLOOKUP(A156,'Fixture List Individual Files'!$B$14:$F$63,5,FALSE))","v":""},"","",""]
[null,{"$f":"IF(A157=\"\",\"\",VLOOKUP(A157,'Fixture List Individual Files'!$B$14:$F$63,2,FALSE))","v":""},null,{"$f":"IF(A157=\"\",\"\",VLOOKUP(A157,'Fixture List Individual Files'!$B$14:$F$63,3,FALSE))","v":""},"",{"$f":"IF(A157=\"\",\"\",VLOOKUP(A157,'Fixture List Individual Files'!$B$14:$F$63,4,FALSE))","v":""},{"$f":"IF(A157=\"\",\"\",VLOOKUP(A157,'Fixture List Individual Files'!$B$14:$F$63,5,FALSE))","v":""},"","",""]
[null,{"$f":"IF(A158=\"\",\"\",VLOOKUP(A158,'Fixture List Individual Files'!$B$14:$F$63,2,FALSE))","v":""},null,{"$f":"IF(A158=\"\",\"\",VLOOKUP(A158,'Fixture List Individual Files'!$B$14:$F$63,3,FALSE))","v":""},"",{"$f":"IF(A158=\"\",\"\",VLOOKUP(A158,'Fixture List Individual Files'!$B$14:$F$63,4,FALSE))","v":""},{"$f":"IF(A158=\"\",\"\",VLOOKUP(A158,'Fixture List Individual Files'!$B$14:$F$63,5,FALSE))","v":""},"","",""]
[null,{"$f":"IF(A159=\"\",\"\",VLOOKUP(A159,'Fixture List Individual Files'!$B$14:$F$63,2,FALSE))","v":""},null,{"$f":"IF(A159=\"\",\"\",VLOOKUP(A159,'Fixture List Individual Files'!$B$14:$F$63,3,FALSE))","v":""},"",{"$f":"IF(A159=\"\",\"\",VLOOKUP(A159,'Fixture List Individual Files'!$B$14:$F$63,4,FALSE))","v":""},{"$f":"IF(A159=\"\",\"\",VLOOKUP(A159,'Fixture List Individual Files'!$B$14:$F$63,5,FALSE))","v":""},"","",""]
[null,{"$f":"IF(A160=\"\",\"\",VLOOKUP(A160,'Fixture List Individual Files'!$B$14:$F$63,2,FALSE))","v":""},null,{"$f":"IF(A160=\"\",\"\",VLOOKUP(A160,'Fixture List Individual Files'!$B$14:$F$63,3,FALSE))","v":""},"",{"$f":"IF(A160=\"\",\"\",VLOOKUP(A160,'Fixture List Individual Files'!$B$14:$F$63,4,FALSE))","v":""},{"$f":"IF(A160=\"\",\"\",VLOOKUP(A160,'Fixture List Individual Files'!$B$14:$F$63,5,FALSE))","v":""},"","",""]
[null,{"$f":"IF(A161=\"\",\"\",VLOOKUP(A161,'Fixture List Individual Files'!$B$14:$F$63,2,FALSE))","v":""},null,{"$f":"IF(A161=\"\",\"\",VLOOKUP(A161,'Fixture List Individual Files'!$B$14:$F$63,3,FALSE))","v":""},"",{"$f":"IF(A161=\"\",\"\",VLOOKUP(A161,'Fixture List Individual Files'!$B$14:$F$63,4,FALSE))","v":""},{"$f":"IF(A161=\"\",\"\",VLOOKUP(A161,'Fixture List Individual Files'!$B$14:$F$63,5,FALSE))","v":""},"","",""]
[null,{"$f":"IF(A162=\"\",\"\",VLOOKUP(A162,'Fixture List Individual Files'!$B$14:$F$63,2,FALSE))","v":""},null,{"$f":"IF(A162=\"\",\"\",VLOOKUP(A162,'Fixture List Individual Files'!$B$14:$F$63,3,FALSE))","v":""},"",{"$f":"IF(A162=\"\",\"\",VLOOKUP(A162,'Fixture List Individual Files'!$B$14:$F$63,4,FALSE))","v":""},{"$f":"IF(A162=\"\",\"\",VLOOKUP(A162,'Fixture List Individual Files'!$B$14:$F$63,5,FALSE))","v":""},"","",""]
[null,{"$f":"IF(A163=\"\",\"\",VLOOKUP(A163,'Fixture List Individual Files'!$B$14:$F$63,2,FALSE))","v":""},null,{"$f":"IF(A163=\"\",\"\",VLOOKUP(A163,'Fixture List Individual Files'!$B$14:$F$63,3,FALSE))","v":""},"",{"$f":"IF(A163=\"\",\"\",VLOOKUP(A163,'Fixture List Individual Files'!$B$14:$F$63,4,FALSE))","v":""},{"$f":"IF(A163=\"\",\"\",VLOOKUP(A163,'Fixture List Individual Files'!$B$14:$F$63,5,FALSE))","v":""},"","",""]
[null,{"$f":"IF(A164=\"\",\"\",VLOOKUP(A164,'Fixture List Individual Files'!$B$14:$F$63,2,FALSE))","v":""},null,{"$f":"IF(A164=\"\",\"\",VLOOKUP(A164,'Fixture List Individual Files'!$B$14:$F$63,3,FALSE))","v":""},"",{"$f":"IF(A164=\"\",\"\",VLOOKUP(A164,'Fixture List Individual Files'!$B$14:$F$63,4,FALSE))","v":""},{"$f":"IF(A164=\"\",\"\",VLOOKUP(A164,'Fixture List Individual Files'!$B$14:$F$63,5,FALSE))","v":""},"","",""]
[null,{"$f":"IF(A165=\"\",\"\",VLOOKUP(A165,'Fixture List Individual Files'!$B$14:$F$63,2,FALSE))","v":""},null,{"$f":"IF(A165=\"\",\"\",VLOOKUP(A165,'Fixture List Individual Files'!$B$14:$F$63,3,FALSE))","v":""},"",{"$f":"IF(A165=\"\",\"\",VLOOKUP(A165,'Fixture List Individual Files'!$B$14:$F$63,4,FALSE))","v":""},{"$f":"IF(A165=\"\",\"\",VLOOKUP(A165,'Fixture List Individual Files'!$B$14:$F$63,5,FALSE))","v":""},"","",""]
[null,{"$f":"IF(A166=\"\",\"\",VLOOKUP(A166,'Fixture List Individual Files'!$B$14:$F$63,2,FALSE))","v":""},null,{"$f":"IF(A166=\"\",\"\",VLOOKUP(A166,'Fixture List Individual Files'!$B$14:$F$63,3,FALSE))","v":""},"",{"$f":"IF(A166=\"\",\"\",VLOOKUP(A166,'Fixture List Individual Files'!$B$14:$F$63,4,FALSE))","v":""},{"$f":"IF(A166=\"\",\"\",VLOOKUP(A166,'Fixture List Individual Files'!$B$14:$F$63,5,FALSE))","v":""},"","",""]
[null,{"$f":"IF(A167=\"\",\"\",VLOOKUP(A167,'Fixture List Individual Files'!$B$14:$F$63,2,FALSE))","v":""},null,{"$f":"IF(A167=\"\",\"\",VLOOKUP(A167,'Fixture List Individual Files'!$B$14:$F$63,3,FALSE))","v":""},"",{"$f":"IF(A167=\"\",\"\",VLOOKUP(A167,'Fixture List Individual Files'!$B$14:$F$63,4,FALSE))","v":""},{"$f":"IF(A167=\"\",\"\",VLOOKUP(A167,'Fixture List Individual Files'!$B$14:$F$63,5,FALSE))","v":""},"","",""]
[null,{"$f":"IF(A168=\"\",\"\",VLOOKUP(A168,'Fixture List Individual Files'!$B$14:$F$63,2,FALSE))","v":""},null,{"$f":"IF(A168=\"\",\"\",VLOOKUP(A168,'Fixture List Individual Files'!$B$14:$F$63,3,FALSE))","v":""},"",{"$f":"IF(A168=\"\",\"\",VLOOKUP(A168,'Fixture List Individual Files'!$B$14:$F$63,4,FALSE))","v":""},{"$f":"IF(A168=\"\",\"\",VLOOKUP(A168,'Fixture List Individual Files'!$B$14:$F$63,5,FALSE))","v":""},"","",""]
[null,{"$f":"IF(A169=\"\",\"\",VLOOKUP(A169,'Fixture List Individual Files'!$B$14:$F$63,2,FALSE))","v":""},null,{"$f":"IF(A169=\"\",\"\",VLOOKUP(A169,'Fixture List Individual Files'!$B$14:$F$63,3,FALSE))","v":""},"",{"$f":"IF(A169=\"\",\"\",VLOOKUP(A169,'Fixture List Individual Files'!$B$14:$F$63,4,FALSE))","v":""},{"$f":"IF(A169=\"\",\"\",VLOOKUP(A169,'Fixture List Individual Files'!$B$14:$F$63,5,FALSE))","v":""},"","",""]
[null,{"$f":"IF(A170=\"\",\"\",VLOOKUP(A170,'Fixture List Individual Files'!$B$14:$F$63,2,FALSE))","v":""},null,{"$f":"IF(A170=\"\",\"\",VLOOKUP(A170,'Fixture List Individual Files'!$B$14:$F$63,3,FALSE))","v":""},"",{"$f":"IF(A170=\"\",\"\",VLOOKUP(A170,'Fixture List Individual Files'!$B$14:$F$63,4,FALSE))","v":""},{"$f":"IF(A170=\"\",\"\",VLOOKUP(A170,'Fixture List Individual Files'!$B$14:$F$63,5,FALSE))","v":""},"","",""]
[null,{"$f":"IF(A171=\"\",\"\",VLOOKUP(A171,'Fixture List Individual Files'!$B$14:$F$63,2,FALSE))","v":""},null,{"$f":"IF(A171=\"\",\"\",VLOOKUP(A171,'Fixture List Individual Files'!$B$14:$F$63,3,FALSE))","v":""},"",{"$f":"IF(A171=\"\",\"\",VLOOKUP(A171,'Fixture List Individual Files'!$B$14:$F$63,4,FALSE))","v":""},{"$f":"IF(A171=\"\",\"\",VLOOKUP(A171,'Fixture List Individual Files'!$B$14:$F$63,5,FALSE))","v":""},"","",""]
[null,{"$f":"IF(A172=\"\",\"\",VLOOKUP(A172,'Fixture List Individual Files'!$B$14:$F$63,2,FALSE))","v":""},null,{"$f":"IF(A172=\"\",\"\",VLOOKUP(A172,'Fixture List Individual Files'!$B$14:$F$63,3,FALSE))","v":""},"",{"$f":"IF(A172=\"\",\"\",VLOOKUP(A172,'Fixture List Individual Files'!$B$14:$F$63,4,FALSE))","v":""},{"$f":"IF(A172=\"\",\"\",VLOOKUP(A172,'Fixture List Individual Files'!$B$14:$F$63,5,FALSE))","v":""},"","",""]
[null,{"$f":"IF(A173=\"\",\"\",VLOOKUP(A173,'Fixture List Individual Files'!$B$14:$F$63,2,FALSE))","v":""},null,{"$f":"IF(A173=\"\",\"\",VLOOKUP(A173,'Fixture List Individual Files'!$B$14:$F$63,3,FALSE))","v":""},"",{"$f":"IF(A173=\"\",\"\",VLOOKUP(A173,'Fixture List Individual Files'!$B$14:$F$63,4,FALSE))","v":""},{"$f":"IF(A173=\"\",\"\",VLOOKUP(A173,'Fixture List Individual Files'!$B$14:$F$63,5,FALSE))","v":""},"","",""]
[null,{"$f":"IF(A174=\"\",\"\",VLOOKUP(A174,'Fixture List Individual Files'!$B$14:$F$63,2,FALSE))","v":""},null,{"$f":"IF(A174=\"\",\"\",VLOOKUP(A174,'Fixture List Individual Files'!$B$14:$F$63,3,FALSE))","v":""},"",{"$f":"IF(A174=\"\",\"\",VLOOKUP(A174,'Fixture List Individual Files'!$B$14:$F$63,4,FALSE))","v":""},{"$f":"IF(A174=\"\",\"\",VLOOKUP(A174,'Fixture List Individual Files'!$B$14:$F$63,5,FALSE))","v":""},"","",""]
[null,{"$f":"IF(A175=\"\",\"\",VLOOKUP(A175,'Fixture List Individual Files'!$B$14:$F$63,2,FALSE))","v":""},null,{"$f":"IF(A175=\"\",\"\",VLOOKUP(A175,'Fixture List Individual Files'!$B$14:$F$63,3,FALSE))","v":""},"",{"$f":"IF(A175=\"\",\"\",VLOOKUP(A175,'Fixture List Individual Files'!$B$14:$F$63,4,FALSE))","v":""},{"$f":"IF(A175=\"\",\"\",VLOOKUP(A175,'Fixture List Individual Files'!$B$14:$F$63,5,FALSE))","v":""},"","",""]
[null,{"$f":"IF(A176=\"\",\"\",VLOOKUP(A176,'Fixture List Individual Files'!$B$14:$F$63,2,FALSE))","v":""},null,{"$f":"IF(A176=\"\",\"\",VLOOKUP(A176,'Fixture List Individual Files'!$B$14:$F$63,3,FALSE))","v":""},"",{"$f":"IF(A176=\"\",\"\",VLOOKUP(A176,'Fixture List Individual Files'!$B$14:$F$63,4,FALSE))","v":""},{"$f":"IF(A176=\"\",\"\",VLOOKUP(A176,'Fixture List Individual Files'!$B$14:$F$63,5,FALSE))","v":""},"","",""]
[null,{"$f":"IF(A177=\"\",\"\",VLOOKUP(A177,'Fixture List Individual Files'!$B$14:$F$63,2,FALSE))","v":""},null,{"$f":"IF(A177=\"\",\"\",VLOOKUP(A177,'Fixture List Individual Files'!$B$14:$F$63,3,FALSE))","v":""},"",{"$f":"IF(A177=\"\",\"\",VLOOKUP(A177,'Fixture List Individual Files'!$B$14:$F$63,4,FALSE))","v":""},{"$f":"IF(A177=\"\",\"\",VLOOKUP(A177,'Fixture List Individual Files'!$B$14:$F$63,5,FALSE))","v":""},"","",""]
[null,{"$f":"IF(A178=\"\",\"\",VLOOKUP(A178,'Fixture List Individual Files'!$B$14:$F$63,2,FALSE))","v":""},null,{"$f":"IF(A178=\"\",\"\",VLOOKUP(A178,'Fixture List Individual Files'!$B$14:$F$63,3,FALSE))","v":""},"",{"$f":"IF(A178=\"\",\"\",VLOOKUP(A178,'Fixture List Individual Files'!$B$14:$F$63,4,FALSE))","v":""},{"$f":"IF(A178=\"\",\"\",VLOOKUP(A178,'Fixture List Individual Files'!$B$14:$F$63,5,FALSE))","v":""},"","",""]
[null,{"$f":"IF(A179=\"\",\"\",VLOOKUP(A179,'Fixture List Individual Files'!$B$14:$F$63,2,FALSE))","v":""},null,{"$f":"IF(A179=\"\",\"\",VLOOKUP(A179,'Fixture List Individual Files'!$B$14:$F$63,3,FALSE))","v":""},"",{"$f":"IF(A179=\"\",\"\",VLOOKUP(A179,'Fixture List Individual Files'!$B$14:$F$63,4,FALSE))","v":""},{"$f":"IF(A179=\"\",\"\",VLOOKUP(A179,'Fixture List Individual Files'!$B$14:$F$63,5,FALSE))","v":""},"","",""]
[null,{"$f":"IF(A180=\"\",\"\",VLOOKUP(A180,'Fixture List Individual Files'!$B$14:$F$63,2,FALSE))","v":""},null,{"$f":"IF(A180=\"\",\"\",VLOOKUP(A180,'Fixture List Individual Files'!$B$14:$F$63,3,FALSE))","v":""},"",{"$f":"IF(A180=\"\",\"\",VLOOKUP(A180,'Fixture List Individual Files'!$B$14:$F$63,4,FALSE))","v":""},{"$f":"IF(A180=\"\",\"\",VLOOKUP(A180,'Fixture List Individual Files'!$B$14:$F$63,5,FALSE))","v":""},"","",""]
[null,"Totals:",{"$f":"SUM(C145:C180)","v":0},null,{"$f":"SUM(E145:E180)","v":0},{"$f":"SUMIF(F145:F180,\"Yes\",E145:E180)","v":0},null,{"$f":"SUM(H145:H180)","v":{"v":0,"d":"0.000"}},{"$f":"SUM(I145:I180)","v":0},0]
[]
["Area 5",{"$nulls":4},"NLC area factor:",{"$nulls":3},{"$f":"IF(VLOOKUP(A183,'Start Here!'!$N$46:$Q$70,4,FALSE)=0,VLOOKUP(Facility_Type,Admin_Lists!$A$63:$B$66,2,FALSE),VLOOKUP(A183,'Start Here!'!$N$46:$Q$70,4,FALSE))","v":{"$error":"#N/A"}}]
["Type:","Choose from Drop-down",null,null,{"$f":"IFERROR(VLOOKUP(B184,Admin_Lists!$A$9:$B$49,2,FALSE),\"\")","v":0},"W/sq ft",{"$nulls":3},{"$f":"VLOOKUP(A183,'Start Here!'!$N$46:$O$70,2,FALSE)","v":0}]
[null,{"$f":"\"Area Description: \"&'Sq. Ft. Area Individual Files'!D15","v":"Area Description: "},{"$nulls":3},"Sq Ft: ",{"$f":"'Sq. Ft. Area Individual Files'!C15","v":0}]
["Fixture Mark","Fixture\nName","Fixture\nCount","Fixture Watts","Total Watts \n(Fixt Count \nx Fixt Watts)","NLC Controls (Yes/No)","Space type","NLC Controls Savings"]
[{"$nulls":7},"Peak kW Savings","Annual kWh Savings","LC kWh Savings"]
[null,{"$f":"IF(A188=\"\",\"\",VLOOKUP(A188,'Fixture List Individual Files'!$B$14:$F$63,2,FALSE))","v":""},null,{"$f":"IF(A188=\"\",\"\",VLOOKUP(A188,'Fixture List Individual Files'!$B$14:$F$63,3,FALSE))","v":""},{"$f":"IF(D188=\"\",\"\",C188*D188)","v":""},{"$f":"IF(A188=\"\",\"\",VLOOKUP(A188,'Fixture List Individual Files'!$B$14:$F$63,4,FALSE))","v":""},{"$f":"IF(A188=\"\",\"\",VLOOKUP(A188,'Fixture List Individual Files'!$B$14:$F$63,5,FALSE))","v":""},{"$f":"IF(AND(F188=\"Yes\",Facility_Type=\"Commercial\"),(SFE_Commercial-SFBASE_Commercial)*E188/1000*J184,IF(AND(F188=\"Yes\",Facility_Type=\"Industrial\",G188=\"Non-High Bay\"),(SFE_Industrial-SFBASE_Industrial)*E188/1000*J184,IF(AND(F188=\"Yes\",Facility_Type=\"Schools & Government\",G188=\"Non-High Bay\"),((SFE_SG-SFBASE_SG)*E188/1000*J184),\"\")))","v":""},{"$f":"IF(AND(F188=\"Yes\",Facility_Type=\"Commercial\"),(SFE_Commercial-SFBASE_Commercial)*E188/1000*J183,IF(AND(F188=\"Yes\",Facility_Type=\"Industrial\",G188=\"Non-High Bay\"),(SFE_Industrial-SFBASE_Industrial)*E188/1000*J183,IF(AND(F188=\"Yes\",Facility_Type=\"Schools & Government\",G188=\"Non-High Bay\"),((SFE_SG-SFBASE_SG)*E188/1000*J183),\"\")))","v":""},{"$f":"IFERROR(I188*EUL_for_NLC,\"\")","v":""}]
[null,{"$f":"IF(A189=\"\",\"\",VLOOKUP(A189,'Fixture List Individual Files'!$B$14:$F$63,2,FALSE))","v":""},null,{"$f":"IF(A189=\"\",\"\",VLOOKUP(A189,'Fixture List Individual Files'!$B$14:$F$63,3,FALSE))","v":""},{"$f":"IF(D189=\"\",\"\",C189*D189)","v":""},{"$f":"IF(A189=\"\",\"\",VLOOKUP(A189,'Fixture List Individual Files'!$B$14:$F$63,4,FALSE))","v":""},{"$f":"IF(A189=\"\",\"\",VLOOKUP(A189,'Fixture List Individual Files'!$B$14:$F$63,5,FALSE))","v":""},{"$f":"IF(AND(F189=\"Yes\",Facility_Type=\"Commercial\"),(E189/1000*0.14),IF(AND(F189=\"Yes\",Facility_Type=\"Industrial\",G189=\"Non-High Bay\"),(E189/1000*0.18),IF(AND(F189=\"Yes\",Facility_Type=\"Schools & Government\",G189=\"Non-High Bay\"),(E189/1000*0.14),\"\")))","v":""},{"$f":"IF(AND(F189=\"Yes\",Facility_Type=\"Commercial\"),((1-SFBASE_Commercial)-(1-SFE_Commercial))*E189/1000*Hrs_Commercial,IF(AND(F189=\"Yes\",Facility_Type=\"Industrial\",G189=\"Non-High Bay\"),((1-SFBASE_Industrial)-(1-SFE_Industrial))*E189/1000*Hrs_Industrial,IF(AND(F189=\"Yes\",Facility_Type=\"Schools & Government\",G189=\"Non-High Bay\"),(((1-SFBASE_SG)-(1-SFE_SG))*E189/1000*Hrs_SG),\"\")))","v":""},""]
[null,{"$f":"IF(A190=\"\",\"\",VLOOKUP(A190,'Fixture List Individual Files'!$B$14:$F$63,2,FALSE))","v":""},null,{"$f":"IF(A190=\"\",\"\",VLOOKUP(A190,'Fixture List Individual Files'!$B$14:$F$63,3,FALSE))","v":""},"",{"$f":"IF(A190=\"\",\"\",VLOOKUP(A190,'Fixture List Individual Files'!$B$14:$F$63,4,FALSE))","v":""},{"$f":"IF(A190=\"\",\"\",VLOOKUP(A190,'Fixture List Individual Files'!$B$14:$F$63,5,FALSE))","v":""},"","",""]
[null,{"$f":"IF(A191=\"\",\"\",VLOOKUP(A191,'Fixture List Individual Files'!$B$14:$F$63,2,FALSE))","v":""},null,{"$f":"IF(A191=\"\",\"\",VLOOKUP(A191,'Fixture List Individual Files'!$B$14:$F$63,3,FALSE))","v":""},"",{"$f":"IF(A191=\"\",\"\",VLOOKUP(A191,'Fixture List Individual Files'!$B$14:$F$63,4,FALSE))","v":""},{"$f":"IF(A191=\"\",\"\",VLOOKUP(A191,'Fixture List Individual Files'!$B$14:$F$63,5,FALSE))","v":""},"","",""]
[null,{"$f":"IF(A192=\"\",\"\",VLOOKUP(A192,'Fixture List Individual Files'!$B$14:$F$63,2,FALSE))","v":""},null,{"$f":"IF(A192=\"\",\"\",VLOOKUP(A192,'Fixture List Individual Files'!$B$14:$F$63,3,FALSE))","v":""},"",{"$f":"IF(A192=\"\",\"\",VLOOKUP(A192,'Fixture List Individual Files'!$B$14:$F$63,4,FALSE))","v":""},{"$f":"IF(A192=\"\",\"\",VLOOKUP(A192,'Fixture List Individual Files'!$B$14:$F$63,5,FALSE))","v":""},"","",""]
[null,{"$f":"IF(A193=\"\",\"\",VLOOKUP(A193,'Fixture List Individual Files'!$B$14:$F$63,2,FALSE))","v":""},null,{"$f":"IF(A193=\"\",\"\",VLOOKUP(A193,'Fixture List Individual Files'!$B$14:$F$63,3,FALSE))","v":""},"",{"$f":"IF(A193=\"\",\"\",VLOOKUP(A193,'Fixture List Individual Files'!$B$14:$F$63,4,FALSE))","v":""},{"$f":"IF(A193=\"\",\"\",VLOOKUP(A193,'Fixture List Individual Files'!$B$14:$F$63,5,FALSE))","v":""},"","",""]
[null,{"$f":"IF(A194=\"\",\"\",VLOOKUP(A194,'Fixture List Individual Files'!$B$14:$F$63,2,FALSE))","v":""},null,{"$f":"IF(A194=\"\",\"\",VLOOKUP(A194,'Fixture List Individual Files'!$B$14:$F$63,3,FALSE))","v":""},"",{"$f":"IF(A194=\"\",\"\",VLOOKUP(A194,'Fixture List Individual Files'!$B$14:$F$63,4,FALSE))","v":""},{"$f":"IF(A194=\"\",\"\",VLOOKUP(A194,'Fixture List Individual Files'!$B$14:$F$63,5,FALSE))","v":""},"","",""]
[null,{"$f":"IF(A195=\"\",\"\",VLOOKUP(A195,'Fixture List Individual Files'!$B$14:$F$63,2,FALSE))","v":""},null,{"$f":"IF(A195=\"\",\"\",VLOOKUP(A195,'Fixture List Individual Files'!$B$14:$F$63,3,FALSE))","v":""},"",{"$f":"IF(A195=\"\",\"\",VLOOKUP(A195,'Fixture List Individual Files'!$B$14:$F$63,4,FALSE))","v":""},{"$f":"IF(A195=\"\",\"\",VLOOKUP(A195,'Fixture List Individual Files'!$B$14:$F$63,5,FALSE))","v":""},"","",""]
[null,{"$f":"IF(A196=\"\",\"\",VLOOKUP(A196,'Fixture List Individual Files'!$B$14:$F$63,2,FALSE))","v":""},null,{"$f":"IF(A196=\"\",\"\",VLOOKUP(A196,'Fixture List Individual Files'!$B$14:$F$63,3,FALSE))","v":""},"",{"$f":"IF(A196=\"\",\"\",VLOOKUP(A196,'Fixture List Individual Files'!$B$14:$F$63,4,FALSE))","v":""},{"$f":"IF(A196=\"\",\"\",VLOOKUP(A196,'Fixture List Individual Files'!$B$14:$F$63,5,FALSE))","v":""},"","",""]
[null,{"$f":"IF(A197=\"\",\"\",VLOOKUP(A197,'Fixture List Individual Files'!$B$14:$F$63,2,FALSE))","v":""},null,{"$f":"IF(A197=\"\",\"\",VLOOKUP(A197,'Fixture List Individual Files'!$B$14:$F$63,3,FALSE))","v":""},"",{"$f":"IF(A197=\"\",\"\",VLOOKUP(A197,'Fixture List Individual Files'!$B$14:$F$63,4,FALSE))","v":""},{"$f":"IF(A197=\"\",\"\",VLOOKUP(A197,'Fixture List Individual Files'!$B$14:$F$63,5,FALSE))","v":""},"","",""]
[null,{"$f":"IF(A198=\"\",\"\",VLOOKUP(A198,'Fixture List Individual Files'!$B$14:$F$63,2,FALSE))","v":""},null,{"$f":"IF(A198=\"\",\"\",VLOOKUP(A198,'Fixture List Individual Files'!$B$14:$F$63,3,FALSE))","v":""},"",{"$f":"IF(A198=\"\",\"\",VLOOKUP(A198,'Fixture List Individual Files'!$B$14:$F$63,4,FALSE))","v":""},{"$f":"IF(A198=\"\",\"\",VLOOKUP(A198,'Fixture List Individual Files'!$B$14:$F$63,5,FALSE))","v":""},"","",""]
[null,{"$f":"IF(A199=\"\",\"\",VLOOKUP(A199,'Fixture List Individual Files'!$B$14:$F$63,2,FALSE))","v":""},null,{"$f":"IF(A199=\"\",\"\",VLOOKUP(A199,'Fixture List Individual Files'!$B$14:$F$63,3,FALSE))","v":""},"",{"$f":"IF(A199=\"\",\"\",VLOOKUP(A199,'Fixture List Individual Files'!$B$14:$F$63,4,FALSE))","v":""},{"$f":"IF(A199=\"\",\"\",VLOOKUP(A199,'Fixture List Individual Files'!$B$14:$F$63,5,FALSE))","v":""},"","",""]
[null,{"$f":"IF(A200=\"\",\"\",VLOOKUP(A200,'Fixture List Individual Files'!$B$14:$F$63,2,FALSE))","v":""},null,{"$f":"IF(A200=\"\",\"\",VLOOKUP(A200,'Fixture List Individual Files'!$B$14:$F$63,3,FALSE))","v":""},"",{"$f":"IF(A200=\"\",\"\",VLOOKUP(A200,'Fixture List Individual Files'!$B$14:$F$63,4,FALSE))","v":""},{"$f":"IF(A200=\"\",\"\",VLOOKUP(A200,'Fixture List Individual Files'!$B$14:$F$63,5,FALSE))","v":""},"","",""]
[null,{"$f":"IF(A201=\"\",\"\",VLOOKUP(A201,'Fixture List Individual Files'!$B$14:$F$63,2,FALSE))","v":""},null,{"$f":"IF(A201=\"\",\"\",VLOOKUP(A201,'Fixture List Individual Files'!$B$14:$F$63,3,FALSE))","v":""},"",{"$f":"IF(A201=\"\",\"\",VLOOKUP(A201,'Fixture List Individual Files'!$B$14:$F$63,4,FALSE))","v":""},{"$f":"IF(A201=\"\",\"\",VLOOKUP(A201,'Fixture List Individual Files'!$B$14:$F$63,5,FALSE))","v":""},"","",""]
[null,{"$f":"IF(A202=\"\",\"\",VLOOKUP(A202,'Fixture List Individual Files'!$B$14:$F$63,2,FALSE))","v":""},null,{"$f":"IF(A202=\"\",\"\",VLOOKUP(A202,'Fixture List Individual Files'!$B$14:$F$63,3,FALSE))","v":""},"",{"$f":"IF(A202=\"\",\"\",VLOOKUP(A202,'Fixture List Individual Files'!$B$14:$F$63,4,FALSE))","v":""},{"$f":"IF(A202=\"\",\"\",VLOOKUP(A202,'Fixture List Individual Files'!$B$14:$F$63,5,FALSE))","v":""},"","",""]
[null,{"$f":"IF(A203=\"\",\"\",VLOOKUP(A203,'Fixture List Individual Files'!$B$14:$F$63,2,FALSE))","v":""},null,{"$f":"IF(A203=\"\",\"\",VLOOKUP(A203,'Fixture List Individual Files'!$B$14:$F$63,3,FALSE))","v":""},"",{"$f":"IF(A203=\"\",\"\",VLOOKUP(A203,'Fixture List Individual Files'!$B$14:$F$63,4,FALSE))","v":""},{"$f":"IF(A203=\"\",\"\",VLOOKUP(A203,'Fixture List Individual Files'!$B$14:$F$63,5,FALSE))","v":""},"","",""]
[null,{"$f":"IF(A204=\"\",\"\",VLOOKUP(A204,'Fixture List Individual Files'!$B$14:$F$63,2,FALSE))","v":""},null,{"$f":"IF(A204=\"\",\"\",VLOOKUP(A204,'Fixture List Individual Files'!$B$14:$F$63,3,FALSE))","v":""},"",{"$f":"IF(A204=\"\",\"\",VLOOKUP(A204,'Fixture List Individual Files'!$B$14:$F$63,4,FALSE))","v":""},{"$f":"IF(A204=\"\",\"\",VLOOKUP(A204,'Fixture List Individual Files'!$B$14:$F$63,5,FALSE))","v":""},"","",""]
[null,{"$f":"IF(A205=\"\",\"\",VLOOKUP(A205,'Fixture List Individual Files'!$B$14:$F$63,2,FALSE))","v":""},null,{"$f":"IF(A205=\"\",\"\",VLOOKUP(A205,'Fixture List Individual Files'!$B$14:$F$63,3,FALSE))","v":""},"",{"$f":"IF(A205=\"\",\"\",VLOOKUP(A205,'Fixture List Individual Files'!$B$14:$F$63,4,FALSE))","v":""},{"$f":"IF(A205=\"\",\"\",VLOOKUP(A205,'Fixture List Individual Files'!$B$14:$F$63,5,FALSE))","v":""},"","",""]
[null,{"$f":"IF(A206=\"\",\"\",VLOOKUP(A206,'Fixture List Individual Files'!$B$14:$F$63,2,FALSE))","v":""},null,{"$f":"IF(A206=\"\",\"\",VLOOKUP(A206,'Fixture List Individual Files'!$B$14:$F$63,3,FALSE))","v":""},"",{"$f":"IF(A206=\"\",\"\",VLOOKUP(A206,'Fixture List Individual Files'!$B$14:$F$63,4,FALSE))","v":""},{"$f":"IF(A206=\"\",\"\",VLOOKUP(A206,'Fixture List Individual Files'!$B$14:$F$63,5,FALSE))","v":""},"","",""]
[null,{"$f":"IF(A207=\"\",\"\",VLOOKUP(A207,'Fixture List Individual Files'!$B$14:$F$63,2,FALSE))","v":""},null,{"$f":"IF(A207=\"\",\"\",VLOOKUP(A207,'Fixture List Individual Files'!$B$14:$F$63,3,FALSE))","v":""},"",{"$f":"IF(A207=\"\",\"\",VLOOKUP(A207,'Fixture List Individual Files'!$B$14:$F$63,4,FALSE))","v":""},{"$f":"IF(A207=\"\",\"\",VLOOKUP(A207,'Fixture List Individual Files'!$B$14:$F$63,5,FALSE))","v":""},"","",""]
[null,{"$f":"IF(A208=\"\",\"\",VLOOKUP(A208,'Fixture List Individual Files'!$B$14:$F$63,2,FALSE))","v":""},null,{"$f":"IF(A208=\"\",\"\",VLOOKUP(A208,'Fixture List Individual Files'!$B$14:$F$63,3,FALSE))","v":""},"",{"$f":"IF(A208=\"\",\"\",VLOOKUP(A208,'Fixture List Individual Files'!$B$14:$F$63,4,FALSE))","v":""},{"$f":"IF(A208=\"\",\"\",VLOOKUP(A208,'Fixture List Individual Files'!$B$14:$F$63,5,FALSE))","v":""},"","",""]
[null,{"$f":"IF(A209=\"\",\"\",VLOOKUP(A209,'Fixture List Individual Files'!$B$14:$F$63,2,FALSE))","v":""},null,{"$f":"IF(A209=\"\",\"\",VLOOKUP(A209,'Fixture List Individual Files'!$B$14:$F$63,3,FALSE))","v":""},"",{"$f":"IF(A209=\"\",\"\",VLOOKUP(A209,'Fixture List Individual Files'!$B$14:$F$63,4,FALSE))","v":""},{"$f":"IF(A209=\"\",\"\",VLOOKUP(A209,'Fixture List Individual Files'!$B$14:$F$63,5,FALSE))","v":""},"","",""]
[null,{"$f":"IF(A210=\"\",\"\",VLOOKUP(A210,'Fixture List Individual Files'!$B$14:$F$63,2,FALSE))","v":""},null,{"$f":"IF(A210=\"\",\"\",VLOOKUP(A210,'Fixture List Individual Files'!$B$14:$F$63,3,FALSE))","v":""},"",{"$f":"IF(A210=\"\",\"\",VLOOKUP(A210,'Fixture List Individual Files'!$B$14:$F$63,4,FALSE))","v":""},{"$f":"IF(A210=\"\",\"\",VLOOKUP(A210,'Fixture List Individual Files'!$B$14:$F$63,5,FALSE))","v":""},"","",""]
[null,{"$f":"IF(A211=\"\",\"\",VLOOKUP(A211,'Fixture List Individual Files'!$B$14:$F$63,2,FALSE))","v":""},null,{"$f":"IF(A211=\"\",\"\",VLOOKUP(A211,'Fixture List Individual Files'!$B$14:$F$63,3,FALSE))","v":""},"",{"$f":"IF(A211=\"\",\"\",VLOOKUP(A211,'Fixture List Individual Files'!$B$14:$F$63,4,FALSE))","v":""},{"$f":"IF(A211=\"\",\"\",VLOOKUP(A211,'Fixture List Individual Files'!$B$14:$F$63,5,FALSE))","v":""},"","",""]
[null,{"$f":"IF(A212=\"\",\"\",VLOOKUP(A212,'Fixture List Individual Files'!$B$14:$F$63,2,FALSE))","v":""},null,{"$f":"IF(A212=\"\",\"\",VLOOKUP(A212,'Fixture List Individual Files'!$B$14:$F$63,3,FALSE))","v":""},"",{"$f":"IF(A212=\"\",\"\",VLOOKUP(A212,'Fixture List Individual Files'!$B$14:$F$63,4,FALSE))","v":""},{"$f":"IF(A212=\"\",\"\",VLOOKUP(A212,'Fixture List Individual Files'!$B$14:$F$63,5,FALSE))","v":""},"","",""]
[null,{"$f":"IF(A213=\"\",\"\",VLOOKUP(A213,'Fixture List Individual Files'!$B$14:$F$63,2,FALSE))","v":""},null,{"$f":"IF(A213=\"\",\"\",VLOOKUP(A213,'Fixture List Individual Files'!$B$14:$F$63,3,FALSE))","v":""},"",{"$f":"IF(A213=\"\",\"\",VLOOKUP(A213,'Fixture List Individual Files'!$B$14:$F$63,4,FALSE))","v":""},{"$f":"IF(A213=\"\",\"\",VLOOKUP(A213,'Fixture List Individual Files'!$B$14:$F$63,5,FALSE))","v":""},"","",""]
[null,{"$f":"IF(A214=\"\",\"\",VLOOKUP(A214,'Fixture List Individual Files'!$B$14:$F$63,2,FALSE))","v":""},null,{"$f":"IF(A214=\"\",\"\",VLOOKUP(A214,'Fixture List Individual Files'!$B$14:$F$63,3,FALSE))","v":""},"",{"$f":"IF(A214=\"\",\"\",VLOOKUP(A214,'Fixture List Individual Files'!$B$14:$F$63,4,FALSE))","v":""},{"$f":"IF(A214=\"\",\"\",VLOOKUP(A214,'Fixture List Individual Files'!$B$14:$F$63,5,FALSE))","v":""},"","",""]
[null,{"$f":"IF(A215=\"\",\"\",VLOOKUP(A215,'Fixture List Individual Files'!$B$14:$F$63,2,FALSE))","v":""},null,{"$f":"IF(A215=\"\",\"\",VLOOKUP(A215,'Fixture List Individual Files'!$B$14:$F$63,3,FALSE))","v":""},"",{"$f":"IF(A215=\"\",\"\",VLOOKUP(A215,'Fixture List Individual Files'!$B$14:$F$63,4,FALSE))","v":""},{"$f":"IF(A215=\"\",\"\",VLOOKUP(A215,'Fixture List Individual Files'!$B$14:$F$63,5,FALSE))","v":""},"","",""]
[null,{"$f":"IF(A216=\"\",\"\",VLOOKUP(A216,'Fixture List Individual Files'!$B$14:$F$63,2,FALSE))","v":""},null,{"$f":"IF(A216=\"\",\"\",VLOOKUP(A216,'Fixture List Individual Files'!$B$14:$F$63,3,FALSE))","v":""},"",{"$f":"IF(A216=\"\",\"\",VLOOKUP(A216,'Fixture List Individual Files'!$B$14:$F$63,4,FALSE))","v":""},{"$f":"IF(A216=\"\",\"\",VLOOKUP(A216,'Fixture List Individual Files'!$B$14:$F$63,5,FALSE))","v":""},"","",""]
[null,{"$f":"IF(A217=\"\",\"\",VLOOKUP(A217,'Fixture List Individual Files'!$B$14:$F$63,2,FALSE))","v":""},null,{"$f":"IF(A217=\"\",\"\",VLOOKUP(A217,'Fixture List Individual Files'!$B$14:$F$63,3,FALSE))","v":""},"",{"$f":"IF(A217=\"\",\"\",VLOOKUP(A217,'Fixture List Individual Files'!$B$14:$F$63,4,FALSE))","v":""},{"$f":"IF(A217=\"\",\"\",VLOOKUP(A217,'Fixture List Individual Files'!$B$14:$F$63,5,FALSE))","v":""},"","",""]
[null,{"$f":"IF(A218=\"\",\"\",VLOOKUP(A218,'Fixture List Individual Files'!$B$14:$F$63,2,FALSE))","v":""},null,{"$f":"IF(A218=\"\",\"\",VLOOKUP(A218,'Fixture List Individual Files'!$B$14:$F$63,3,FALSE))","v":""},"",{"$f":"IF(A218=\"\",\"\",VLOOKUP(A218,'Fixture List Individual Files'!$B$14:$F$63,4,FALSE))","v":""},{"$f":"IF(A218=\"\",\"\",VLOOKUP(A218,'Fixture List Individual Files'!$B$14:$F$63,5,FALSE))","v":""},"","",""]
[null,{"$f":"IF(A219=\"\",\"\",VLOOKUP(A219,'Fixture List Individual Files'!$B$14:$F$63,2,FALSE))","v":""},null,{"$f":"IF(A219=\"\",\"\",VLOOKUP(A219,'Fixture List Individual Files'!$B$14:$F$63,3,FALSE))","v":""},"",{"$f":"IF(A219=\"\",\"\",VLOOKUP(A219,'Fixture List Individual Files'!$B$14:$F$63,4,FALSE))","v":""},{"$f":"IF(A219=\"\",\"\",VLOOKUP(A219,'Fixture List Individual Files'!$B$14:$F$63,5,FALSE))","v":""},"","",""]
[null,{"$f":"IF(A220=\"\",\"\",VLOOKUP(A220,'Fixture List Individual Files'!$B$14:$F$63,2,FALSE))","v":""},null,{"$f":"IF(A220=\"\",\"\",VLOOKUP(A220,'Fixture List Individual Files'!$B$14:$F$63,3,FALSE))","v":""},"",{"$f":"IF(A220=\"\",\"\",VLOOKUP(A220,'Fixture List Individual Files'!$B$14:$F$63,4,FALSE))","v":""},{"$f":"IF(A220=\"\",\"\",VLOOKUP(A220,'Fixture List Individual Files'!$B$14:$F$63,5,FALSE))","v":""},"","",""]
[null,{"$f":"IF(A221=\"\",\"\",VLOOKUP(A221,'Fixture List Individual Files'!$B$14:$F$63,2,FALSE))","v":""},null,{"$f":"IF(A221=\"\",\"\",VLOOKUP(A221,'Fixture List Individual Files'!$B$14:$F$63,3,FALSE))","v":""},"",{"$f":"IF(A221=\"\",\"\",VLOOKUP(A221,'Fixture List Individual Files'!$B$14:$F$63,4,FALSE))","v":""},{"$f":"IF(A221=\"\",\"\",VLOOKUP(A221,'Fixture List Individual Files'!$B$14:$F$63,5,FALSE))","v":""},"","",""]
[null,{"$f":"IF(A222=\"\",\"\",VLOOKUP(A222,'Fixture List Individual Files'!$B$14:$F$63,2,FALSE))","v":""},null,{"$f":"IF(A222=\"\",\"\",VLOOKUP(A222,'Fixture List Individual Files'!$B$14:$F$63,3,FALSE))","v":""},"",{"$f":"IF(A222=\"\",\"\",VLOOKUP(A222,'Fixture List Individual Files'!$B$14:$F$63,4,FALSE))","v":""},{"$f":"IF(A222=\"\",\"\",VLOOKUP(A222,'Fixture List Individual Files'!$B$14:$F$63,5,FALSE))","v":""},"","",""]
[null,{"$f":"IF(A223=\"\",\"\",VLOOKUP(A223,'Fixture List Individual Files'!$B$14:$F$63,2,FALSE))","v":""},null,{"$f":"IF(A223=\"\",\"\",VLOOKUP(A223,'Fixture List Individual Files'!$B$14:$F$63,3,FALSE))","v":""},"",{"$f":"IF(A223=\"\",\"\",VLOOKUP(A223,'Fixture List Individual Files'!$B$14:$F$63,4,FALSE))","v":""},{"$f":"IF(A223=\"\",\"\",VLOOKUP(A223,'Fixture List Individual Files'!$B$14:$F$63,5,FALSE))","v":""},"","",""]
[null,"Totals:",{"$f":"SUM(C188:C223)","v":0},null,{"$f":"SUM(E188:E223)","v":0},{"$f":"SUMIF(F188:F223,\"Yes\",E188:E223)","v":0},null,{"$f":"SUM(H188:H223)","v":{"v":0,"d":"0.000"}},{"$f":"SUM(I188:I223)","v":0},0]
[]
["Area 6",{"$nulls":4},"NLC area factor:",{"$nulls":3},{"$f":"IF(VLOOKUP(A226,'Start Here!'!$N$46:$Q$70,4,FALSE)=0,VLOOKUP(Facility_Type,Admin_Lists!$A$63:$B$66,2,FALSE),VLOOKUP(A226,'Start Here!'!$N$46:$Q$70,4,FALSE))","v":{"$error":"#N/A"}}]
["Type:","Choose from Drop-down",null,null,{"$f":"IFERROR(VLOOKUP(B227,Admin_Lists!$A$9:$B$49,2,FALSE),\"\")","v":0},"W/sq ft",{"$nulls":3},{"$f":"VLOOKUP(A226,'Start Here!'!$N$46:$O$70,2,FALSE)","v":0}]
[null,{"$f":"\"Area Description: \"&'Sq. Ft. Area Individual Files'!D286","v":"Area Description: "},{"$nulls":3},"Sq Ft: ",{"$f":"'Sq. Ft. Area Individual Files'!C287","v":0}]
["Fixture Mark","Fixture\nName","Fixture\nCount","Fixture Watts","Total Watts \n(Fixt Count \nx Fixt Watts)","NLC Controls (Yes/No)","Space type","NLC Controls Savings"]
[{"$nulls":7},"Peak kW Savings","Annual kWh Savings","LC kWh Savings"]
[null,{"$f":"IF(A231=\"\",\"\",VLOOKUP(A231,'Fixture List Individual Files'!$B$14:$F$63,2,FALSE))","v":""},null,{"$f":"IF(A231=\"\",\"\",VLOOKUP(A231,'Fixture List Individual Files'!$B$14:$F$63,3,FALSE))","v":""},{"$f":"IF(D231=\"\",\"\",C231*D231)","v":""},{"$f":"IF(A231=\"\",\"\",VLOOKUP(A231,'Fixture List Individual Files'!$B$14:$F$63,4,FALSE))","v":""},{"$f":"IF(A231=\"\",\"\",VLOOKUP(A231,'Fixture List Individual Files'!$B$14:$F$63,5,FALSE))","v":""},{"$f":"IF(AND(F231=\"Yes\",Facility_Type=\"Commercial\"),(SFE_Commercial-SFBASE_Commercial)*E231/1000*$J$227,IF(AND(F231=\"Yes\",Facility_Type=\"Industrial\",G231=\"Non-High Bay\"),(SFE_Industrial-SFBASE_Industrial)*E231/1000*$J$227,IF(AND(F231=\"Yes\",Facility_Type=\"Schools & Government\",G231=\"Non-High Bay\"),((SFE_SG-SFBASE_SG)*E231/1000*$J$227),\"\")))","v":""},{"$f":"IF(AND(F231=\"Yes\",Facility_Type=\"Commercial\"),(SFE_Commercial-SFBASE_Commercial)*E231/1000*$J$226,IF(AND(F231=\"Yes\",Facility_Type=\"Industrial\",G231=\"Non-High Bay\"),(SFE_Industrial-SFBASE_Industrial)*E231/1000*$J$226,IF(AND(F231=\"Yes\",Facility_Type=\"Schools & Government\",G231=\"Non-High Bay\"),((SFE_SG-SFBASE_SG)*E231/1000*$J$226),\"\")))","v":""},{"$f":"IFERROR(I231*EUL_for_NLC,\"\")","v":""}]
[null,{"$f":"IF(A232=\"\",\"\",VLOOKUP(A232,'Fixture List Individual Files'!$B$14:$F$63,2,FALSE))","v":""},null,{"$f":"IF(A232=\"\",\"\",VLOOKUP(A232,'Fixture List Individual Files'!$B$14:$F$63,3,FALSE))","v":""},{"$f":"IF(D232=\"\",\"\",C232*D232)","v":""},{"$f":"IF(A232=\"\",\"\",VLOOKUP(A232,'Fixture List Individual Files'!$B$14:$F$63,4,FALSE))","v":""},{"$f":"IF(A232=\"\",\"\",VLOOKUP(A232,'Fixture List Individual Files'!$B$14:$F$63,5,FALSE))","v":""},"","",""]
[null,{"$f":"IF(A233=\"\",\"\",VLOOKUP(A233,'Fixture List Individual Files'!$B$14:$F$63,2,FALSE))","v":""},null,{"$f":"IF(A233=\"\",\"\",VLOOKUP(A233,'Fixture List Individual Files'!$B$14:$F$63,3,FALSE))","v":""},"",{"$f":"IF(A233=\"\",\"\",VLOOKUP(A233,'Fixture List Individual Files'!$B$14:$F$63,4,FALSE))","v":""},{"$f":"IF(A233=\"\",\"\",VLOOKUP(A233,'Fixture List Individual Files'!$B$14:$F$63,5,FALSE))","v":""},"","",""]
[null,{"$f":"IF(A234=\"\",\"\",VLOOKUP(A234,'Fixture List Individual Files'!$B$14:$F$63,2,FALSE))","v":""},null,{"$f":"IF(A234=\"\",\"\",VLOOKUP(A234,'Fixture List Individual Files'!$B$14:$F$63,3,FALSE))","v":""},"",{"$f":"IF(A234=\"\",\"\",VLOOKUP(A234,'Fixture List Individual Files'!$B$14:$F$63,4,FALSE))","v":""},{"$f":"IF(A234=\"\",\"\",VLOOKUP(A234,'Fixture List Individual Files'!$B$14:$F$63,5,FALSE))","v":""},"","",""]
[null,{"$f":"IF(A235=\"\",\"\",VLOOKUP(A235,'Fixture List Individual Files'!$B$14:$F$63,2,FALSE))","v":""},null,{"$f":"IF(A235=\"\",\"\",VLOOKUP(A235,'Fixture List Individual Files'!$B$14:$F$63,3,FALSE))","v":""},"",{"$f":"IF(A235=\"\",\"\",VLOOKUP(A235,'Fixture List Individual Files'!$B$14:$F$63,4,FALSE))","v":""},{"$f":"IF(A235=\"\",\"\",VLOOKUP(A235,'Fixture List Individual Files'!$B$14:$F$63,5,FALSE))","v":""},"","",""]
[null,{"$f":"IF(A236=\"\",\"\",VLOOKUP(A236,'Fixture List Individual Files'!$B$14:$F$63,2,FALSE))","v":""},null,{"$f":"IF(A236=\"\",\"\",VLOOKUP(A236,'Fixture List Individual Files'!$B$14:$F$63,3,FALSE))","v":""},"",{"$f":"IF(A236=\"\",\"\",VLOOKUP(A236,'Fixture List Individual Files'!$B$14:$F$63,4,FALSE))","v":""},{"$f":"IF(A236=\"\",\"\",VLOOKUP(A236,'Fixture List Individual Files'!$B$14:$F$63,5,FALSE))","v":""},"","",""]
[null,{"$f":"IF(A237=\"\",\"\",VLOOKUP(A237,'Fixture List Individual Files'!$B$14:$F$63,2,FALSE))","v":""},null,{"$f":"IF(A237=\"\",\"\",VLOOKUP(A237,'Fixture List Individual Files'!$B$14:$F$63,3,FALSE))","v":""},"",{"$f":"IF(A237=\"\",\"\",VLOOKUP(A237,'Fixture List Individual Files'!$B$14:$F$63,4,FALSE))","v":""},{"$f":"IF(A237=\"\",\"\",VLOOKUP(A237,'Fixture List Individual Files'!$B$14:$F$63,5,FALSE))","v":""},"","",""]
[null,{"$f":"IF(A238=\"\",\"\",VLOOKUP(A238,'Fixture List Individual Files'!$B$14:$F$63,2,FALSE))","v":""},null,{"$f":"IF(A238=\"\",\"\",VLOOKUP(A238,'Fixture List Individual Files'!$B$14:$F$63,3,FALSE))","v":""},"",{"$f":"IF(A238=\"\",\"\",VLOOKUP(A238,'Fixture List Individual Files'!$B$14:$F$63,4,FALSE))","v":""},{"$f":"IF(A238=\"\",\"\",VLOOKUP(A238,'Fixture List Individual Files'!$B$14:$F$63,5,FALSE))","v":""},"","",""]
[null,{"$f":"IF(A239=\"\",\"\",VLOOKUP(A239,'Fixture List Individual Files'!$B$14:$F$63,2,FALSE))","v":""},null,{"$f":"IF(A239=\"\",\"\",VLOOKUP(A239,'Fixture List Individual Files'!$B$14:$F$63,3,FALSE))","v":""},"",{"$f":"IF(A239=\"\",\"\",VLOOKUP(A239,'Fixture List Individual Files'!$B$14:$F$63,4,FALSE))","v":""},{"$f":"IF(A239=\"\",\"\",VLOOKUP(A239,'Fixture List Individual Files'!$B$14:$F$63,5,FALSE))","v":""},"","",""]
[null,{"$f":"IF(A240=\"\",\"\",VLOOKUP(A240,'Fixture List Individual Files'!$B$14:$F$63,2,FALSE))","v":""},null,{"$f":"IF(A240=\"\",\"\",VLOOKUP(A240,'Fixture List Individual Files'!$B$14:$F$63,3,FALSE))","v":""},"",{"$f":"IF(A240=\"\",\"\",VLOOKUP(A240,'Fixture List Individual Files'!$B$14:$F$63,4,FALSE))","v":""},{"$f":"IF(A240=\"\",\"\",VLOOKUP(A240,'Fixture List Individual Files'!$B$14:$F$63,5,FALSE))","v":""},"","",""]
[null,{"$f":"IF(A241=\"\",\"\",VLOOKUP(A241,'Fixture List Individual Files'!$B$14:$F$63,2,FALSE))","v":""},null,{"$f":"IF(A241=\"\",\"\",VLOOKUP(A241,'Fixture List Individual Files'!$B$14:$F$63,3,FALSE))","v":""},"",{"$f":"IF(A241=\"\",\"\",VLOOKUP(A241,'Fixture List Individual Files'!$B$14:$F$63,4,FALSE))","v":""},{"$f":"IF(A241=\"\",\"\",VLOOKUP(A241,'Fixture List Individual Files'!$B$14:$F$63,5,FALSE))","v":""},"","",""]
[null,{"$f":"IF(A242=\"\",\"\",VLOOKUP(A242,'Fixture List Individual Files'!$B$14:$F$63,2,FALSE))","v":""},null,{"$f":"IF(A242=\"\",\"\",VLOOKUP(A242,'Fixture List Individual Files'!$B$14:$F$63,3,FALSE))","v":""},"",{"$f":"IF(A242=\"\",\"\",VLOOKUP(A242,'Fixture List Individual Files'!$B$14:$F$63,4,FALSE))","v":""},{"$f":"IF(A242=\"\",\"\",VLOOKUP(A242,'Fixture List Individual Files'!$B$14:$F$63,5,FALSE))","v":""},"","",""]
[null,{"$f":"IF(A243=\"\",\"\",VLOOKUP(A243,'Fixture List Individual Files'!$B$14:$F$63,2,FALSE))","v":""},null,{"$f":"IF(A243=\"\",\"\",VLOOKUP(A243,'Fixture List Individual Files'!$B$14:$F$63,3,FALSE))","v":""},"",{"$f":"IF(A243=\"\",\"\",VLOOKUP(A243,'Fixture List Individual Files'!$B$14:$F$63,4,FALSE))","v":""},{"$f":"IF(A243=\"\",\"\",VLOOKUP(A243,'Fixture List Individual Files'!$B$14:$F$63,5,FALSE))","v":""},"","",""]
[null,{"$f":"IF(A244=\"\",\"\",VLOOKUP(A244,'Fixture List Individual Files'!$B$14:$F$63,2,FALSE))","v":""},null,{"$f":"IF(A244=\"\",\"\",VLOOKUP(A244,'Fixture List Individual Files'!$B$14:$F$63,3,FALSE))","v":""},"",{"$f":"IF(A244=\"\",\"\",VLOOKUP(A244,'Fixture List Individual Files'!$B$14:$F$63,4,FALSE))","v":""},{"$f":"IF(A244=\"\",\"\",VLOOKUP(A244,'Fixture List Individual Files'!$B$14:$F$63,5,FALSE))","v":""},"","",""]
[null,{"$f":"IF(A245=\"\",\"\",VLOOKUP(A245,'Fixture List Individual Files'!$B$14:$F$63,2,FALSE))","v":""},null,{"$f":"IF(A245=\"\",\"\",VLOOKUP(A245,'Fixture List Individual Files'!$B$14:$F$63,3,FALSE))","v":""},"",{"$f":"IF(A245=\"\",\"\",VLOOKUP(A245,'Fixture List Individual Files'!$B$14:$F$63,4,FALSE))","v":""},{"$f":"IF(A245=\"\",\"\",VLOOKUP(A245,'Fixture List Individual Files'!$B$14:$F$63,5,FALSE))","v":""},"","",""]
[null,{"$f":"IF(A246=\"\",\"\",VLOOKUP(A246,'Fixture List Individual Files'!$B$14:$F$63,2,FALSE))","v":""},null,{"$f":"IF(A246=\"\",\"\",VLOOKUP(A246,'Fixture List Individual Files'!$B$14:$F$63,3,FALSE))","v":""},"",{"$f":"IF(A246=\"\",\"\",VLOOKUP(A246,'Fixture List Individual Files'!$B$14:$F$63,4,FALSE))","v":""},{"$f":"IF(A246=\"\",\"\",VLOOKUP(A246,'Fixture List Individual Files'!$B$14:$F$63,5,FALSE))","v":""},"","",""]
[null,{"$f":"IF(A247=\"\",\"\",VLOOKUP(A247,'Fixture List Individual Files'!$B$14:$F$63,2,FALSE))","v":""},null,{"$f":"IF(A247=\"\",\"\",VLOOKUP(A247,'Fixture List Individual Files'!$B$14:$F$63,3,FALSE))","v":""},"",{"$f":"IF(A247=\"\",\"\",VLOOKUP(A247,'Fixture List Individual Files'!$B$14:$F$63,4,FALSE))","v":""},{"$f":"IF(A247=\"\",\"\",VLOOKUP(A247,'Fixture List Individual Files'!$B$14:$F$63,5,FALSE))","v":""},"","",""]
[null,{"$f":"IF(A248=\"\",\"\",VLOOKUP(A248,'Fixture List Individual Files'!$B$14:$F$63,2,FALSE))","v":""},null,{"$f":"IF(A248=\"\",\"\",VLOOKUP(A248,'Fixture List Individual Files'!$B$14:$F$63,3,FALSE))","v":""},"",{"$f":"IF(A248=\"\",\"\",VLOOKUP(A248,'Fixture List Individual Files'!$B$14:$F$63,4,FALSE))","v":""},{"$f":"IF(A248=\"\",\"\",VLOOKUP(A248,'Fixture List Individual Files'!$B$14:$F$63,5,FALSE))","v":""},"","",""]
[null,{"$f":"IF(A249=\"\",\"\",VLOOKUP(A249,'Fixture List Individual Files'!$B$14:$F$63,2,FALSE))","v":""},null,{"$f":"IF(A249=\"\",\"\",VLOOKUP(A249,'Fixture List Individual Files'!$B$14:$F$63,3,FALSE))","v":""},"",{"$f":"IF(A249=\"\",\"\",VLOOKUP(A249,'Fixture List Individual Files'!$B$14:$F$63,4,FALSE))","v":""},{"$f":"IF(A249=\"\",\"\",VLOOKUP(A249,'Fixture List Individual Files'!$B$14:$F$63,5,FALSE))","v":""},"","",""]
[null,{"$f":"IF(A250=\"\",\"\",VLOOKUP(A250,'Fixture List Individual Files'!$B$14:$F$63,2,FALSE))","v":""},null,{"$f":"IF(A250=\"\",\"\",VLOOKUP(A250,'Fixture List Individual Files'!$B$14:$F$63,3,FALSE))","v":""},"",{"$f":"IF(A250=\"\",\"\",VLOOKUP(A250,'Fixture List Individual Files'!$B$14:$F$63,4,FALSE))","v":""},{"$f":"IF(A250=\"\",\"\",VLOOKUP(A250,'Fixture List Individual Files'!$B$14:$F$63,5,FALSE))","v":""},"","",""]
[null,{"$f":"IF(A251=\"\",\"\",VLOOKUP(A251,'Fixture List Individual Files'!$B$14:$F$63,2,FALSE))","v":""},null,{"$f":"IF(A251=\"\",\"\",VLOOKUP(A251,'Fixture List Individual Files'!$B$14:$F$63,3,FALSE))","v":""},"",{"$f":"IF(A251=\"\",\"\",VLOOKUP(A251,'Fixture List Individual Files'!$B$14:$F$63,4,FALSE))","v":""},{"$f":"IF(A251=\"\",\"\",VLOOKUP(A251,'Fixture List Individual Files'!$B$14:$F$63,5,FALSE))","v":""},"","",""]
[null,{"$f":"IF(A252=\"\",\"\",VLOOKUP(A252,'Fixture List Individual Files'!$B$14:$F$63,2,FALSE))","v":""},null,{"$f":"IF(A252=\"\",\"\",VLOOKUP(A252,'Fixture List Individual Files'!$B$14:$F$63,3,FALSE))","v":""},"",{"$f":"IF(A252=\"\",\"\",VLOOKUP(A252,'Fixture List Individual Files'!$B$14:$F$63,4,FALSE))","v":""},{"$f":"IF(A252=\"\",\"\",VLOOKUP(A252,'Fixture List Individual Files'!$B$14:$F$63,5,FALSE))","v":""},"","",""]
[null,{"$f":"IF(A253=\"\",\"\",VLOOKUP(A253,'Fixture List Individual Files'!$B$14:$F$63,2,FALSE))","v":""},null,{"$f":"IF(A253=\"\",\"\",VLOOKUP(A253,'Fixture List Individual Files'!$B$14:$F$63,3,FALSE))","v":""},"",{"$f":"IF(A253=\"\",\"\",VLOOKUP(A253,'Fixture List Individual Files'!$B$14:$F$63,4,FALSE))","v":""},{"$f":"IF(A253=\"\",\"\",VLOOKUP(A253,'Fixture List Individual Files'!$B$14:$F$63,5,FALSE))","v":""},"","",""]
[null,{"$f":"IF(A254=\"\",\"\",VLOOKUP(A254,'Fixture List Individual Files'!$B$14:$F$63,2,FALSE))","v":""},null,{"$f":"IF(A254=\"\",\"\",VLOOKUP(A254,'Fixture List Individual Files'!$B$14:$F$63,3,FALSE))","v":""},"",{"$f":"IF(A254=\"\",\"\",VLOOKUP(A254,'Fixture List Individual Files'!$B$14:$F$63,4,FALSE))","v":""},{"$f":"IF(A254=\"\",\"\",VLOOKUP(A254,'Fixture List Individual Files'!$B$14:$F$63,5,FALSE))","v":""},"","",""]
[null,{"$f":"IF(A255=\"\",\"\",VLOOKUP(A255,'Fixture List Individual Files'!$B$14:$F$63,2,FALSE))","v":""},null,{"$f":"IF(A255=\"\",\"\",VLOOKUP(A255,'Fixture List Individual Files'!$B$14:$F$63,3,FALSE))","v":""},"",{"$f":"IF(A255=\"\",\"\",VLOOKUP(A255,'Fixture List Individual Files'!$B$14:$F$63,4,FALSE))","v":""},{"$f":"IF(A255=\"\",\"\",VLOOKUP(A255,'Fixture List Individual Files'!$B$14:$F$63,5,FALSE))","v":""},"","",""]
[null,{"$f":"IF(A256=\"\",\"\",VLOOKUP(A256,'Fixture List Individual Files'!$B$14:$F$63,2,FALSE))","v":""},null,{"$f":"IF(A256=\"\",\"\",VLOOKUP(A256,'Fixture List Individual Files'!$B$14:$F$63,3,FALSE))","v":""},"",{"$f":"IF(A256=\"\",\"\",VLOOKUP(A256,'Fixture List Individual Files'!$B$14:$F$63,4,FALSE))","v":""},{"$f":"IF(A256=\"\",\"\",VLOOKUP(A256,'Fixture List Individual Files'!$B$14:$F$63,5,FALSE))","v":""},"","",""]
[null,{"$f":"IF(A257=\"\",\"\",VLOOKUP(A257,'Fixture List Individual Files'!$B$14:$F$63,2,FALSE))","v":""},null,{"$f":"IF(A257=\"\",\"\",VLOOKUP(A257,'Fixture List Individual Files'!$B$14:$F$63,3,FALSE))","v":""},"",{"$f":"IF(A257=\"\",\"\",VLOOKUP(A257,'Fixture List Individual Files'!$B$14:$F$63,4,FALSE))","v":""},{"$f":"IF(A257=\"\",\"\",VLOOKUP(A257,'Fixture List Individual Files'!$B$14:$F$63,5,FALSE))","v":""},"","",""]
[null,{"$f":"IF(A258=\"\",\"\",VLOOKUP(A258,'Fixture List Individual Files'!$B$14:$F$63,2,FALSE))","v":""},null,{"$f":"IF(A258=\"\",\"\",VLOOKUP(A258,'Fixture List Individual Files'!$B$14:$F$63,3,FALSE))","v":""},"",{"$f":"IF(A258=\"\",\"\",VLOOKUP(A258,'Fixture List Individual Files'!$B$14:$F$63,4,FALSE))","v":""},{"$f":"IF(A258=\"\",\"\",VLOOKUP(A258,'Fixture List Individual Files'!$B$14:$F$63,5,FALSE))","v":""},"","",""]
[null,{"$f":"IF(A259=\"\",\"\",VLOOKUP(A259,'Fixture List Individual Files'!$B$14:$F$63,2,FALSE))","v":""},null,{"$f":"IF(A259=\"\",\"\",VLOOKUP(A259,'Fixture List Individual Files'!$B$14:$F$63,3,FALSE))","v":""},"",{"$f":"IF(A259=\"\",\"\",VLOOKUP(A259,'Fixture List Individual Files'!$B$14:$F$63,4,FALSE))","v":""},{"$f":"IF(A259=\"\",\"\",VLOOKUP(A259,'Fixture List Individual Files'!$B$14:$F$63,5,FALSE))","v":""},"","",""]
[null,{"$f":"IF(A260=\"\",\"\",VLOOKUP(A260,'Fixture List Individual Files'!$B$14:$F$63,2,FALSE))","v":""},null,{"$f":"IF(A260=\"\",\"\",VLOOKUP(A260,'Fixture List Individual Files'!$B$14:$F$63,3,FALSE))","v":""},"",{"$f":"IF(A260=\"\",\"\",VLOOKUP(A260,'Fixture List Individual Files'!$B$14:$F$63,4,FALSE))","v":""},{"$f":"IF(A260=\"\",\"\",VLOOKUP(A260,'Fixture List Individual Files'!$B$14:$F$63,5,FALSE))","v":""},"","",""]
[null,{"$f":"IF(A261=\"\",\"\",VLOOKUP(A261,'Fixture List Individual Files'!$B$14:$F$63,2,FALSE))","v":""},null,{"$f":"IF(A261=\"\",\"\",VLOOKUP(A261,'Fixture List Individual Files'!$B$14:$F$63,3,FALSE))","v":""},"",{"$f":"IF(A261=\"\",\"\",VLOOKUP(A261,'Fixture List Individual Files'!$B$14:$F$63,4,FALSE))","v":""},{"$f":"IF(A261=\"\",\"\",VLOOKUP(A261,'Fixture List Individual Files'!$B$14:$F$63,5,FALSE))","v":""},"","",""]
[null,{"$f":"IF(A262=\"\",\"\",VLOOKUP(A262,'Fixture List Individual Files'!$B$14:$F$63,2,FALSE))","v":""},null,{"$f":"IF(A262=\"\",\"\",VLOOKUP(A262,'Fixture List Individual Files'!$B$14:$F$63,3,FALSE))","v":""},"",{"$f":"IF(A262=\"\",\"\",VLOOKUP(A262,'Fixture List Individual Files'!$B$14:$F$63,4,FALSE))","v":""},{"$f":"IF(A262=\"\",\"\",VLOOKUP(A262,'Fixture List Individual Files'!$B$14:$F$63,5,FALSE))","v":""},"","",""]
[null,{"$f":"IF(A263=\"\",\"\",VLOOKUP(A263,'Fixture List Individual Files'!$B$14:$F$63,2,FALSE))","v":""},null,{"$f":"IF(A263=\"\",\"\",VLOOKUP(A263,'Fixture List Individual Files'!$B$14:$F$63,3,FALSE))","v":""},"",{"$f":"IF(A263=\"\",\"\",VLOOKUP(A263,'Fixture List Individual Files'!$B$14:$F$63,4,FALSE))","v":""},{"$f":"IF(A263=\"\",\"\",VLOOKUP(A263,'Fixture List Individual Files'!$B$14:$F$63,5,FALSE))","v":""},"","",""]
[null,{"$f":"IF(A264=\"\",\"\",VLOOKUP(A264,'Fixture List Individual Files'!$B$14:$F$63,2,FALSE))","v":""},null,{"$f":"IF(A264=\"\",\"\",VLOOKUP(A264,'Fixture List Individual Files'!$B$14:$F$63,3,FALSE))","v":""},"",{"$f":"IF(A264=\"\",\"\",VLOOKUP(A264,'Fixture List Individual Files'!$B$14:$F$63,4,FALSE))","v":""},{"$f":"IF(A264=\"\",\"\",VLOOKUP(A264,'Fixture List Individual Files'!$B$14:$F$63,5,FALSE))","v":""},"","",""]
[null,{"$f":"IF(A265=\"\",\"\",VLOOKUP(A265,'Fixture List Individual Files'!$B$14:$F$63,2,FALSE))","v":""},null,{"$f":"IF(A265=\"\",\"\",VLOOKUP(A265,'Fixture List Individual Files'!$B$14:$F$63,3,FALSE))","v":""},"",{"$f":"IF(A265=\"\",\"\",VLOOKUP(A265,'Fixture List Individual Files'!$B$14:$F$63,4,FALSE))","v":""},{"$f":"IF(A265=\"\",\"\",VLOOKUP(A265,'Fixture List Individual Files'!$B$14:$F$63,5,FALSE))","v":""},"","",""]
[null,{"$f":"IF(A266=\"\",\"\",VLOOKUP(A266,'Fixture List Individual Files'!$B$14:$F$63,2,FALSE))","v":""},null,{"$f":"IF(A266=\"\",\"\",VLOOKUP(A266,'Fixture List Individual Files'!$B$14:$F$63,3,FALSE))","v":""},"",{"$f":"IF(A266=\"\",\"\",VLOOKUP(A266,'Fixture List Individual Files'!$B$14:$F$63,4,FALSE))","v":""},{"$f":"IF(A266=\"\",\"\",VLOOKUP(A266,'Fixture List Individual Files'!$B$14:$F$63,5,FALSE))","v":""},"","",""]
[null,"Totals:",{"$f":"SUM(C231:C266)","v":0},null,{"$f":"SUM(E231:E266)","v":0},{"$f":"SUMIF(F231:F266,\"Yes\",E231:E266)","v":0},null,{"$f":"SUM(H231:H266)","v":{"v":0,"d":"0.000"}},{"$f":"SUM(I231:I266)","v":0},0]
[]
["Area 7",{"$nulls":4},"NLC area factor:",{"$nulls":3},{"$f":"IF(VLOOKUP(A269,'Start Here!'!$N$46:$Q$70,4,FALSE)=0,VLOOKUP(Facility_Type,Admin_Lists!$A$63:$B$66,2,FALSE),VLOOKUP(A269,'Start Here!'!$N$46:$Q$70,4,FALSE))","v":{"$error":"#N/A"}}]
["Type:","Choose from Drop-down",null,null,{"$f":"IFERROR(VLOOKUP(B270,Admin_Lists!$A$9:$B$49,2,FALSE),\"\")","v":0},"W/sq ft",{"$nulls":3},{"$f":"VLOOKUP(A269,'Start Here!'!$N$46:$O$70,2,FALSE)","v":0}]
[null,{"$f":"\"Area Description: \"&'Sq. Ft. Area Individual Files'!D290","v":"Area Description: "},{"$nulls":3},"Sq Ft: ",{"$f":"'Sq. Ft. Area Individual Files'!C291","v":0}]
["Fixture Mark","Fixture\nName","Fixture\nCount","Fixture Watts","Total Watts \n(Fixt Count \nx Fixt Watts)","NLC Controls (Yes/No)","Space type","NLC Controls Savings"]
[{"$nulls":7},"Peak kW Savings","Annual kWh Savings","LC kWh Savings"]
[null,{"$f":"IF(A274=\"\",\"\",VLOOKUP(A274,'Fixture List Individual Files'!$B$14:$F$63,2,FALSE))","v":""},null,{"$f":"IF(A274=\"\",\"\",VLOOKUP(A274,'Fixture List Individual Files'!$B$14:$F$63,3,FALSE))","v":""},{"$f":"IF(D274=\"\",\"\",C274*D274)","v":""},{"$f":"IF(A274=\"\",\"\",VLOOKUP(A274,'Fixture List Individual Files'!$B$14:$F$63,4,FALSE))","v":""},{"$f":"IF(A274=\"\",\"\",VLOOKUP(A274,'Fixture List Individual Files'!$B$14:$F$63,5,FALSE))","v":""},{"$f":"IF(AND(F274=\"Yes\",Facility_Type=\"Commercial\"),(SFE_Commercial-SFBASE_Commercial)*E274/1000*$J$270,IF(AND(F274=\"Yes\",Facility_Type=\"Industrial\",G274=\"Non-High Bay\"),(SFE_Industrial-SFBASE_Industrial)*E274/1000*$J$270,IF(AND(F274=\"Yes\",Facility_Type=\"Schools & Government\",G274=\"Non-High Bay\"),((SFE_SG-SFBASE_SG)*E274/1000*$J$270),\"\")))","v":""},{"$f":"IF(AND(F274=\"Yes\",Facility_Type=\"Commercial\"),(SFE_Commercial-SFBASE_Commercial)*E274/1000*$J$269,IF(AND(F274=\"Yes\",Facility_Type=\"Industrial\",G274=\"Non-High Bay\"),(SFE_Industrial-SFBASE_Industrial)*E274/1000*$J$269,IF(AND(F274=\"Yes\",Facility_Type=\"Schools & Government\",G274=\"Non-High Bay\"),((SFE_SG-SFBASE_SG)*E274/1000*$J$269),\"\")))","v":""},{"$f":"IFERROR(I274*EUL_for_NLC,\"\")","v":""}]
[null,{"$f":"IF(A275=\"\",\"\",VLOOKUP(A275,'Fixture List Individual Files'!$B$14:$F$63,2,FALSE))","v":""},null,{"$f":"IF(A275=\"\",\"\",VLOOKUP(A275,'Fixture List Individual Files'!$B$14:$F$63,3,FALSE))","v":""},{"$f":"IF(D275=\"\",\"\",C275*D275)","v":""},{"$f":"IF(A275=\"\",\"\",VLOOKUP(A275,'Fixture List Individual Files'!$B$14:$F$63,4,FALSE))","v":""},{"$f":"IF(A275=\"\",\"\",VLOOKUP(A275,'Fixture List Individual Files'!$B$14:$F$63,5,FALSE))","v":""},"","",""]
[null,{"$f":"IF(A276=\"\",\"\",VLOOKUP(A276,'Fixture List Individual Files'!$B$14:$F$63,2,FALSE))","v":""},null,{"$f":"IF(A276=\"\",\"\",VLOOKUP(A276,'Fixture List Individual Files'!$B$14:$F$63,3,FALSE))","v":""},"",{"$f":"IF(A276=\"\",\"\",VLOOKUP(A276,'Fixture List Individual Files'!$B$14:$F$63,4,FALSE))","v":""},{"$f":"IF(A276=\"\",\"\",VLOOKUP(A276,'Fixture List Individual Files'!$B$14:$F$63,5,FALSE))","v":""},"","",""]
[null,{"$f":"IF(A277=\"\",\"\",VLOOKUP(A277,'Fixture List Individual Files'!$B$14:$F$63,2,FALSE))","v":""},null,{"$f":"IF(A277=\"\",\"\",VLOOKUP(A277,'Fixture List Individual Files'!$B$14:$F$63,3,FALSE))","v":""},"",{"$f":"IF(A277=\"\",\"\",VLOOKUP(A277,'Fixture List Individual Files'!$B$14:$F$63,4,FALSE))","v":""},{"$f":"IF(A277=\"\",\"\",VLOOKUP(A277,'Fixture List Individual Files'!$B$14:$F$63,5,FALSE))","v":""},"","",""]
[null,{"$f":"IF(A278=\"\",\"\",VLOOKUP(A278,'Fixture List Individual Files'!$B$14:$F$63,2,FALSE))","v":""},null,{"$f":"IF(A278=\"\",\"\",VLOOKUP(A278,'Fixture List Individual Files'!$B$14:$F$63,3,FALSE))","v":""},"",{"$f":"IF(A278=\"\",\"\",VLOOKUP(A278,'Fixture List Individual Files'!$B$14:$F$63,4,FALSE))","v":""},{"$f":"IF(A278=\"\",\"\",VLOOKUP(A278,'Fixture List Individual Files'!$B$14:$F$63,5,FALSE))","v":""},"","",""]
[null,{"$f":"IF(A279=\"\",\"\",VLOOKUP(A279,'Fixture List Individual Files'!$B$14:$F$63,2,FALSE))","v":""},null,{"$f":"IF(A279=\"\",\"\",VLOOKUP(A279,'Fixture List Individual Files'!$B$14:$F$63,3,FALSE))","v":""},"",{"$f":"IF(A279=\"\",\"\",VLOOKUP(A279,'Fixture List Individual Files'!$B$14:$F$63,4,FALSE))","v":""},{"$f":"IF(A279=\"\",\"\",VLOOKUP(A279,'Fixture List Individual Files'!$B$14:$F$63,5,FALSE))","v":""},"","",""]
[null,{"$f":"IF(A280=\"\",\"\",VLOOKUP(A280,'Fixture List Individual Files'!$B$14:$F$63,2,FALSE))","v":""},null,{"$f":"IF(A280=\"\",\"\",VLOOKUP(A280,'Fixture List Individual Files'!$B$14:$F$63,3,FALSE))","v":""},"",{"$f":"IF(A280=\"\",\"\",VLOOKUP(A280,'Fixture List Individual Files'!$B$14:$F$63,4,FALSE))","v":""},{"$f":"IF(A280=\"\",\"\",VLOOKUP(A280,'Fixture List Individual Files'!$B$14:$F$63,5,FALSE))","v":""},"","",""]
[null,{"$f":"IF(A281=\"\",\"\",VLOOKUP(A281,'Fixture List Individual Files'!$B$14:$F$63,2,FALSE))","v":""},null,{"$f":"IF(A281=\"\",\"\",VLOOKUP(A281,'Fixture List Individual Files'!$B$14:$F$63,3,FALSE))","v":""},"",{"$f":"IF(A281=\"\",\"\",VLOOKUP(A281,'Fixture List Individual Files'!$B$14:$F$63,4,FALSE))","v":""},{"$f":"IF(A281=\"\",\"\",VLOOKUP(A281,'Fixture List Individual Files'!$B$14:$F$63,5,FALSE))","v":""},"","",""]
[null,{"$f":"IF(A282=\"\",\"\",VLOOKUP(A282,'Fixture List Individual Files'!$B$14:$F$63,2,FALSE))","v":""},null,{"$f":"IF(A282=\"\",\"\",VLOOKUP(A282,'Fixture List Individual Files'!$B$14:$F$63,3,FALSE))","v":""},"",{"$f":"IF(A282=\"\",\"\",VLOOKUP(A282,'Fixture List Individual Files'!$B$14:$F$63,4,FALSE))","v":""},{"$f":"IF(A282=\"\",\"\",VLOOKUP(A282,'Fixture List Individual Files'!$B$14:$F$63,5,FALSE))","v":""},"","",""]
[null,{"$f":"IF(A283=\"\",\"\",VLOOKUP(A283,'Fixture List Individual Files'!$B$14:$F$63,2,FALSE))","v":""},null,{"$f":"IF(A283=\"\",\"\",VLOOKUP(A283,'Fixture List Individual Files'!$B$14:$F$63,3,FALSE))","v":""},"",{"$f":"IF(A283=\"\",\"\",VLOOKUP(A283,'Fixture List Individual Files'!$B$14:$F$63,4,FALSE))","v":""},{"$f":"IF(A283=\"\",\"\",VLOOKUP(A283,'Fixture List Individual Files'!$B$14:$F$63,5,FALSE))","v":""},"","",""]
[null,{"$f":"IF(A284=\"\",\"\",VLOOKUP(A284,'Fixture List Individual Files'!$B$14:$F$63,2,FALSE))","v":""},null,{"$f":"IF(A284=\"\",\"\",VLOOKUP(A284,'Fixture List Individual Files'!$B$14:$F$63,3,FALSE))","v":""},"",{"$f":"IF(A284=\"\",\"\",VLOOKUP(A284,'Fixture List Individual Files'!$B$14:$F$63,4,FALSE))","v":""},{"$f":"IF(A284=\"\",\"\",VLOOKUP(A284,'Fixture List Individual Files'!$B$14:$F$63,5,FALSE))","v":""},"","",""]
[null,{"$f":"IF(A285=\"\",\"\",VLOOKUP(A285,'Fixture List Individual Files'!$B$14:$F$63,2,FALSE))","v":""},null,{"$f":"IF(A285=\"\",\"\",VLOOKUP(A285,'Fixture List Individual Files'!$B$14:$F$63,3,FALSE))","v":""},"",{"$f":"IF(A285=\"\",\"\",VLOOKUP(A285,'Fixture List Individual Files'!$B$14:$F$63,4,FALSE))","v":""},{"$f":"IF(A285=\"\",\"\",VLOOKUP(A285,'Fixture List Individual Files'!$B$14:$F$63,5,FALSE))","v":""},"","",""]
[null,{"$f":"IF(A286=\"\",\"\",VLOOKUP(A286,'Fixture List Individual Files'!$B$14:$F$63,2,FALSE))","v":""},null,{"$f":"IF(A286=\"\",\"\",VLOOKUP(A286,'Fixture List Individual Files'!$B$14:$F$63,3,FALSE))","v":""},"",{"$f":"IF(A286=\"\",\"\",VLOOKUP(A286,'Fixture List Individual Files'!$B$14:$F$63,4,FALSE))","v":""},{"$f":"IF(A286=\"\",\"\",VLOOKUP(A286,'Fixture List Individual Files'!$B$14:$F$63,5,FALSE))","v":""},"","",""]
[null,{"$f":"IF(A287=\"\",\"\",VLOOKUP(A287,'Fixture List Individual Files'!$B$14:$F$63,2,FALSE))","v":""},null,{"$f":"IF(A287=\"\",\"\",VLOOKUP(A287,'Fixture List Individual Files'!$B$14:$F$63,3,FALSE))","v":""},"",{"$f":"IF(A287=\"\",\"\",VLOOKUP(A287,'Fixture List Individual Files'!$B$14:$F$63,4,FALSE))","v":""},{"$f":"IF(A287=\"\",\"\",VLOOKUP(A287,'Fixture List Individual Files'!$B$14:$F$63,5,FALSE))","v":""},"","",""]
[null,{"$f":"IF(A288=\"\",\"\",VLOOKUP(A288,'Fixture List Individual Files'!$B$14:$F$63,2,FALSE))","v":""},null,{"$f":"IF(A288=\"\",\"\",VLOOKUP(A288,'Fixture List Individual Files'!$B$14:$F$63,3,FALSE))","v":""},"",{"$f":"IF(A288=\"\",\"\",VLOOKUP(A288,'Fixture List Individual Files'!$B$14:$F$63,4,FALSE))","v":""},{"$f":"IF(A288=\"\",\"\",VLOOKUP(A288,'Fixture List Individual Files'!$B$14:$F$63,5,FALSE))","v":""},"","",""]
[null,{"$f":"IF(A289=\"\",\"\",VLOOKUP(A289,'Fixture List Individual Files'!$B$14:$F$63,2,FALSE))","v":""},null,{"$f":"IF(A289=\"\",\"\",VLOOKUP(A289,'Fixture List Individual Files'!$B$14:$F$63,3,FALSE))","v":""},"",{"$f":"IF(A289=\"\",\"\",VLOOKUP(A289,'Fixture List Individual Files'!$B$14:$F$63,4,FALSE))","v":""},{"$f":"IF(A289=\"\",\"\",VLOOKUP(A289,'Fixture List Individual Files'!$B$14:$F$63,5,FALSE))","v":""},"","",""]
[null,{"$f":"IF(A290=\"\",\"\",VLOOKUP(A290,'Fixture List Individual Files'!$B$14:$F$63,2,FALSE))","v":""},null,{"$f":"IF(A290=\"\",\"\",VLOOKUP(A290,'Fixture List Individual Files'!$B$14:$F$63,3,FALSE))","v":""},"",{"$f":"IF(A290=\"\",\"\",VLOOKUP(A290,'Fixture List Individual Files'!$B$14:$F$63,4,FALSE))","v":""},{"$f":"IF(A290=\"\",\"\",VLOOKUP(A290,'Fixture List Individual Files'!$B$14:$F$63,5,FALSE))","v":""},"","",""]
[null,{"$f":"IF(A291=\"\",\"\",VLOOKUP(A291,'Fixture List Individual Files'!$B$14:$F$63,2,FALSE))","v":""},null,{"$f":"IF(A291=\"\",\"\",VLOOKUP(A291,'Fixture List Individual Files'!$B$14:$F$63,3,FALSE))","v":""},"",{"$f":"IF(A291=\"\",\"\",VLOOKUP(A291,'Fixture List Individual Files'!$B$14:$F$63,4,FALSE))","v":""},{"$f":"IF(A291=\"\",\"\",VLOOKUP(A291,'Fixture List Individual Files'!$B$14:$F$63,5,FALSE))","v":""},"","",""]
[null,{"$f":"IF(A292=\"\",\"\",VLOOKUP(A292,'Fixture List Individual Files'!$B$14:$F$63,2,FALSE))","v":""},null,{"$f":"IF(A292=\"\",\"\",VLOOKUP(A292,'Fixture List Individual Files'!$B$14:$F$63,3,FALSE))","v":""},"",{"$f":"IF(A292=\"\",\"\",VLOOKUP(A292,'Fixture List Individual Files'!$B$14:$F$63,4,FALSE))","v":""},{"$f":"IF(A292=\"\",\"\",VLOOKUP(A292,'Fixture List Individual Files'!$B$14:$F$63,5,FALSE))","v":""},"","",""]
[null,{"$f":"IF(A293=\"\",\"\",VLOOKUP(A293,'Fixture List Individual Files'!$B$14:$F$63,2,FALSE))","v":""},null,{"$f":"IF(A293=\"\",\"\",VLOOKUP(A293,'Fixture List Individual Files'!$B$14:$F$63,3,FALSE))","v":""},"",{"$f":"IF(A293=\"\",\"\",VLOOKUP(A293,'Fixture List Individual Files'!$B$14:$F$63,4,FALSE))","v":""},{"$f":"IF(A293=\"\",\"\",VLOOKUP(A293,'Fixture List Individual Files'!$B$14:$F$63,5,FALSE))","v":""},"","",""]
[null,{"$f":"IF(A294=\"\",\"\",VLOOKUP(A294,'Fixture List Individual Files'!$B$14:$F$63,2,FALSE))","v":""},null,{"$f":"IF(A294=\"\",\"\",VLOOKUP(A294,'Fixture List Individual Files'!$B$14:$F$63,3,FALSE))","v":""},"",{"$f":"IF(A294=\"\",\"\",VLOOKUP(A294,'Fixture List Individual Files'!$B$14:$F$63,4,FALSE))","v":""},{"$f":"IF(A294=\"\",\"\",VLOOKUP(A294,'Fixture List Individual Files'!$B$14:$F$63,5,FALSE))","v":""},"","",""]
[null,{"$f":"IF(A295=\"\",\"\",VLOOKUP(A295,'Fixture List Individual Files'!$B$14:$F$63,2,FALSE))","v":""},null,{"$f":"IF(A295=\"\",\"\",VLOOKUP(A295,'Fixture List Individual Files'!$B$14:$F$63,3,FALSE))","v":""},"",{"$f":"IF(A295=\"\",\"\",VLOOKUP(A295,'Fixture List Individual Files'!$B$14:$F$63,4,FALSE))","v":""},{"$f":"IF(A295=\"\",\"\",VLOOKUP(A295,'Fixture List Individual Files'!$B$14:$F$63,5,FALSE))","v":""},"","",""]
[null,{"$f":"IF(A296=\"\",\"\",VLOOKUP(A296,'Fixture List Individual Files'!$B$14:$F$63,2,FALSE))","v":""},null,{"$f":"IF(A296=\"\",\"\",VLOOKUP(A296,'Fixture List Individual Files'!$B$14:$F$63,3,FALSE))","v":""},"",{"$f":"IF(A296=\"\",\"\",VLOOKUP(A296,'Fixture List Individual Files'!$B$14:$F$63,4,FALSE))","v":""},{"$f":"IF(A296=\"\",\"\",VLOOKUP(A296,'Fixture List Individual Files'!$B$14:$F$63,5,FALSE))","v":""},"","",""]
[null,{"$f":"IF(A297=\"\",\"\",VLOOKUP(A297,'Fixture List Individual Files'!$B$14:$F$63,2,FALSE))","v":""},null,{"$f":"IF(A297=\"\",\"\",VLOOKUP(A297,'Fixture List Individual Files'!$B$14:$F$63,3,FALSE))","v":""},"",{"$f":"IF(A297=\"\",\"\",VLOOKUP(A297,'Fixture List Individual Files'!$B$14:$F$63,4,FALSE))","v":""},{"$f":"IF(A297=\"\",\"\",VLOOKUP(A297,'Fixture List Individual Files'!$B$14:$F$63,5,FALSE))","v":""},"","",""]
[null,{"$f":"IF(A298=\"\",\"\",VLOOKUP(A298,'Fixture List Individual Files'!$B$14:$F$63,2,FALSE))","v":""},null,{"$f":"IF(A298=\"\",\"\",VLOOKUP(A298,'Fixture List Individual Files'!$B$14:$F$63,3,FALSE))","v":""},"",{"$f":"IF(A298=\"\",\"\",VLOOKUP(A298,'Fixture List Individual Files'!$B$14:$F$63,4,FALSE))","v":""},{"$f":"IF(A298=\"\",\"\",VLOOKUP(A298,'Fixture List Individual Files'!$B$14:$F$63,5,FALSE))","v":""},"","",""]
[null,{"$f":"IF(A299=\"\",\"\",VLOOKUP(A299,'Fixture List Individual Files'!$B$14:$F$63,2,FALSE))","v":""},null,{"$f":"IF(A299=\"\",\"\",VLOOKUP(A299,'Fixture List Individual Files'!$B$14:$F$63,3,FALSE))","v":""},"",{"$f":"IF(A299=\"\",\"\",VLOOKUP(A299,'Fixture List Individual Files'!$B$14:$F$63,4,FALSE))","v":""},{"$f":"IF(A299=\"\",\"\",VLOOKUP(A299,'Fixture List Individual Files'!$B$14:$F$63,5,FALSE))","v":""},"","",""]
[null,{"$f":"IF(A300=\"\",\"\",VLOOKUP(A300,'Fixture List Individual Files'!$B$14:$F$63,2,FALSE))","v":""},null,{"$f":"IF(A300=\"\",\"\",VLOOKUP(A300,'Fixture List Individual Files'!$B$14:$F$63,3,FALSE))","v":""},"",{"$f":"IF(A300=\"\",\"\",VLOOKUP(A300,'Fixture List Individual Files'!$B$14:$F$63,4,FALSE))","v":""},{"$f":"IF(A300=\"\",\"\",VLOOKUP(A300,'Fixture List Individual Files'!$B$14:$F$63,5,FALSE))","v":""},"","",""]
[null,{"$f":"IF(A301=\"\",\"\",VLOOKUP(A301,'Fixture List Individual Files'!$B$14:$F$63,2,FALSE))","v":""},null,{"$f":"IF(A301=\"\",\"\",VLOOKUP(A301,'Fixture List Individual Files'!$B$14:$F$63,3,FALSE))","v":""},"",{"$f":"IF(A301=\"\",\"\",VLOOKUP(A301,'Fixture List Individual Files'!$B$14:$F$63,4,FALSE))","v":""},{"$f":"IF(A301=\"\",\"\",VLOOKUP(A301,'Fixture List Individual Files'!$B$14:$F$63,5,FALSE))","v":""},"","",""]
[null,{"$f":"IF(A302=\"\",\"\",VLOOKUP(A302,'Fixture List Individual Files'!$B$14:$F$63,2,FALSE))","v":""},null,{"$f":"IF(A302=\"\",\"\",VLOOKUP(A302,'Fixture List Individual Files'!$B$14:$F$63,3,FALSE))","v":""},"",{"$f":"IF(A302=\"\",\"\",VLOOKUP(A302,'Fixture List Individual Files'!$B$14:$F$63,4,FALSE))","v":""},{"$f":"IF(A302=\"\",\"\",VLOOKUP(A302,'Fixture List Individual Files'!$B$14:$F$63,5,FALSE))","v":""},"","",""]
[null,{"$f":"IF(A303=\"\",\"\",VLOOKUP(A303,'Fixture List Individual Files'!$B$14:$F$63,2,FALSE))","v":""},null,{"$f":"IF(A303=\"\",\"\",VLOOKUP(A303,'Fixture List Individual Files'!$B$14:$F$63,3,FALSE))","v":""},"",{"$f":"IF(A303=\"\",\"\",VLOOKUP(A303,'Fixture List Individual Files'!$B$14:$F$63,4,FALSE))","v":""},{"$f":"IF(A303=\"\",\"\",VLOOKUP(A303,'Fixture List Individual Files'!$B$14:$F$63,5,FALSE))","v":""},"","",""]
[null,{"$f":"IF(A304=\"\",\"\",VLOOKUP(A304,'Fixture List Individual Files'!$B$14:$F$63,2,FALSE))","v":""},null,{"$f":"IF(A304=\"\",\"\",VLOOKUP(A304,'Fixture List Individual Files'!$B$14:$F$63,3,FALSE))","v":""},"",{"$f":"IF(A304=\"\",\"\",VLOOKUP(A304,'Fixture List Individual Files'!$B$14:$F$63,4,FALSE))","v":""},{"$f":"IF(A304=\"\",\"\",VLOOKUP(A304,'Fixture List Individual Files'!$B$14:$F$63,5,FALSE))","v":""},"","",""]
[null,{"$f":"IF(A305=\"\",\"\",VLOOKUP(A305,'Fixture List Individual Files'!$B$14:$F$63,2,FALSE))","v":""},null,{"$f":"IF(A305=\"\",\"\",VLOOKUP(A305,'Fixture List Individual Files'!$B$14:$F$63,3,FALSE))","v":""},"",{"$f":"IF(A305=\"\",\"\",VLOOKUP(A305,'Fixture List Individual Files'!$B$14:$F$63,4,FALSE))","v":""},{"$f":"IF(A305=\"\",\"\",VLOOKUP(A305,'Fixture List Individual Files'!$B$14:$F$63,5,FALSE))","v":""},"","",""]
[null,{"$f":"IF(A306=\"\",\"\",VLOOKUP(A306,'Fixture List Individual Files'!$B$14:$F$63,2,FALSE))","v":""},null,{"$f":"IF(A306=\"\",\"\",VLOOKUP(A306,'Fixture List Individual Files'!$B$14:$F$63,3,FALSE))","v":""},"",{"$f":"IF(A306=\"\",\"\",VLOOKUP(A306,'Fixture List Individual Files'!$B$14:$F$63,4,FALSE))","v":""},{"$f":"IF(A306=\"\",\"\",VLOOKUP(A306,'Fixture List Individual Files'!$B$14:$F$63,5,FALSE))","v":""},"","",""]
[null,{"$f":"IF(A307=\"\",\"\",VLOOKUP(A307,'Fixture List Individual Files'!$B$14:$F$63,2,FALSE))","v":""},null,{"$f":"IF(A307=\"\",\"\",VLOOKUP(A307,'Fixture List Individual Files'!$B$14:$F$63,3,FALSE))","v":""},"",{"$f":"IF(A307=\"\",\"\",VLOOKUP(A307,'Fixture List Individual Files'!$B$14:$F$63,4,FALSE))","v":""},{"$f":"IF(A307=\"\",\"\",VLOOKUP(A307,'Fixture List Individual Files'!$B$14:$F$63,5,FALSE))","v":""},"","",""]
[null,{"$f":"IF(A308=\"\",\"\",VLOOKUP(A308,'Fixture List Individual Files'!$B$14:$F$63,2,FALSE))","v":""},null,{"$f":"IF(A308=\"\",\"\",VLOOKUP(A308,'Fixture List Individual Files'!$B$14:$F$63,3,FALSE))","v":""},"",{"$f":"IF(A308=\"\",\"\",VLOOKUP(A308,'Fixture List Individual Files'!$B$14:$F$63,4,FALSE))","v":""},{"$f":"IF(A308=\"\",\"\",VLOOKUP(A308,'Fixture List Individual Files'!$B$14:$F$63,5,FALSE))","v":""},"","",""]
[null,{"$f":"IF(A309=\"\",\"\",VLOOKUP(A309,'Fixture List Individual Files'!$B$14:$F$63,2,FALSE))","v":""},null,{"$f":"IF(A309=\"\",\"\",VLOOKUP(A309,'Fixture List Individual Files'!$B$14:$F$63,3,FALSE))","v":""},"",{"$f":"IF(A309=\"\",\"\",VLOOKUP(A309,'Fixture List Individual Files'!$B$14:$F$63,4,FALSE))","v":""},{"$f":"IF(A309=\"\",\"\",VLOOKUP(A309,'Fixture List Individual Files'!$B$14:$F$63,5,FALSE))","v":""},"","",""]
[null,"Totals:",{"$f":"SUM(C274:C309)","v":0},null,{"$f":"SUM(E274:E309)","v":0},{"$f":"SUMIF(F274:F309,\"Yes\",E274:E309)","v":0},null,{"$f":"SUM(H274:H309)","v":{"v":0,"d":"0.000"}},{"$f":"SUM(I274:I309)","v":0},0]
[]
["Area 8",{"$nulls":4},"NLC area factor:",{"$nulls":3},{"$f":"IF(VLOOKUP(A312,'Start Here!'!$N$46:$Q$70,4,FALSE)=0,VLOOKUP(Facility_Type,Admin_Lists!$A$63:$B$66,2,FALSE),VLOOKUP(A312,'Start Here!'!$N$46:$Q$70,4,FALSE))","v":{"$error":"#N/A"}}]
["Type:","Choose from Drop-down",null,null,{"$f":"IFERROR(VLOOKUP(B313,Admin_Lists!$A$9:$B$49,2,FALSE),\"\")","v":0},"W/sq ft",{"$nulls":3},{"$f":"VLOOKUP(A312,'Start Here!'!$N$46:$O$70,2,FALSE)","v":0}]
[null,{"$f":"\"Area Description: \"&'Sq. Ft. Area Individual Files'!D294","v":"Area Description: "},{"$nulls":3},"Sq Ft: ",{"$f":"'Sq. Ft. Area Individual Files'!C295","v":0}]
["Fixture Mark","Fixture\nName","Fixture\nCount","Fixture Watts","Total Watts \n(Fixt Count \nx Fixt Watts)","NLC Controls (Yes/No)","Space type","NLC Controls Savings"]
[{"$nulls":7},"Peak kW Savings","Annual kWh Savings","LC kWh Savings"]
[null,{"$f":"IF(A317=\"\",\"\",VLOOKUP(A317,'Fixture List Individual Files'!$B$14:$F$63,2,FALSE))","v":""},null,{"$f":"IF(A317=\"\",\"\",VLOOKUP(A317,'Fixture List Individual Files'!$B$14:$F$63,3,FALSE))","v":""},{"$f":"IF(D317=\"\",\"\",C317*D317)","v":""},{"$f":"IF(A317=\"\",\"\",VLOOKUP(A317,'Fixture List Individual Files'!$B$14:$F$63,4,FALSE))","v":""},{"$f":"IF(A317=\"\",\"\",VLOOKUP(A317,'Fixture List Individual Files'!$B$14:$F$63,5,FALSE))","v":""},{"$f":"IF(AND(F317=\"Yes\",Facility_Type=\"Commercial\"),(SFE_Commercial-SFBASE_Commercial)*E317/1000*$J$313,IF(AND(F317=\"Yes\",Facility_Type=\"Industrial\",G317=\"Non-High Bay\"),(SFE_Industrial-SFBASE_Industrial)*E317/1000*$J$313,IF(AND(F317=\"Yes\",Facility_Type=\"Schools & Government\",G317=\"Non-High Bay\"),((SFE_SG-SFBASE_SG)*E317/1000*$J$313),\"\")))","v":""},{"$f":"IF(AND(F317=\"Yes\",Facility_Type=\"Commercial\"),(SFE_Commercial-SFBASE_Commercial)*E317/1000*$J$312,IF(AND(F317=\"Yes\",Facility_Type=\"Industrial\",G317=\"Non-High Bay\"),(SFE_Industrial-SFBASE_Industrial)*E317/1000*$J$312,IF(AND(F317=\"Yes\",Facility_Type=\"Schools & Government\",G317=\"Non-High Bay\"),((SFE_SG-SFBASE_SG)*E317/1000*$J$312),\"\")))","v":""},{"$f":"IFERROR(I317*EUL_for_NLC,\"\")","v":""}]
[null,{"$f":"IF(A318=\"\",\"\",VLOOKUP(A318,'Fixture List Individual Files'!$B$14:$F$63,2,FALSE))","v":""},null,{"$f":"IF(A318=\"\",\"\",VLOOKUP(A318,'Fixture List Individual Files'!$B$14:$F$63,3,FALSE))","v":""},{"$f":"IF(D318=\"\",\"\",C318*D318)","v":""},{"$f":"IF(A318=\"\",\"\",VLOOKUP(A318,'Fixture List Individual Files'!$B$14:$F$63,4,FALSE))","v":""},{"$f":"IF(A318=\"\",\"\",VLOOKUP(A318,'Fixture List Individual Files'!$B$14:$F$63,5,FALSE))","v":""},"","",""]
[null,{"$f":"IF(A319=\"\",\"\",VLOOKUP(A319,'Fixture List Individual Files'!$B$14:$F$63,2,FALSE))","v":""},null,{"$f":"IF(A319=\"\",\"\",VLOOKUP(A319,'Fixture List Individual Files'!$B$14:$F$63,3,FALSE))","v":""},"",{"$f":"IF(A319=\"\",\"\",VLOOKUP(A319,'Fixture List Individual Files'!$B$14:$F$63,4,FALSE))","v":""},{"$f":"IF(A319=\"\",\"\",VLOOKUP(A319,'Fixture List Individual Files'!$B$14:$F$63,5,FALSE))","v":""},"","",""]
[null,{"$f":"IF(A320=\"\",\"\",VLOOKUP(A320,'Fixture List Individual Files'!$B$14:$F$63,2,FALSE))","v":""},null,{"$f":"IF(A320=\"\",\"\",VLOOKUP(A320,'Fixture List Individual Files'!$B$14:$F$63,3,FALSE))","v":""},"",{"$f":"IF(A320=\"\",\"\",VLOOKUP(A320,'Fixture List Individual Files'!$B$14:$F$63,4,FALSE))","v":""},{"$f":"IF(A320=\"\",\"\",VLOOKUP(A320,'Fixture List Individual Files'!$B$14:$F$63,5,FALSE))","v":""},"","",""]
[null,{"$f":"IF(A321=\"\",\"\",VLOOKUP(A321,'Fixture List Individual Files'!$B$14:$F$63,2,FALSE))","v":""},null,{"$f":"IF(A321=\"\",\"\",VLOOKUP(A321,'Fixture List Individual Files'!$B$14:$F$63,3,FALSE))","v":""},"",{"$f":"IF(A321=\"\",\"\",VLOOKUP(A321,'Fixture List Individual Files'!$B$14:$F$63,4,FALSE))","v":""},{"$f":"IF(A321=\"\",\"\",VLOOKUP(A321,'Fixture List Individual Files'!$B$14:$F$63,5,FALSE))","v":""},"","",""]
[null,{"$f":"IF(A322=\"\",\"\",VLOOKUP(A322,'Fixture List Individual Files'!$B$14:$F$63,2,FALSE))","v":""},null,{"$f":"IF(A322=\"\",\"\",VLOOKUP(A322,'Fixture List Individual Files'!$B$14:$F$63,3,FALSE))","v":""},"",{"$f":"IF(A322=\"\",\"\",VLOOKUP(A322,'Fixture List Individual Files'!$B$14:$F$63,4,FALSE))","v":""},{"$f":"IF(A322=\"\",\"\",VLOOKUP(A322,'Fixture List Individual Files'!$B$14:$F$63,5,FALSE))","v":""},"","",""]
[null,{"$f":"IF(A323=\"\",\"\",VLOOKUP(A323,'Fixture List Individual Files'!$B$14:$F$63,2,FALSE))","v":""},null,{"$f":"IF(A323=\"\",\"\",VLOOKUP(A323,'Fixture List Individual Files'!$B$14:$F$63,3,FALSE))","v":""},"",{"$f":"IF(A323=\"\",\"\",VLOOKUP(A323,'Fixture List Individual Files'!$B$14:$F$63,4,FALSE))","v":""},{"$f":"IF(A323=\"\",\"\",VLOOKUP(A323,'Fixture List Individual Files'!$B$14:$F$63,5,FALSE))","v":""},"","",""]
[null,{"$f":"IF(A324=\"\",\"\",VLOOKUP(A324,'Fixture List Individual Files'!$B$14:$F$63,2,FALSE))","v":""},null,{"$f":"IF(A324=\"\",\"\",VLOOKUP(A324,'Fixture List Individual Files'!$B$14:$F$63,3,FALSE))","v":""},"",{"$f":"IF(A324=\"\",\"\",VLOOKUP(A324,'Fixture List Individual Files'!$B$14:$F$63,4,FALSE))","v":""},{"$f":"IF(A324=\"\",\"\",VLOOKUP(A324,'Fixture List Individual Files'!$B$14:$F$63,5,FALSE))","v":""},"","",""]
[null,{"$f":"IF(A325=\"\",\"\",VLOOKUP(A325,'Fixture List Individual Files'!$B$14:$F$63,2,FALSE))","v":""},null,{"$f":"IF(A325=\"\",\"\",VLOOKUP(A325,'Fixture List Individual Files'!$B$14:$F$63,3,FALSE))","v":""},"",{"$f":"IF(A325=\"\",\"\",VLOOKUP(A325,'Fixture List Individual Files'!$B$14:$F$63,4,FALSE))","v":""},{"$f":"IF(A325=\"\",\"\",VLOOKUP(A325,'Fixture List Individual Files'!$B$14:$F$63,5,FALSE))","v":""},"","",""]
[null,{"$f":"IF(A326=\"\",\"\",VLOOKUP(A326,'Fixture List Individual Files'!$B$14:$F$63,2,FALSE))","v":""},null,{"$f":"IF(A326=\"\",\"\",VLOOKUP(A326,'Fixture List Individual Files'!$B$14:$F$63,3,FALSE))","v":""},"",{"$f":"IF(A326=\"\",\"\",VLOOKUP(A326,'Fixture List Individual Files'!$B$14:$F$63,4,FALSE))","v":""},{"$f":"IF(A326=\"\",\"\",VLOOKUP(A326,'Fixture List Individual Files'!$B$14:$F$63,5,FALSE))","v":""},"","",""]
[null,{"$f":"IF(A327=\"\",\"\",VLOOKUP(A327,'Fixture List Individual Files'!$B$14:$F$63,2,FALSE))","v":""},null,{"$f":"IF(A327=\"\",\"\",VLOOKUP(A327,'Fixture List Individual Files'!$B$14:$F$63,3,FALSE))","v":""},"",{"$f":"IF(A327=\"\",\"\",VLOOKUP(A327,'Fixture List Individual Files'!$B$14:$F$63,4,FALSE))","v":""},{"$f":"IF(A327=\"\",\"\",VLOOKUP(A327,'Fixture List Individual Files'!$B$14:$F$63,5,FALSE))","v":""},"","",""]
[null,{"$f":"IF(A328=\"\",\"\",VLOOKUP(A328,'Fixture List Individual Files'!$B$14:$F$63,2,FALSE))","v":""},null,{"$f":"IF(A328=\"\",\"\",VLOOKUP(A328,'Fixture List Individual Files'!$B$14:$F$63,3,FALSE))","v":""},"",{"$f":"IF(A328=\"\",\"\",VLOOKUP(A328,'Fixture List Individual Files'!$B$14:$F$63,4,FALSE))","v":""},{"$f":"IF(A328=\"\",\"\",VLOOKUP(A328,'Fixture List Individual Files'!$B$14:$F$63,5,FALSE))","v":""},"","",""]
[null,{"$f":"IF(A329=\"\",\"\",VLOOKUP(A329,'Fixture List Individual Files'!$B$14:$F$63,2,FALSE))","v":""},null,{"$f":"IF(A329=\"\",\"\",VLOOKUP(A329,'Fixture List Individual Files'!$B$14:$F$63,3,FALSE))","v":""},"",{"$f":"IF(A329=\"\",\"\",VLOOKUP(A329,'Fixture List Individual Files'!$B$14:$F$63,4,FALSE))","v":""},{"$f":"IF(A329=\"\",\"\",VLOOKUP(A329,'Fixture List Individual Files'!$B$14:$F$63,5,FALSE))","v":""},"","",""]
[null,{"$f":"IF(A330=\"\",\"\",VLOOKUP(A330,'Fixture List Individual Files'!$B$14:$F$63,2,FALSE))","v":""},null,{"$f":"IF(A330=\"\",\"\",VLOOKUP(A330,'Fixture List Individual Files'!$B$14:$F$63,3,FALSE))","v":""},"",{"$f":"IF(A330=\"\",\"\",VLOOKUP(A330,'Fixture List Individual Files'!$B$14:$F$63,4,FALSE))","v":""},{"$f":"IF(A330=\"\",\"\",VLOOKUP(A330,'Fixture List Individual Files'!$B$14:$F$63,5,FALSE))","v":""},"","",""]
[null,{"$f":"IF(A331=\"\",\"\",VLOOKUP(A331,'Fixture List Individual Files'!$B$14:$F$63,2,FALSE))","v":""},null,{"$f":"IF(A331=\"\",\"\",VLOOKUP(A331,'Fixture List Individual Files'!$B$14:$F$63,3,FALSE))","v":""},"",{"$f":"IF(A331=\"\",\"\",VLOOKUP(A331,'Fixture List Individual Files'!$B$14:$F$63,4,FALSE))","v":""},{"$f":"IF(A331=\"\",\"\",VLOOKUP(A331,'Fixture List Individual Files'!$B$14:$F$63,5,FALSE))","v":""},"","",""]
[null,{"$f":"IF(A332=\"\",\"\",VLOOKUP(A332,'Fixture List Individual Files'!$B$14:$F$63,2,FALSE))","v":""},null,{"$f":"IF(A332=\"\",\"\",VLOOKUP(A332,'Fixture List Individual Files'!$B$14:$F$63,3,FALSE))","v":""},"",{"$f":"IF(A332=\"\",\"\",VLOOKUP(A332,'Fixture List Individual Files'!$B$14:$F$63,4,FALSE))","v":""},{"$f":"IF(A332=\"\",\"\",VLOOKUP(A332,'Fixture List Individual Files'!$B$14:$F$63,5,FALSE))","v":""},"","",""]
[null,{"$f":"IF(A333=\"\",\"\",VLOOKUP(A333,'Fixture List Individual Files'!$B$14:$F$63,2,FALSE))","v":""},null,{"$f":"IF(A333=\"\",\"\",VLOOKUP(A333,'Fixture List Individual Files'!$B$14:$F$63,3,FALSE))","v":""},"",{"$f":"IF(A333=\"\",\"\",VLOOKUP(A333,'Fixture List Individual Files'!$B$14:$F$63,4,FALSE))","v":""},{"$f":"IF(A333=\"\",\"\",VLOOKUP(A333,'Fixture List Individual Files'!$B$14:$F$63,5,FALSE))","v":""},"","",""]
[null,{"$f":"IF(A334=\"\",\"\",VLOOKUP(A334,'Fixture List Individual Files'!$B$14:$F$63,2,FALSE))","v":""},null,{"$f":"IF(A334=\"\",\"\",VLOOKUP(A334,'Fixture List Individual Files'!$B$14:$F$63,3,FALSE))","v":""},"",{"$f":"IF(A334=\"\",\"\",VLOOKUP(A334,'Fixture List Individual Files'!$B$14:$F$63,4,FALSE))","v":""},{"$f":"IF(A334=\"\",\"\",VLOOKUP(A334,'Fixture List Individual Files'!$B$14:$F$63,5,FALSE))","v":""},"","",""]
[null,{"$f":"IF(A335=\"\",\"\",VLOOKUP(A335,'Fixture List Individual Files'!$B$14:$F$63,2,FALSE))","v":""},null,{"$f":"IF(A335=\"\",\"\",VLOOKUP(A335,'Fixture List Individual Files'!$B$14:$F$63,3,FALSE))","v":""},"",{"$f":"IF(A335=\"\",\"\",VLOOKUP(A335,'Fixture List Individual Files'!$B$14:$F$63,4,FALSE))","v":""},{"$f":"IF(A335=\"\",\"\",VLOOKUP(A335,'Fixture List Individual Files'!$B$14:$F$63,5,FALSE))","v":""},"","",""]
[null,{"$f":"IF(A336=\"\",\"\",VLOOKUP(A336,'Fixture List Individual Files'!$B$14:$F$63,2,FALSE))","v":""},null,{"$f":"IF(A336=\"\",\"\",VLOOKUP(A336,'Fixture List Individual Files'!$B$14:$F$63,3,FALSE))","v":""},"",{"$f":"IF(A336=\"\",\"\",VLOOKUP(A336,'Fixture List Individual Files'!$B$14:$F$63,4,FALSE))","v":""},{"$f":"IF(A336=\"\",\"\",VLOOKUP(A336,'Fixture List Individual Files'!$B$14:$F$63,5,FALSE))","v":""},"","",""]
[null,{"$f":"IF(A337=\"\",\"\",VLOOKUP(A337,'Fixture List Individual Files'!$B$14:$F$63,2,FALSE))","v":""},null,{"$f":"IF(A337=\"\",\"\",VLOOKUP(A337,'Fixture List Individual Files'!$B$14:$F$63,3,FALSE))","v":""},"",{"$f":"IF(A337=\"\",\"\",VLOOKUP(A337,'Fixture List Individual Files'!$B$14:$F$63,4,FALSE))","v":""},{"$f":"IF(A337=\"\",\"\",VLOOKUP(A337,'Fixture List Individual Files'!$B$14:$F$63,5,FALSE))","v":""},"","",""]
[null,{"$f":"IF(A338=\"\",\"\",VLOOKUP(A338,'Fixture List Individual Files'!$B$14:$F$63,2,FALSE))","v":""},null,{"$f":"IF(A338=\"\",\"\",VLOOKUP(A338,'Fixture List Individual Files'!$B$14:$F$63,3,FALSE))","v":""},"",{"$f":"IF(A338=\"\",\"\",VLOOKUP(A338,'Fixture List Individual Files'!$B$14:$F$63,4,FALSE))","v":""},{"$f":"IF(A338=\"\",\"\",VLOOKUP(A338,'Fixture List Individual Files'!$B$14:$F$63,5,FALSE))","v":""},"","",""]
[null,{"$f":"IF(A339=\"\",\"\",VLOOKUP(A339,'Fixture List Individual Files'!$B$14:$F$63,2,FALSE))","v":""},null,{"$f":"IF(A339=\"\",\"\",VLOOKUP(A339,'Fixture List Individual Files'!$B$14:$F$63,3,FALSE))","v":""},"",{"$f":"IF(A339=\"\",\"\",VLOOKUP(A339,'Fixture List Individual Files'!$B$14:$F$63,4,FALSE))","v":""},{"$f":"IF(A339=\"\",\"\",VLOOKUP(A339,'Fixture List Individual Files'!$B$14:$F$63,5,FALSE))","v":""},"","",""]
[null,{"$f":"IF(A340=\"\",\"\",VLOOKUP(A340,'Fixture List Individual Files'!$B$14:$F$63,2,FALSE))","v":""},null,{"$f":"IF(A340=\"\",\"\",VLOOKUP(A340,'Fixture List Individual Files'!$B$14:$F$63,3,FALSE))","v":""},"",{"$f":"IF(A340=\"\",\"\",VLOOKUP(A340,'Fixture List Individual Files'!$B$14:$F$63,4,FALSE))","v":""},{"$f":"IF(A340=\"\",\"\",VLOOKUP(A340,'Fixture List Individual Files'!$B$14:$F$63,5,FALSE))","v":""},"","",""]
[null,{"$f":"IF(A341=\"\",\"\",VLOOKUP(A341,'Fixture List Individual Files'!$B$14:$F$63,2,FALSE))","v":""},null,{"$f":"IF(A341=\"\",\"\",VLOOKUP(A341,'Fixture List Individual Files'!$B$14:$F$63,3,FALSE))","v":""},"",{"$f":"IF(A341=\"\",\"\",VLOOKUP(A341,'Fixture List Individual Files'!$B$14:$F$63,4,FALSE))","v":""},{"$f":"IF(A341=\"\",\"\",VLOOKUP(A341,'Fixture List Individual Files'!$B$14:$F$63,5,FALSE))","v":""},"","",""]
[null,{"$f":"IF(A342=\"\",\"\",VLOOKUP(A342,'Fixture List Individual Files'!$B$14:$F$63,2,FALSE))","v":""},null,{"$f":"IF(A342=\"\",\"\",VLOOKUP(A342,'Fixture List Individual Files'!$B$14:$F$63,3,FALSE))","v":""},"",{"$f":"IF(A342=\"\",\"\",VLOOKUP(A342,'Fixture List Individual Files'!$B$14:$F$63,4,FALSE))","v":""},{"$f":"IF(A342=\"\",\"\",VLOOKUP(A342,'Fixture List Individual Files'!$B$14:$F$63,5,FALSE))","v":""},"","",""]
[null,{"$f":"IF(A343=\"\",\"\",VLOOKUP(A343,'Fixture List Individual Files'!$B$14:$F$63,2,FALSE))","v":""},null,{"$f":"IF(A343=\"\",\"\",VLOOKUP(A343,'Fixture List Individual Files'!$B$14:$F$63,3,FALSE))","v":""},"",{"$f":"IF(A343=\"\",\"\",VLOOKUP(A343,'Fixture List Individual Files'!$B$14:$F$63,4,FALSE))","v":""},{"$f":"IF(A343=\"\",\"\",VLOOKUP(A343,'Fixture List Individual Files'!$B$14:$F$63,5,FALSE))","v":""},"","",""]
[null,{"$f":"IF(A344=\"\",\"\",VLOOKUP(A344,'Fixture List Individual Files'!$B$14:$F$63,2,FALSE))","v":""},null,{"$f":"IF(A344=\"\",\"\",VLOOKUP(A344,'Fixture List Individual Files'!$B$14:$F$63,3,FALSE))","v":""},"",{"$f":"IF(A344=\"\",\"\",VLOOKUP(A344,'Fixture List Individual Files'!$B$14:$F$63,4,FALSE))","v":""},{"$f":"IF(A344=\"\",\"\",VLOOKUP(A344,'Fixture List Individual Files'!$B$14:$F$63,5,FALSE))","v":""},"","",""]
[null,{"$f":"IF(A345=\"\",\"\",VLOOKUP(A345,'Fixture List Individual Files'!$B$14:$F$63,2,FALSE))","v":""},null,{"$f":"IF(A345=\"\",\"\",VLOOKUP(A345,'Fixture List Individual Files'!$B$14:$F$63,3,FALSE))","v":""},"",{"$f":"IF(A345=\"\",\"\",VLOOKUP(A345,'Fixture List Individual Files'!$B$14:$F$63,4,FALSE))","v":""},{"$f":"IF(A345=\"\",\"\",VLOOKUP(A345,'Fixture List Individual Files'!$B$14:$F$63,5,FALSE))","v":""},"","",""]
[null,{"$f":"IF(A346=\"\",\"\",VLOOKUP(A346,'Fixture List Individual Files'!$B$14:$F$63,2,FALSE))","v":""},null,{"$f":"IF(A346=\"\",\"\",VLOOKUP(A346,'Fixture List Individual Files'!$B$14:$F$63,3,FALSE))","v":""},"",{"$f":"IF(A346=\"\",\"\",VLOOKUP(A346,'Fixture List Individual Files'!$B$14:$F$63,4,FALSE))","v":""},{"$f":"IF(A346=\"\",\"\",VLOOKUP(A346,'Fixture List Individual Files'!$B$14:$F$63,5,FALSE))","v":""},"","",""]
[null,{"$f":"IF(A347=\"\",\"\",VLOOKUP(A347,'Fixture List Individual Files'!$B$14:$F$63,2,FALSE))","v":""},null,{"$f":"IF(A347=\"\",\"\",VLOOKUP(A347,'Fixture List Individual Files'!$B$14:$F$63,3,FALSE))","v":""},"",{"$f":"IF(A347=\"\",\"\",VLOOKUP(A347,'Fixture List Individual Files'!$B$14:$F$63,4,FALSE))","v":""},{"$f":"IF(A347=\"\",\"\",VLOOKUP(A347,'Fixture List Individual Files'!$B$14:$F$63,5,FALSE))","v":""},"","",""]
[null,{"$f":"IF(A348=\"\",\"\",VLOOKUP(A348,'Fixture List Individual Files'!$B$14:$F$63,2,FALSE))","v":""},null,{"$f":"IF(A348=\"\",\"\",VLOOKUP(A348,'Fixture List Individual Files'!$B$14:$F$63,3,FALSE))","v":""},"",{"$f":"IF(A348=\"\",\"\",VLOOKUP(A348,'Fixture List Individual Files'!$B$14:$F$63,4,FALSE))","v":""},{"$f":"IF(A348=\"\",\"\",VLOOKUP(A348,'Fixture List Individual Files'!$B$14:$F$63,5,FALSE))","v":""},"","",""]
[null,{"$f":"IF(A349=\"\",\"\",VLOOKUP(A349,'Fixture List Individual Files'!$B$14:$F$63,2,FALSE))","v":""},null,{"$f":"IF(A349=\"\",\"\",VLOOKUP(A349,'Fixture List Individual Files'!$B$14:$F$63,3,FALSE))","v":""},"",{"$f":"IF(A349=\"\",\"\",VLOOKUP(A349,'Fixture List Individual Files'!$B$14:$F$63,4,FALSE))","v":""},{"$f":"IF(A349=\"\",\"\",VLOOKUP(A349,'Fixture List Individual Files'!$B$14:$F$63,5,FALSE))","v":""},"","",""]
[null,{"$f":"IF(A350=\"\",\"\",VLOOKUP(A350,'Fixture List Individual Files'!$B$14:$F$63,2,FALSE))","v":""},null,{"$f":"IF(A350=\"\",\"\",VLOOKUP(A350,'Fixture List Individual Files'!$B$14:$F$63,3,FALSE))","v":""},"",{"$f":"IF(A350=\"\",\"\",VLOOKUP(A350,'Fixture List Individual Files'!$B$14:$F$63,4,FALSE))","v":""},{"$f":"IF(A350=\"\",\"\",VLOOKUP(A350,'Fixture List Individual Files'!$B$14:$F$63,5,FALSE))","v":""},"","",""]
[null,{"$f":"IF(A351=\"\",\"\",VLOOKUP(A351,'Fixture List Individual Files'!$B$14:$F$63,2,FALSE))","v":""},null,{"$f":"IF(A351=\"\",\"\",VLOOKUP(A351,'Fixture List Individual Files'!$B$14:$F$63,3,FALSE))","v":""},"",{"$f":"IF(A351=\"\",\"\",VLOOKUP(A351,'Fixture List Individual Files'!$B$14:$F$63,4,FALSE))","v":""},{"$f":"IF(A351=\"\",\"\",VLOOKUP(A351,'Fixture List Individual Files'!$B$14:$F$63,5,FALSE))","v":""},"","",""]
[null,{"$f":"IF(A352=\"\",\"\",VLOOKUP(A352,'Fixture List Individual Files'!$B$14:$F$63,2,FALSE))","v":""},null,{"$f":"IF(A352=\"\",\"\",VLOOKUP(A352,'Fixture List Individual Files'!$B$14:$F$63,3,FALSE))","v":""},"",{"$f":"IF(A352=\"\",\"\",VLOOKUP(A352,'Fixture List Individual Files'!$B$14:$F$63,4,FALSE))","v":""},{"$f":"IF(A352=\"\",\"\",VLOOKUP(A352,'Fixture List Individual Files'!$B$14:$F$63,5,FALSE))","v":""},"","",""]
[null,"Totals:",{"$f":"SUM(C317:C352)","v":0},null,{"$f":"SUM(E317:E352)","v":0},{"$f":"SUMIF(F317:F352,\"Yes\",E317:E352)","v":0},null,{"$f":"SUM(H317:H352)","v":{"v":0,"d":"0.000"}},{"$f":"SUM(I317:I352)","v":0},0]
[]
["Area 9",{"$nulls":4},"NLC area factor:",{"$nulls":3},{"$f":"IF(VLOOKUP(A355,'Start Here!'!$N$46:$Q$70,4,FALSE)=0,VLOOKUP(Facility_Type,Admin_Lists!$A$63:$B$66,2,FALSE),VLOOKUP(A355,'Start Here!'!$N$46:$Q$70,4,FALSE))","v":{"$error":"#N/A"}}]
["Type:","Choose from Drop-down",null,null,{"$f":"IFERROR(VLOOKUP(B356,Admin_Lists!$A$9:$B$49,2,FALSE),\"\")","v":0},"W/sq ft",{"$nulls":3},{"$f":"VLOOKUP(A355,'Start Here!'!$N$46:$O$70,2,FALSE)","v":0}]
[null,{"$f":"\"Area Description: \"&'Sq. Ft. Area Individual Files'!D298","v":"Area Description: "},{"$nulls":3},"Sq Ft: ",{"$f":"'Sq. Ft. Area Individual Files'!C299","v":0}]
["Fixture Mark","Fixture\nName","Fixture\nCount","Fixture Watts","Total Watts \n(Fixt Count \nx Fixt Watts)","NLC Controls (Yes/No)","Space type","NLC Controls Savings"]
[{"$nulls":7},"Peak kW Savings","Annual kWh Savings","LC kWh Savings"]
[null,{"$f":"IF(A360=\"\",\"\",VLOOKUP(A360,'Fixture List Individual Files'!$B$14:$F$63,2,FALSE))","v":""},null,{"$f":"IF(A360=\"\",\"\",VLOOKUP(A360,'Fixture List Individual Files'!$B$14:$F$63,3,FALSE))","v":""},{"$f":"IF(D360=\"\",\"\",C360*D360)","v":""},{"$f":"IF(A360=\"\",\"\",VLOOKUP(A360,'Fixture List Individual Files'!$B$14:$F$63,4,FALSE))","v":""},{"$f":"IF(A360=\"\",\"\",VLOOKUP(A360,'Fixture List Individual Files'!$B$14:$F$63,5,FALSE))","v":""},{"$f":"IF(AND(F360=\"Yes\",Facility_Type=\"Commercial\"),(SFE_Commercial-SFBASE_Commercial)*E360/1000*$J$356,IF(AND(F360=\"Yes\",Facility_Type=\"Industrial\",G360=\"Non-High Bay\"),(SFE_Industrial-SFBASE_Industrial)*E360/1000*$J$356,IF(AND(F360=\"Yes\",Facility_Type=\"Schools & Government\",G360=\"Non-High Bay\"),((SFE_SG-SFBASE_SG)*E360/1000*$J$356),\"\")))","v":""},{"$f":"IF(AND(F360=\"Yes\",Facility_Type=\"Commercial\"),(SFE_Commercial-SFBASE_Commercial)*E360/1000*$J$355,IF(AND(F360=\"Yes\",Facility_Type=\"Industrial\",G360=\"Non-High Bay\"),(SFE_Industrial-SFBASE_Industrial)*E360/1000*$J$355,IF(AND(F360=\"Yes\",Facility_Type=\"Schools & Government\",G360=\"Non-High Bay\"),((SFE_SG-SFBASE_SG)*E360/1000*$J$355),\"\")))","v":""},{"$f":"IFERROR(I360*EUL_for_NLC,\"\")","v":""}]
[null,{"$f":"IF(A361=\"\",\"\",VLOOKUP(A361,'Fixture List Individual Files'!$B$14:$F$63,2,FALSE))","v":""},null,{"$f":"IF(A361=\"\",\"\",VLOOKUP(A361,'Fixture List Individual Files'!$B$14:$F$63,3,FALSE))","v":""},{"$f":"IF(D361=\"\",\"\",C361*D361)","v":""},{"$f":"IF(A361=\"\",\"\",VLOOKUP(A361,'Fixture List Individual Files'!$B$14:$F$63,4,FALSE))","v":""},{"$f":"IF(A361=\"\",\"\",VLOOKUP(A361,'Fixture List Individual Files'!$B$14:$F$63,5,FALSE))","v":""},"","",""]
[null,{"$f":"IF(A362=\"\",\"\",VLOOKUP(A362,'Fixture List Individual Files'!$B$14:$F$63,2,FALSE))","v":""},null,{"$f":"IF(A362=\"\",\"\",VLOOKUP(A362,'Fixture List Individual Files'!$B$14:$F$63,3,FALSE))","v":""},"",{"$f":"IF(A362=\"\",\"\",VLOOKUP(A362,'Fixture List Individual Files'!$B$14:$F$63,4,FALSE))","v":""},{"$f":"IF(A362=\"\",\"\",VLOOKUP(A362,'Fixture List Individual Files'!$B$14:$F$63,5,FALSE))","v":""},"","",""]
[null,{"$f":"IF(A363=\"\",\"\",VLOOKUP(A363,'Fixture List Individual Files'!$B$14:$F$63,2,FALSE))","v":""},null,{"$f":"IF(A363=\"\",\"\",VLOOKUP(A363,'Fixture List Individual Files'!$B$14:$F$63,3,FALSE))","v":""},"",{"$f":"IF(A363=\"\",\"\",VLOOKUP(A363,'Fixture List Individual Files'!$B$14:$F$63,4,FALSE))","v":""},{"$f":"IF(A363=\"\",\"\",VLOOKUP(A363,'Fixture List Individual Files'!$B$14:$F$63,5,FALSE))","v":""},"","",""]
[null,{"$f":"IF(A364=\"\",\"\",VLOOKUP(A364,'Fixture List Individual Files'!$B$14:$F$63,2,FALSE))","v":""},null,{"$f":"IF(A364=\"\",\"\",VLOOKUP(A364,'Fixture List Individual Files'!$B$14:$F$63,3,FALSE))","v":""},"",{"$f":"IF(A364=\"\",\"\",VLOOKUP(A364,'Fixture List Individual Files'!$B$14:$F$63,4,FALSE))","v":""},{"$f":"IF(A364=\"\",\"\",VLOOKUP(A364,'Fixture List Individual Files'!$B$14:$F$63,5,FALSE))","v":""},"","",""]
[null,{"$f":"IF(A365=\"\",\"\",VLOOKUP(A365,'Fixture List Individual Files'!$B$14:$F$63,2,FALSE))","v":""},null,{"$f":"IF(A365=\"\",\"\",VLOOKUP(A365,'Fixture List Individual Files'!$B$14:$F$63,3,FALSE))","v":""},"",{"$f":"IF(A365=\"\",\"\",VLOOKUP(A365,'Fixture List Individual Files'!$B$14:$F$63,4,FALSE))","v":""},{"$f":"IF(A365=\"\",\"\",VLOOKUP(A365,'Fixture List Individual Files'!$B$14:$F$63,5,FALSE))","v":""},"","",""]
[null,{"$f":"IF(A366=\"\",\"\",VLOOKUP(A366,'Fixture List Individual Files'!$B$14:$F$63,2,FALSE))","v":""},null,{"$f":"IF(A366=\"\",\"\",VLOOKUP(A366,'Fixture List Individual Files'!$B$14:$F$63,3,FALSE))","v":""},"",{"$f":"IF(A366=\"\",\"\",VLOOKUP(A366,'Fixture List Individual Files'!$B$14:$F$63,4,FALSE))","v":""},{"$f":"IF(A366=\"\",\"\",VLOOKUP(A366,'Fixture List Individual Files'!$B$14:$F$63,5,FALSE))","v":""},"","",""]
[null,{"$f":"IF(A367=\"\",\"\",VLOOKUP(A367,'Fixture List Individual Files'!$B$14:$F$63,2,FALSE))","v":""},null,{"$f":"IF(A367=\"\",\"\",VLOOKUP(A367,'Fixture List Individual Files'!$B$14:$F$63,3,FALSE))","v":""},"",{"$f":"IF(A367=\"\",\"\",VLOOKUP(A367,'Fixture List Individual Files'!$B$14:$F$63,4,FALSE))","v":""},{"$f":"IF(A367=\"\",\"\",VLOOKUP(A367,'Fixture List Individual Files'!$B$14:$F$63,5,FALSE))","v":""},"","",""]
[null,{"$f":"IF(A368=\"\",\"\",VLOOKUP(A368,'Fixture List Individual Files'!$B$14:$F$63,2,FALSE))","v":""},null,{"$f":"IF(A368=\"\",\"\",VLOOKUP(A368,'Fixture List Individual Files'!$B$14:$F$63,3,FALSE))","v":""},"",{"$f":"IF(A368=\"\",\"\",VLOOKUP(A368,'Fixture List Individual Files'!$B$14:$F$63,4,FALSE))","v":""},{"$f":"IF(A368=\"\",\"\",VLOOKUP(A368,'Fixture List Individual Files'!$B$14:$F$63,5,FALSE))","v":""},"","",""]
[null,{"$f":"IF(A369=\"\",\"\",VLOOKUP(A369,'Fixture List Individual Files'!$B$14:$F$63,2,FALSE))","v":""},null,{"$f":"IF(A369=\"\",\"\",VLOOKUP(A369,'Fixture List Individual Files'!$B$14:$F$63,3,FALSE))","v":""},"",{"$f":"IF(A369=\"\",\"\",VLOOKUP(A369,'Fixture List Individual Files'!$B$14:$F$63,4,FALSE))","v":""},{"$f":"IF(A369=\"\",\"\",VLOOKUP(A369,'Fixture List Individual Files'!$B$14:$F$63,5,FALSE))","v":""},"","",""]
[null,{"$f":"IF(A370=\"\",\"\",VLOOKUP(A370,'Fixture List Individual Files'!$B$14:$F$63,2,FALSE))","v":""},null,{"$f":"IF(A370=\"\",\"\",VLOOKUP(A370,'Fixture List Individual Files'!$B$14:$F$63,3,FALSE))","v":""},"",{"$f":"IF(A370=\"\",\"\",VLOOKUP(A370,'Fixture List Individual Files'!$B$14:$F$63,4,FALSE))","v":""},{"$f":"IF(A370=\"\",\"\",VLOOKUP(A370,'Fixture List Individual Files'!$B$14:$F$63,5,FALSE))","v":""},"","",""]
[null,{"$f":"IF(A371=\"\",\"\",VLOOKUP(A371,'Fixture List Individual Files'!$B$14:$F$63,2,FALSE))","v":""},null,{"$f":"IF(A371=\"\",\"\",VLOOKUP(A371,'Fixture List Individual Files'!$B$14:$F$63,3,FALSE))","v":""},"",{"$f":"IF(A371=\"\",\"\",VLOOKUP(A371,'Fixture List Individual Files'!$B$14:$F$63,4,FALSE))","v":""},{"$f":"IF(A371=\"\",\"\",VLOOKUP(A371,'Fixture List Individual Files'!$B$14:$F$63,5,FALSE))","v":""},"","",""]
[null,{"$f":"IF(A372=\"\",\"\",VLOOKUP(A372,'Fixture List Individual Files'!$B$14:$F$63,2,FALSE))","v":""},null,{"$f":"IF(A372=\"\",\"\",VLOOKUP(A372,'Fixture List Individual Files'!$B$14:$F$63,3,FALSE))","v":""},"",{"$f":"IF(A372=\"\",\"\",VLOOKUP(A372,'Fixture List Individual Files'!$B$14:$F$63,4,FALSE))","v":""},{"$f":"IF(A372=\"\",\"\",VLOOKUP(A372,'Fixture List Individual Files'!$B$14:$F$63,5,FALSE))","v":""},"","",""]
[null,{"$f":"IF(A373=\"\",\"\",VLOOKUP(A373,'Fixture List Individual Files'!$B$14:$F$63,2,FALSE))","v":""},null,{"$f":"IF(A373=\"\",\"\",VLOOKUP(A373,'Fixture List Individual Files'!$B$14:$F$63,3,FALSE))","v":""},"",{"$f":"IF(A373=\"\",\"\",VLOOKUP(A373,'Fixture List Individual Files'!$B$14:$F$63,4,FALSE))","v":""},{"$f":"IF(A373=\"\",\"\",VLOOKUP(A373,'Fixture List Individual Files'!$B$14:$F$63,5,FALSE))","v":""},"","",""]
[null,{"$f":"IF(A374=\"\",\"\",VLOOKUP(A374,'Fixture List Individual Files'!$B$14:$F$63,2,FALSE))","v":""},null,{"$f":"IF(A374=\"\",\"\",VLOOKUP(A374,'Fixture List Individual Files'!$B$14:$F$63,3,FALSE))","v":""},"",{"$f":"IF(A374=\"\",\"\",VLOOKUP(A374,'Fixture List Individual Files'!$B$14:$F$63,4,FALSE))","v":""},{"$f":"IF(A374=\"\",\"\",VLOOKUP(A374,'Fixture List Individual Files'!$B$14:$F$63,5,FALSE))","v":""},"","",""]
[null,{"$f":"IF(A375=\"\",\"\",VLOOKUP(A375,'Fixture List Individual Files'!$B$14:$F$63,2,FALSE))","v":""},null,{"$f":"IF(A375=\"\",\"\",VLOOKUP(A375,'Fixture List Individual Files'!$B$14:$F$63,3,FALSE))","v":""},"",{"$f":"IF(A375=\"\",\"\",VLOOKUP(A375,'Fixture List Individual Files'!$B$14:$F$63,4,FALSE))","v":""},{"$f":"IF(A375=\"\",\"\",VLOOKUP(A375,'Fixture List Individual Files'!$B$14:$F$63,5,FALSE))","v":""},"","",""]
[null,{"$f":"IF(A376=\"\",\"\",VLOOKUP(A376,'Fixture List Individual Files'!$B$14:$F$63,2,FALSE))","v":""},null,{"$f":"IF(A376=\"\",\"\",VLOOKUP(A376,'Fixture List Individual Files'!$B$14:$F$63,3,FALSE))","v":""},"",{"$f":"IF(A376=\"\",\"\",VLOOKUP(A376,'Fixture List Individual Files'!$B$14:$F$63,4,FALSE))","v":""},{"$f":"IF(A376=\"\",\"\",VLOOKUP(A376,'Fixture List Individual Files'!$B$14:$F$63,5,FALSE))","v":""},"","",""]
[null,{"$f":"IF(A377=\"\",\"\",VLOOKUP(A377,'Fixture List Individual Files'!$B$14:$F$63,2,FALSE))","v":""},null,{"$f":"IF(A377=\"\",\"\",VLOOKUP(A377,'Fixture List Individual Files'!$B$14:$F$63,3,FALSE))","v":""},"",{"$f":"IF(A377=\"\",\"\",VLOOKUP(A377,'Fixture List Individual Files'!$B$14:$F$63,4,FALSE))","v":""},{"$f":"IF(A377=\"\",\"\",VLOOKUP(A377,'Fixture List Individual Files'!$B$14:$F$63,5,FALSE))","v":""},"","",""]
[null,{"$f":"IF(A378=\"\",\"\",VLOOKUP(A378,'Fixture List Individual Files'!$B$14:$F$63,2,FALSE))","v":""},null,{"$f":"IF(A378=\"\",\"\",VLOOKUP(A378,'Fixture List Individual Files'!$B$14:$F$63,3,FALSE))","v":""},"",{"$f":"IF(A378=\"\",\"\",VLOOKUP(A378,'Fixture List Individual Files'!$B$14:$F$63,4,FALSE))","v":""},{"$f":"IF(A378=\"\",\"\",VLOOKUP(A378,'Fixture List Individual Files'!$B$14:$F$63,5,FALSE))","v":""},"","",""]
[null,{"$f":"IF(A379=\"\",\"\",VLOOKUP(A379,'Fixture List Individual Files'!$B$14:$F$63,2,FALSE))","v":""},null,{"$f":"IF(A379=\"\",\"\",VLOOKUP(A379,'Fixture List Individual Files'!$B$14:$F$63,3,FALSE))","v":""},"",{"$f":"IF(A379=\"\",\"\",VLOOKUP(A379,'Fixture List Individual Files'!$B$14:$F$63,4,FALSE))","v":""},{"$f":"IF(A379=\"\",\"\",VLOOKUP(A379,'Fixture List Individual Files'!$B$14:$F$63,5,FALSE))","v":""},"","",""]
[null,{"$f":"IF(A380=\"\",\"\",VLOOKUP(A380,'Fixture List Individual Files'!$B$14:$F$63,2,FALSE))","v":""},null,{"$f":"IF(A380=\"\",\"\",VLOOKUP(A380,'Fixture List Individual Files'!$B$14:$F$63,3,FALSE))","v":""},"",{"$f":"IF(A380=\"\",\"\",VLOOKUP(A380,'Fixture List Individual Files'!$B$14:$F$63,4,FALSE))","v":""},{"$f":"IF(A380=\"\",\"\",VLOOKUP(A380,'Fixture List Individual Files'!$B$14:$F$63,5,FALSE))","v":""},"","",""]
[null,{"$f":"IF(A381=\"\",\"\",VLOOKUP(A381,'Fixture List Individual Files'!$B$14:$F$63,2,FALSE))","v":""},null,{"$f":"IF(A381=\"\",\"\",VLOOKUP(A381,'Fixture List Individual Files'!$B$14:$F$63,3,FALSE))","v":""},"",{"$f":"IF(A381=\"\",\"\",VLOOKUP(A381,'Fixture List Individual Files'!$B$14:$F$63,4,FALSE))","v":""},{"$f":"IF(A381=\"\",\"\",VLOOKUP(A381,'Fixture List Individual Files'!$B$14:$F$63,5,FALSE))","v":""},"","",""]
[null,{"$f":"IF(A382=\"\",\"\",VLOOKUP(A382,'Fixture List Individual Files'!$B$14:$F$63,2,FALSE))","v":""},null,{"$f":"IF(A382=\"\",\"\",VLOOKUP(A382,'Fixture List Individual Files'!$B$14:$F$63,3,FALSE))","v":""},"",{"$f":"IF(A382=\"\",\"\",VLOOKUP(A382,'Fixture List Individual Files'!$B$14:$F$63,4,FALSE))","v":""},{"$f":"IF(A382=\"\",\"\",VLOOKUP(A382,'Fixture List Individual Files'!$B$14:$F$63,5,FALSE))","v":""},"","",""]
[null,{"$f":"IF(A383=\"\",\"\",VLOOKUP(A383,'Fixture List Individual Files'!$B$14:$F$63,2,FALSE))","v":""},null,{"$f":"IF(A383=\"\",\"\",VLOOKUP(A383,'Fixture List Individual Files'!$B$14:$F$63,3,FALSE))","v":""},"",{"$f":"IF(A383=\"\",\"\",VLOOKUP(A383,'Fixture List Individual Files'!$B$14:$F$63,4,FALSE))","v":""},{"$f":"IF(A383=\"\",\"\",VLOOKUP(A383,'Fixture List Individual Files'!$B$14:$F$63,5,FALSE))","v":""},"","",""]
[null,{"$f":"IF(A384=\"\",\"\",VLOOKUP(A384,'Fixture List Individual Files'!$B$14:$F$63,2,FALSE))","v":""},null,{"$f":"IF(A384=\"\",\"\",VLOOKUP(A384,'Fixture List Individual Files'!$B$14:$F$63,3,FALSE))","v":""},"",{"$f":"IF(A384=\"\",\"\",VLOOKUP(A384,'Fixture List Individual Files'!$B$14:$F$63,4,FALSE))","v":""},{"$f":"IF(A384=\"\",\"\",VLOOKUP(A384,'Fixture List Individual Files'!$B$14:$F$63,5,FALSE))","v":""},"","",""]
[null,{"$f":"IF(A385=\"\",\"\",VLOOKUP(A385,'Fixture List Individual Files'!$B$14:$F$63,2,FALSE))","v":""},null,{"$f":"IF(A385=\"\",\"\",VLOOKUP(A385,'Fixture List Individual Files'!$B$14:$F$63,3,FALSE))","v":""},"",{"$f":"IF(A385=\"\",\"\",VLOOKUP(A385,'Fixture List Individual Files'!$B$14:$F$63,4,FALSE))","v":""},{"$f":"IF(A385=\"\",\"\",VLOOKUP(A385,'Fixture List Individual Files'!$B$14:$F$63,5,FALSE))","v":""},"","",""]
[null,{"$f":"IF(A386=\"\",\"\",VLOOKUP(A386,'Fixture List Individual Files'!$B$14:$F$63,2,FALSE))","v":""},null,{"$f":"IF(A386=\"\",\"\",VLOOKUP(A386,'Fixture List Individual Files'!$B$14:$F$63,3,FALSE))","v":""},"",{"$f":"IF(A386=\"\",\"\",VLOOKUP(A386,'Fixture List Individual Files'!$B$14:$F$63,4,FALSE))","v":""},{"$f":"IF(A386=\"\",\"\",VLOOKUP(A386,'Fixture List Individual Files'!$B$14:$F$63,5,FALSE))","v":""},"","",""]
[null,{"$f":"IF(A387=\"\",\"\",VLOOKUP(A387,'Fixture List Individual Files'!$B$14:$F$63,2,FALSE))","v":""},null,{"$f":"IF(A387=\"\",\"\",VLOOKUP(A387,'Fixture List Individual Files'!$B$14:$F$63,3,FALSE))","v":""},"",{"$f":"IF(A387=\"\",\"\",VLOOKUP(A387,'Fixture List Individual Files'!$B$14:$F$63,4,FALSE))","v":""},{"$f":"IF(A387=\"\",\"\",VLOOKUP(A387,'Fixture List Individual Files'!$B$14:$F$63,5,FALSE))","v":""},"","",""]
[null,{"$f":"IF(A388=\"\",\"\",VLOOKUP(A388,'Fixture List Individual Files'!$B$14:$F$63,2,FALSE))","v":""},null,{"$f":"IF(A388=\"\",\"\",VLOOKUP(A388,'Fixture List Individual Files'!$B$14:$F$63,3,FALSE))","v":""},"",{"$f":"IF(A388=\"\",\"\",VLOOKUP(A388,'Fixture List Individual Files'!$B$14:$F$63,4,FALSE))","v":""},{"$f":"IF(A388=\"\",\"\",VLOOKUP(A388,'Fixture List Individual Files'!$B$14:$F$63,5,FALSE))","v":""},"","",""]
[null,{"$f":"IF(A389=\"\",\"\",VLOOKUP(A389,'Fixture List Individual Files'!$B$14:$F$63,2,FALSE))","v":""},null,{"$f":"IF(A389=\"\",\"\",VLOOKUP(A389,'Fixture List Individual Files'!$B$14:$F$63,3,FALSE))","v":""},"",{"$f":"IF(A389=\"\",\"\",VLOOKUP(A389,'Fixture List Individual Files'!$B$14:$F$63,4,FALSE))","v":""},{"$f":"IF(A389=\"\",\"\",VLOOKUP(A389,'Fixture List Individual Files'!$B$14:$F$63,5,FALSE))","v":""},"","",""]
[null,{"$f":"IF(A390=\"\",\"\",VLOOKUP(A390,'Fixture List Individual Files'!$B$14:$F$63,2,FALSE))","v":""},null,{"$f":"IF(A390=\"\",\"\",VLOOKUP(A390,'Fixture List Individual Files'!$B$14:$F$63,3,FALSE))","v":""},"",{"$f":"IF(A390=\"\",\"\",VLOOKUP(A390,'Fixture List Individual Files'!$B$14:$F$63,4,FALSE))","v":""},{"$f":"IF(A390=\"\",\"\",VLOOKUP(A390,'Fixture List Individual Files'!$B$14:$F$63,5,FALSE))","v":""},"","",""]
[null,{"$f":"IF(A391=\"\",\"\",VLOOKUP(A391,'Fixture List Individual Files'!$B$14:$F$63,2,FALSE))","v":""},null,{"$f":"IF(A391=\"\",\"\",VLOOKUP(A391,'Fixture List Individual Files'!$B$14:$F$63,3,FALSE))","v":""},"",{"$f":"IF(A391=\"\",\"\",VLOOKUP(A391,'Fixture List Individual Files'!$B$14:$F$63,4,FALSE))","v":""},{"$f":"IF(A391=\"\",\"\",VLOOKUP(A391,'Fixture List Individual Files'!$B$14:$F$63,5,FALSE))","v":""},"","",""]
[null,{"$f":"IF(A392=\"\",\"\",VLOOKUP(A392,'Fixture List Individual Files'!$B$14:$F$63,2,FALSE))","v":""},null,{"$f":"IF(A392=\"\",\"\",VLOOKUP(A392,'Fixture List Individual Files'!$B$14:$F$63,3,FALSE))","v":""},"",{"$f":"IF(A392=\"\",\"\",VLOOKUP(A392,'Fixture List Individual Files'!$B$14:$F$63,4,FALSE))","v":""},{"$f":"IF(A392=\"\",\"\",VLOOKUP(A392,'Fixture List Individual Files'!$B$14:$F$63,5,FALSE))","v":""},"","",""]
[null,{"$f":"IF(A393=\"\",\"\",VLOOKUP(A393,'Fixture List Individual Files'!$B$14:$F$63,2,FALSE))","v":""},null,{"$f":"IF(A393=\"\",\"\",VLOOKUP(A393,'Fixture List Individual Files'!$B$14:$F$63,3,FALSE))","v":""},"",{"$f":"IF(A393=\"\",\"\",VLOOKUP(A393,'Fixture List Individual Files'!$B$14:$F$63,4,FALSE))","v":""},{"$f":"IF(A393=\"\",\"\",VLOOKUP(A393,'Fixture List Individual Files'!$B$14:$F$63,5,FALSE))","v":""},"","",""]
[null,{"$f":"IF(A394=\"\",\"\",VLOOKUP(A394,'Fixture List Individual Files'!$B$14:$F$63,2,FALSE))","v":""},null,{"$f":"IF(A394=\"\",\"\",VLOOKUP(A394,'Fixture List Individual Files'!$B$14:$F$63,3,FALSE))","v":""},"",{"$f":"IF(A394=\"\",\"\",VLOOKUP(A394,'Fixture List Individual Files'!$B$14:$F$63,4,FALSE))","v":""},{"$f":"IF(A394=\"\",\"\",VLOOKUP(A394,'Fixture List Individual Files'!$B$14:$F$63,5,FALSE))","v":""},"","",""]
[null,{"$f":"IF(A395=\"\",\"\",VLOOKUP(A395,'Fixture List Individual Files'!$B$14:$F$63,2,FALSE))","v":""},null,{"$f":"IF(A395=\"\",\"\",VLOOKUP(A395,'Fixture List Individual Files'!$B$14:$F$63,3,FALSE))","v":""},"",{"$f":"IF(A395=\"\",\"\",VLOOKUP(A395,'Fixture List Individual Files'!$B$14:$F$63,4,FALSE))","v":""},{"$f":"IF(A395=\"\",\"\",VLOOKUP(A395,'Fixture List Individual Files'!$B$14:$F$63,5,FALSE))","v":""},"","",""]
[null,"Totals:",{"$f":"SUM(C360:C395)","v":0},null,{"$f":"SUM(E360:E395)","v":0},{"$f":"SUMIF(F360:F395,\"Yes\",E360:E395)","v":0},null,{"$f":"SUM(H360:H395)","v":{"v":0,"d":"0.000"}},{"$f":"SUM(I360:I395)","v":0},0]
[]
["Area 10",{"$nulls":4},"NLC area factor:",{"$nulls":3},{"$f":"IF(VLOOKUP(A398,'Start Here!'!$N$46:$Q$70,4,FALSE)=0,VLOOKUP(Facility_Type,Admin_Lists!$A$63:$B$66,2,FALSE),VLOOKUP(A398,'Start Here!'!$N$46:$Q$70,4,FALSE))","v":{"$error":"#N/A"}}]
["Type:","Choose from Drop-down",null,null,{"$f":"IFERROR(VLOOKUP(B399,Admin_Lists!$A$9:$B$49,2,FALSE),\"\")","v":0},"W/sq ft",{"$nulls":3},{"$f":"VLOOKUP(A398,'Start Here!'!$N$46:$O$70,2,FALSE)","v":0}]
[null,{"$f":"\"Area Description: \"&'Sq. Ft. Area Individual Files'!D302","v":"Area Description: "},{"$nulls":3},"Sq Ft: ",{"$f":"'Sq. Ft. Area Individual Files'!C303","v":0}]
["Fixture Mark","Fixture\nName","Fixture\nCount","Fixture Watts","Total Watts \n(Fixt Count \nx Fixt Watts)","NLC Controls (Yes/No)","Space type","NLC Controls Savings"]
[{"$nulls":7},"Peak kW Savings","Annual kWh Savings","LC kWh Savings"]
[null,{"$f":"IF(A403=\"\",\"\",VLOOKUP(A403,'Fixture List Individual Files'!$B$14:$F$63,2,FALSE))","v":""},null,{"$f":"IF(A403=\"\",\"\",VLOOKUP(A403,'Fixture List Individual Files'!$B$14:$F$63,3,FALSE))","v":""},{"$f":"IF(D403=\"\",\"\",C403*D403)","v":""},{"$f":"IF(A403=\"\",\"\",VLOOKUP(A403,'Fixture List Individual Files'!$B$14:$F$63,4,FALSE))","v":""},{"$f":"IF(A403=\"\",\"\",VLOOKUP(A403,'Fixture List Individual Files'!$B$14:$F$63,5,FALSE))","v":""},{"$f":"IF(AND(F403=\"Yes\",Facility_Type=\"Commercial\"),(SFE_Commercial-SFBASE_Commercial)*E403/1000*$J$399,IF(AND(F403=\"Yes\",Facility_Type=\"Industrial\",G403=\"Non-High Bay\"),(SFE_Industrial-SFBASE_Industrial)*E403/1000*$J$399,IF(AND(F403=\"Yes\",Facility_Type=\"Schools & Government\",G403=\"Non-High Bay\"),((SFE_SG-SFBASE_SG)*E403/1000*$J$399),\"\")))","v":""},{"$f":"IF(AND(F403=\"Yes\",Facility_Type=\"Commercial\"),(SFE_Commercial-SFBASE_Commercial)*E403/1000*$J$398,IF(AND(F403=\"Yes\",Facility_Type=\"Industrial\",G403=\"Non-High Bay\"),(SFE_Industrial-SFBASE_Industrial)*E403/1000*$J$398,IF(AND(F403=\"Yes\",Facility_Type=\"Schools & Government\",G403=\"Non-High Bay\"),((SFE_SG-SFBASE_SG)*E403/1000*$J$398),\"\")))","v":""},{"$f":"IFERROR(I403*EUL_for_NLC,\"\")","v":""}]
[null,{"$f":"IF(A404=\"\",\"\",VLOOKUP(A404,'Fixture List Individual Files'!$B$14:$F$63,2,FALSE))","v":""},null,{"$f":"IF(A404=\"\",\"\",VLOOKUP(A404,'Fixture List Individual Files'!$B$14:$F$63,3,FALSE))","v":""},{"$f":"IF(D404=\"\",\"\",C404*D404)","v":""},{"$f":"IF(A404=\"\",\"\",VLOOKUP(A404,'Fixture List Individual Files'!$B$14:$F$63,4,FALSE))","v":""},{"$f":"IF(A404=\"\",\"\",VLOOKUP(A404,'Fixture List Individual Files'!$B$14:$F$63,5,FALSE))","v":""},"","",""]
[null,{"$f":"IF(A405=\"\",\"\",VLOOKUP(A405,'Fixture List Individual Files'!$B$14:$F$63,2,FALSE))","v":""},null,{"$f":"IF(A405=\"\",\"\",VLOOKUP(A405,'Fixture List Individual Files'!$B$14:$F$63,3,FALSE))","v":""},"",{"$f":"IF(A405=\"\",\"\",VLOOKUP(A405,'Fixture List Individual Files'!$B$14:$F$63,4,FALSE))","v":""},{"$f":"IF(A405=\"\",\"\",VLOOKUP(A405,'Fixture List Individual Files'!$B$14:$F$63,5,FALSE))","v":""},"","",""]
[null,{"$f":"IF(A406=\"\",\"\",VLOOKUP(A406,'Fixture List Individual Files'!$B$14:$F$63,2,FALSE))","v":""},null,{"$f":"IF(A406=\"\",\"\",VLOOKUP(A406,'Fixture List Individual Files'!$B$14:$F$63,3,FALSE))","v":""},"",{"$f":"IF(A406=\"\",\"\",VLOOKUP(A406,'Fixture List Individual Files'!$B$14:$F$63,4,FALSE))","v":""},{"$f":"IF(A406=\"\",\"\",VLOOKUP(A406,'Fixture List Individual Files'!$B$14:$F$63,5,FALSE))","v":""},"","",""]
[null,{"$f":"IF(A407=\"\",\"\",VLOOKUP(A407,'Fixture List Individual Files'!$B$14:$F$63,2,FALSE))","v":""},null,{"$f":"IF(A407=\"\",\"\",VLOOKUP(A407,'Fixture List Individual Files'!$B$14:$F$63,3,FALSE))","v":""},"",{"$f":"IF(A407=\"\",\"\",VLOOKUP(A407,'Fixture List Individual Files'!$B$14:$F$63,4,FALSE))","v":""},{"$f":"IF(A407=\"\",\"\",VLOOKUP(A407,'Fixture List Individual Files'!$B$14:$F$63,5,FALSE))","v":""},"","",""]
[null,{"$f":"IF(A408=\"\",\"\",VLOOKUP(A408,'Fixture List Individual Files'!$B$14:$F$63,2,FALSE))","v":""},null,{"$f":"IF(A408=\"\",\"\",VLOOKUP(A408,'Fixture List Individual Files'!$B$14:$F$63,3,FALSE))","v":""},"",{"$f":"IF(A408=\"\",\"\",VLOOKUP(A408,'Fixture List Individual Files'!$B$14:$F$63,4,FALSE))","v":""},{"$f":"IF(A408=\"\",\"\",VLOOKUP(A408,'Fixture List Individual Files'!$B$14:$F$63,5,FALSE))","v":""},"","",""]
[null,{"$f":"IF(A409=\"\",\"\",VLOOKUP(A409,'Fixture List Individual Files'!$B$14:$F$63,2,FALSE))","v":""},null,{"$f":"IF(A409=\"\",\"\",VLOOKUP(A409,'Fixture List Individual Files'!$B$14:$F$63,3,FALSE))","v":""},"",{"$f":"IF(A409=\"\",\"\",VLOOKUP(A409,'Fixture List Individual Files'!$B$14:$F$63,4,FALSE))","v":""},{"$f":"IF(A409=\"\",\"\",VLOOKUP(A409,'Fixture List Individual Files'!$B$14:$F$63,5,FALSE))","v":""},"","",""]
[null,{"$f":"IF(A410=\"\",\"\",VLOOKUP(A410,'Fixture List Individual Files'!$B$14:$F$63,2,FALSE))","v":""},null,{"$f":"IF(A410=\"\",\"\",VLOOKUP(A410,'Fixture List Individual Files'!$B$14:$F$63,3,FALSE))","v":""},"",{"$f":"IF(A410=\"\",\"\",VLOOKUP(A410,'Fixture List Individual Files'!$B$14:$F$63,4,FALSE))","v":""},{"$f":"IF(A410=\"\",\"\",VLOOKUP(A410,'Fixture List Individual Files'!$B$14:$F$63,5,FALSE))","v":""},"","",""]
[null,{"$f":"IF(A411=\"\",\"\",VLOOKUP(A411,'Fixture List Individual Files'!$B$14:$F$63,2,FALSE))","v":""},null,{"$f":"IF(A411=\"\",\"\",VLOOKUP(A411,'Fixture List Individual Files'!$B$14:$F$63,3,FALSE))","v":""},"",{"$f":"IF(A411=\"\",\"\",VLOOKUP(A411,'Fixture List Individual Files'!$B$14:$F$63,4,FALSE))","v":""},{"$f":"IF(A411=\"\",\"\",VLOOKUP(A411,'Fixture List Individual Files'!$B$14:$F$63,5,FALSE))","v":""},"","",""]
[null,{"$f":"IF(A412=\"\",\"\",VLOOKUP(A412,'Fixture List Individual Files'!$B$14:$F$63,2,FALSE))","v":""},null,{"$f":"IF(A412=\"\",\"\",VLOOKUP(A412,'Fixture List Individual Files'!$B$14:$F$63,3,FALSE))","v":""},"",{"$f":"IF(A412=\"\",\"\",VLOOKUP(A412,'Fixture List Individual Files'!$B$14:$F$63,4,FALSE))","v":""},{"$f":"IF(A412=\"\",\"\",VLOOKUP(A412,'Fixture List Individual Files'!$B$14:$F$63,5,FALSE))","v":""},"","",""]
[null,{"$f":"IF(A413=\"\",\"\",VLOOKUP(A413,'Fixture List Individual Files'!$B$14:$F$63,2,FALSE))","v":""},null,{"$f":"IF(A413=\"\",\"\",VLOOKUP(A413,'Fixture List Individual Files'!$B$14:$F$63,3,FALSE))","v":""},"",{"$f":"IF(A413=\"\",\"\",VLOOKUP(A413,'Fixture List Individual Files'!$B$14:$F$63,4,FALSE))","v":""},{"$f":"IF(A413=\"\",\"\",VLOOKUP(A413,'Fixture List Individual Files'!$B$14:$F$63,5,FALSE))","v":""},"","",""]
[null,{"$f":"IF(A414=\"\",\"\",VLOOKUP(A414,'Fixture List Individual Files'!$B$14:$F$63,2,FALSE))","v":""},null,{"$f":"IF(A414=\"\",\"\",VLOOKUP(A414,'Fixture List Individual Files'!$B$14:$F$63,3,FALSE))","v":""},"",{"$f":"IF(A414=\"\",\"\",VLOOKUP(A414,'Fixture List Individual Files'!$B$14:$F$63,4,FALSE))","v":""},{"$f":"IF(A414=\"\",\"\",VLOOKUP(A414,'Fixture List Individual Files'!$B$14:$F$63,5,FALSE))","v":""},"","",""]
[null,{"$f":"IF(A415=\"\",\"\",VLOOKUP(A415,'Fixture List Individual Files'!$B$14:$F$63,2,FALSE))","v":""},null,{"$f":"IF(A415=\"\",\"\",VLOOKUP(A415,'Fixture List Individual Files'!$B$14:$F$63,3,FALSE))","v":""},"",{"$f":"IF(A415=\"\",\"\",VLOOKUP(A415,'Fixture List Individual Files'!$B$14:$F$63,4,FALSE))","v":""},{"$f":"IF(A415=\"\",\"\",VLOOKUP(A415,'Fixture List Individual Files'!$B$14:$F$63,5,FALSE))","v":""},"","",""]
[null,{"$f":"IF(A416=\"\",\"\",VLOOKUP(A416,'Fixture List Individual Files'!$B$14:$F$63,2,FALSE))","v":""},null,{"$f":"IF(A416=\"\",\"\",VLOOKUP(A416,'Fixture List Individual Files'!$B$14:$F$63,3,FALSE))","v":""},"",{"$f":"IF(A416=\"\",\"\",VLOOKUP(A416,'Fixture List Individual Files'!$B$14:$F$63,4,FALSE))","v":""},{"$f":"IF(A416=\"\",\"\",VLOOKUP(A416,'Fixture List Individual Files'!$B$14:$F$63,5,FALSE))","v":""},"","",""]
[null,{"$f":"IF(A417=\"\",\"\",VLOOKUP(A417,'Fixture List Individual Files'!$B$14:$F$63,2,FALSE))","v":""},null,{"$f":"IF(A417=\"\",\"\",VLOOKUP(A417,'Fixture List Individual Files'!$B$14:$F$63,3,FALSE))","v":""},"",{"$f":"IF(A417=\"\",\"\",VLOOKUP(A417,'Fixture List Individual Files'!$B$14:$F$63,4,FALSE))","v":""},{"$f":"IF(A417=\"\",\"\",VLOOKUP(A417,'Fixture List Individual Files'!$B$14:$F$63,5,FALSE))","v":""},"","",""]
[null,{"$f":"IF(A418=\"\",\"\",VLOOKUP(A418,'Fixture List Individual Files'!$B$14:$F$63,2,FALSE))","v":""},null,{"$f":"IF(A418=\"\",\"\",VLOOKUP(A418,'Fixture List Individual Files'!$B$14:$F$63,3,FALSE))","v":""},"",{"$f":"IF(A418=\"\",\"\",VLOOKUP(A418,'Fixture List Individual Files'!$B$14:$F$63,4,FALSE))","v":""},{"$f":"IF(A418=\"\",\"\",VLOOKUP(A418,'Fixture List Individual Files'!$B$14:$F$63,5,FALSE))","v":""},"","",""]
[null,{"$f":"IF(A419=\"\",\"\",VLOOKUP(A419,'Fixture List Individual Files'!$B$14:$F$63,2,FALSE))","v":""},null,{"$f":"IF(A419=\"\",\"\",VLOOKUP(A419,'Fixture List Individual Files'!$B$14:$F$63,3,FALSE))","v":""},"",{"$f":"IF(A419=\"\",\"\",VLOOKUP(A419,'Fixture List Individual Files'!$B$14:$F$63,4,FALSE))","v":""},{"$f":"IF(A419=\"\",\"\",VLOOKUP(A419,'Fixture List Individual Files'!$B$14:$F$63,5,FALSE))","v":""},"","",""]
[null,{"$f":"IF(A420=\"\",\"\",VLOOKUP(A420,'Fixture List Individual Files'!$B$14:$F$63,2,FALSE))","v":""},null,{"$f":"IF(A420=\"\",\"\",VLOOKUP(A420,'Fixture List Individual Files'!$B$14:$F$63,3,FALSE))","v":""},"",{"$f":"IF(A420=\"\",\"\",VLOOKUP(A420,'Fixture List Individual Files'!$B$14:$F$63,4,FALSE))","v":""},{"$f":"IF(A420=\"\",\"\",VLOOKUP(A420,'Fixture List Individual Files'!$B$14:$F$63,5,FALSE))","v":""},"","",""]
[null,{"$f":"IF(A421=\"\",\"\",VLOOKUP(A421,'Fixture List Individual Files'!$B$14:$F$63,2,FALSE))","v":""},null,{"$f":"IF(A421=\"\",\"\",VLOOKUP(A421,'Fixture List Individual Files'!$B$14:$F$63,3,FALSE))","v":""},"",{"$f":"IF(A421=\"\",\"\",VLOOKUP(A421,'Fixture List Individual Files'!$B$14:$F$63,4,FALSE))","v":""},{"$f":"IF(A421=\"\",\"\",VLOOKUP(A421,'Fixture List Individual Files'!$B$14:$F$63,5,FALSE))","v":""},"","",""]
[null,{"$f":"IF(A422=\"\",\"\",VLOOKUP(A422,'Fixture List Individual Files'!$B$14:$F$63,2,FALSE))","v":""},null,{"$f":"IF(A422=\"\",\"\",VLOOKUP(A422,'Fixture List Individual Files'!$B$14:$F$63,3,FALSE))","v":""},"",{"$f":"IF(A422=\"\",\"\",VLOOKUP(A422,'Fixture List Individual Files'!$B$14:$F$63,4,FALSE))","v":""},{"$f":"IF(A422=\"\",\"\",VLOOKUP(A422,'Fixture List Individual Files'!$B$14:$F$63,5,FALSE))","v":""},"","",""]
[null,{"$f":"IF(A423=\"\",\"\",VLOOKUP(A423,'Fixture List Individual Files'!$B$14:$F$63,2,FALSE))","v":""},null,{"$f":"IF(A423=\"\",\"\",VLOOKUP(A423,'Fixture List Individual Files'!$B$14:$F$63,3,FALSE))","v":""},"",{"$f":"IF(A423=\"\",\"\",VLOOKUP(A423,'Fixture List Individual Files'!$B$14:$F$63,4,FALSE))","v":""},{"$f":"IF(A423=\"\",\"\",VLOOKUP(A423,'Fixture List Individual Files'!$B$14:$F$63,5,FALSE))","v":""},"","",""]
[null,{"$f":"IF(A424=\"\",\"\",VLOOKUP(A424,'Fixture List Individual Files'!$B$14:$F$63,2,FALSE))","v":""},null,{"$f":"IF(A424=\"\",\"\",VLOOKUP(A424,'Fixture List Individual Files'!$B$14:$F$63,3,FALSE))","v":""},"",{"$f":"IF(A424=\"\",\"\",VLOOKUP(A424,'Fixture List Individual Files'!$B$14:$F$63,4,FALSE))","v":""},{"$f":"IF(A424=\"\",\"\",VLOOKUP(A424,'Fixture List Individual Files'!$B$14:$F$63,5,FALSE))","v":""},"","",""]
[null,{"$f":"IF(A425=\"\",\"\",VLOOKUP(A425,'Fixture List Individual Files'!$B$14:$F$63,2,FALSE))","v":""},null,{"$f":"IF(A425=\"\",\"\",VLOOKUP(A425,'Fixture List Individual Files'!$B$14:$F$63,3,FALSE))","v":""},"",{"$f":"IF(A425=\"\",\"\",VLOOKUP(A425,'Fixture List Individual Files'!$B$14:$F$63,4,FALSE))","v":""},{"$f":"IF(A425=\"\",\"\",VLOOKUP(A425,'Fixture List Individual Files'!$B$14:$F$63,5,FALSE))","v":""},"","",""]
[null,{"$f":"IF(A426=\"\",\"\",VLOOKUP(A426,'Fixture List Individual Files'!$B$14:$F$63,2,FALSE))","v":""},null,{"$f":"IF(A426=\"\",\"\",VLOOKUP(A426,'Fixture List Individual Files'!$B$14:$F$63,3,FALSE))","v":""},"",{"$f":"IF(A426=\"\",\"\",VLOOKUP(A426,'Fixture List Individual Files'!$B$14:$F$63,4,FALSE))","v":""},{"$f":"IF(A426=\"\",\"\",VLOOKUP(A426,'Fixture List Individual Files'!$B$14:$F$63,5,FALSE))","v":""},"","",""]
[null,{"$f":"IF(A427=\"\",\"\",VLOOKUP(A427,'Fixture List Individual Files'!$B$14:$F$63,2,FALSE))","v":""},null,{"$f":"IF(A427=\"\",\"\",VLOOKUP(A427,'Fixture List Individual Files'!$B$14:$F$63,3,FALSE))","v":""},"",{"$f":"IF(A427=\"\",\"\",VLOOKUP(A427,'Fixture List Individual Files'!$B$14:$F$63,4,FALSE))","v":""},{"$f":"IF(A427=\"\",\"\",VLOOKUP(A427,'Fixture List Individual Files'!$B$14:$F$63,5,FALSE))","v":""},"","",""]
[null,{"$f":"IF(A428=\"\",\"\",VLOOKUP(A428,'Fixture List Individual Files'!$B$14:$F$63,2,FALSE))","v":""},null,{"$f":"IF(A428=\"\",\"\",VLOOKUP(A428,'Fixture List Individual Files'!$B$14:$F$63,3,FALSE))","v":""},"",{"$f":"IF(A428=\"\",\"\",VLOOKUP(A428,'Fixture List Individual Files'!$B$14:$F$63,4,FALSE))","v":""},{"$f":"IF(A428=\"\",\"\",VLOOKUP(A428,'Fixture List Individual Files'!$B$14:$F$63,5,FALSE))","v":""},"","",""]
[null,{"$f":"IF(A429=\"\",\"\",VLOOKUP(A429,'Fixture List Individual Files'!$B$14:$F$63,2,FALSE))","v":""},null,{"$f":"IF(A429=\"\",\"\",VLOOKUP(A429,'Fixture List Individual Files'!$B$14:$F$63,3,FALSE))","v":""},"",{"$f":"IF(A429=\"\",\"\",VLOOKUP(A429,'Fixture List Individual Files'!$B$14:$F$63,4,FALSE))","v":""},{"$f":"IF(A429=\"\",\"\",VLOOKUP(A429,'Fixture List Individual Files'!$B$14:$F$63,5,FALSE))","v":""},"","",""]
[null,{"$f":"IF(A430=\"\",\"\",VLOOKUP(A430,'Fixture List Individual Files'!$B$14:$F$63,2,FALSE))","v":""},null,{"$f":"IF(A430=\"\",\"\",VLOOKUP(A430,'Fixture List Individual Files'!$B$14:$F$63,3,FALSE))","v":""},"",{"$f":"IF(A430=\"\",\"\",VLOOKUP(A430,'Fixture List Individual Files'!$B$14:$F$63,4,FALSE))","v":""},{"$f":"IF(A430=\"\",\"\",VLOOKUP(A430,'Fixture List Individual Files'!$B$14:$F$63,5,FALSE))","v":""},"","",""]
[null,{"$f":"IF(A431=\"\",\"\",VLOOKUP(A431,'Fixture List Individual Files'!$B$14:$F$63,2,FALSE))","v":""},null,{"$f":"IF(A431=\"\",\"\",VLOOKUP(A431,'Fixture List Individual Files'!$B$14:$F$63,3,FALSE))","v":""},"",{"$f":"IF(A431=\"\",\"\",VLOOKUP(A431,'Fixture List Individual Files'!$B$14:$F$63,4,FALSE))","v":""},{"$f":"IF(A431=\"\",\"\",VLOOKUP(A431,'Fixture List Individual Files'!$B$14:$F$63,5,FALSE))","v":""},"","",""]
[null,{"$f":"IF(A432=\"\",\"\",VLOOKUP(A432,'Fixture List Individual Files'!$B$14:$F$63,2,FALSE))","v":""},null,{"$f":"IF(A432=\"\",\"\",VLOOKUP(A432,'Fixture List Individual Files'!$B$14:$F$63,3,FALSE))","v":""},"",{"$f":"IF(A432=\"\",\"\",VLOOKUP(A432,'Fixture List Individual Files'!$B$14:$F$63,4,FALSE))","v":""},{"$f":"IF(A432=\"\",\"\",VLOOKUP(A432,'Fixture List Individual Files'!$B$14:$F$63,5,FALSE))","v":""},"","",""]
[null,{"$f":"IF(A433=\"\",\"\",VLOOKUP(A433,'Fixture List Individual Files'!$B$14:$F$63,2,FALSE))","v":""},null,{"$f":"IF(A433=\"\",\"\",VLOOKUP(A433,'Fixture List Individual Files'!$B$14:$F$63,3,FALSE))","v":""},"",{"$f":"IF(A433=\"\",\"\",VLOOKUP(A433,'Fixture List Individual Files'!$B$14:$F$63,4,FALSE))","v":""},{"$f":"IF(A433=\"\",\"\",VLOOKUP(A433,'Fixture List Individual Files'!$B$14:$F$63,5,FALSE))","v":""},"","",""]
[null,{"$f":"IF(A434=\"\",\"\",VLOOKUP(A434,'Fixture List Individual Files'!$B$14:$F$63,2,FALSE))","v":""},null,{"$f":"IF(A434=\"\",\"\",VLOOKUP(A434,'Fixture List Individual Files'!$B$14:$F$63,3,FALSE))","v":""},"",{"$f":"IF(A434=\"\",\"\",VLOOKUP(A434,'Fixture List Individual Files'!$B$14:$F$63,4,FALSE))","v":""},{"$f":"IF(A434=\"\",\"\",VLOOKUP(A434,'Fixture List Individual Files'!$B$14:$F$63,5,FALSE))","v":""},"","",""]
[null,{"$f":"IF(A435=\"\",\"\",VLOOKUP(A435,'Fixture List Individual Files'!$B$14:$F$63,2,FALSE))","v":""},null,{"$f":"IF(A435=\"\",\"\",VLOOKUP(A435,'Fixture List Individual Files'!$B$14:$F$63,3,FALSE))","v":""},"",{"$f":"IF(A435=\"\",\"\",VLOOKUP(A435,'Fixture List Individual Files'!$B$14:$F$63,4,FALSE))","v":""},{"$f":"IF(A435=\"\",\"\",VLOOKUP(A435,'Fixture List Individual Files'!$B$14:$F$63,5,FALSE))","v":""},"","",""]
[null,{"$f":"IF(A436=\"\",\"\",VLOOKUP(A436,'Fixture List Individual Files'!$B$14:$F$63,2,FALSE))","v":""},null,{"$f":"IF(A436=\"\",\"\",VLOOKUP(A436,'Fixture List Individual Files'!$B$14:$F$63,3,FALSE))","v":""},"",{"$f":"IF(A436=\"\",\"\",VLOOKUP(A436,'Fixture List Individual Files'!$B$14:$F$63,4,FALSE))","v":""},{"$f":"IF(A436=\"\",\"\",VLOOKUP(A436,'Fixture List Individual Files'!$B$14:$F$63,5,FALSE))","v":""},"","",""]
[null,{"$f":"IF(A437=\"\",\"\",VLOOKUP(A437,'Fixture List Individual Files'!$B$14:$F$63,2,FALSE))","v":""},null,{"$f":"IF(A437=\"\",\"\",VLOOKUP(A437,'Fixture List Individual Files'!$B$14:$F$63,3,FALSE))","v":""},"",{"$f":"IF(A437=\"\",\"\",VLOOKUP(A437,'Fixture List Individual Files'!$B$14:$F$63,4,FALSE))","v":""},{"$f":"IF(A437=\"\",\"\",VLOOKUP(A437,'Fixture List Individual Files'!$B$14:$F$63,5,FALSE))","v":""},"","",""]
[null,{"$f":"IF(A438=\"\",\"\",VLOOKUP(A438,'Fixture List Individual Files'!$B$14:$F$63,2,FALSE))","v":""},null,{"$f":"IF(A438=\"\",\"\",VLOOKUP(A438,'Fixture List Individual Files'!$B$14:$F$63,3,FALSE))","v":""},"",{"$f":"IF(A438=\"\",\"\",VLOOKUP(A438,'Fixture List Individual Files'!$B$14:$F$63,4,FALSE))","v":""},{"$f":"IF(A438=\"\",\"\",VLOOKUP(A438,'Fixture List Individual Files'!$B$14:$F$63,5,FALSE))","v":""},"","",""]
[null,"Totals:",{"$f":"SUM(C403:C438)","v":0},null,{"$f":"SUM(E403:E438)","v":0},{"$f":"SUMIF(F403:F438,\"Yes\",E403:E438)","v":0},null,{"$f":"SUM(H403:H438)","v":{"v":0,"d":"0.000"}},{"$f":"SUM(I403:I438)","v":0},0]
[]
["Area 11",{"$nulls":4},"NLC area factor:",{"$nulls":3},{"$f":"IF(VLOOKUP(A441,'Start Here!'!$N$46:$Q$70,4,FALSE)=0,VLOOKUP(Facility_Type,Admin_Lists!$A$63:$B$66,2,FALSE),VLOOKUP(A441,'Start Here!'!$N$46:$Q$70,4,FALSE))","v":{"$error":"#N/A"}}]
["Type:","Choose from Drop-down",null,null,{"$f":"IFERROR(VLOOKUP(B442,Admin_Lists!$A$9:$B$49,2,FALSE),\"\")","v":0},"W/sq ft",{"$nulls":3},{"$f":"VLOOKUP(A441,'Start Here!'!$N$46:$O$70,2,FALSE)","v":0}]
[null,{"$f":"\"Area Description: \"&'Sq. Ft. Area Individual Files'!D496","v":"Area Description: "},{"$nulls":3},"Sq Ft: ",{"$f":"'Sq. Ft. Area Individual Files'!C497","v":0}]
["Fixture Mark","Fixture\nName","Fixture\nCount","Fixture Watts","Total Watts \n(Fixt Count \nx Fixt Watts)","NLC Controls (Yes/No)","Space type","NLC Controls Savings"]
[{"$nulls":7},"Peak kW Savings","Annual kWh Savings","LC kWh Savings"]
[null,{"$f":"IF(A446=\"\",\"\",VLOOKUP(A446,'Fixture List Individual Files'!$B$14:$F$63,2,FALSE))","v":""},null,{"$f":"IF(A446=\"\",\"\",VLOOKUP(A446,'Fixture List Individual Files'!$B$14:$F$63,3,FALSE))","v":""},{"$f":"IF(D446=\"\",\"\",C446*D446)","v":""},{"$f":"IF(A446=\"\",\"\",VLOOKUP(A446,'Fixture List Individual Files'!$B$14:$F$63,4,FALSE))","v":""},{"$f":"IF(A446=\"\",\"\",VLOOKUP(A446,'Fixture List Individual Files'!$B$14:$F$63,5,FALSE))","v":""},{"$f":"IF(AND(F446=\"Yes\",Facility_Type=\"Commercial\"),(SFE_Commercial-SFBASE_Commercial)*E446/1000*$J$442,IF(AND(F446=\"Yes\",Facility_Type=\"Industrial\",G446=\"Non-High Bay\"),(SFE_Industrial-SFBASE_Industrial)*E446/1000*$J$442,IF(AND(F446=\"Yes\",Facility_Type=\"Schools & Government\",G446=\"Non-High Bay\"),((SFE_SG-SFBASE_SG)*E446/1000*$J$442),\"\")))","v":""},{"$f":"IF(AND(F446=\"Yes\",Facility_Type=\"Commercial\"),(SFE_Commercial-SFBASE_Commercial)*E446/1000*$J$441,IF(AND(F446=\"Yes\",Facility_Type=\"Industrial\",G446=\"Non-High Bay\"),(SFE_Industrial-SFBASE_Industrial)*E446/1000*$J$441,IF(AND(F446=\"Yes\",Facility_Type=\"Schools & Government\",G446=\"Non-High Bay\"),((SFE_SG-SFBASE_SG)*E446/1000*$J$441),\"\")))","v":""},{"$f":"IFERROR(I446*EUL_for_NLC,\"\")","v":""}]
[null,{"$f":"IF(A447=\"\",\"\",VLOOKUP(A447,'Fixture List Individual Files'!$B$14:$F$63,2,FALSE))","v":""},null,{"$f":"IF(A447=\"\",\"\",VLOOKUP(A447,'Fixture List Individual Files'!$B$14:$F$63,3,FALSE))","v":""},{"$f":"IF(D447=\"\",\"\",C447*D447)","v":""},{"$f":"IF(A447=\"\",\"\",VLOOKUP(A447,'Fixture List Individual Files'!$B$14:$F$63,4,FALSE))","v":""},{"$f":"IF(A447=\"\",\"\",VLOOKUP(A447,'Fixture List Individual Files'!$B$14:$F$63,5,FALSE))","v":""},"","",""]
[null,{"$f":"IF(A448=\"\",\"\",VLOOKUP(A448,'Fixture List Individual Files'!$B$14:$F$63,2,FALSE))","v":""},null,{"$f":"IF(A448=\"\",\"\",VLOOKUP(A448,'Fixture List Individual Files'!$B$14:$F$63,3,FALSE))","v":""},"",{"$f":"IF(A448=\"\",\"\",VLOOKUP(A448,'Fixture List Individual Files'!$B$14:$F$63,4,FALSE))","v":""},{"$f":"IF(A448=\"\",\"\",VLOOKUP(A448,'Fixture List Individual Files'!$B$14:$F$63,5,FALSE))","v":""},"","",""]
[null,{"$f":"IF(A449=\"\",\"\",VLOOKUP(A449,'Fixture List Individual Files'!$B$14:$F$63,2,FALSE))","v":""},null,{"$f":"IF(A449=\"\",\"\",VLOOKUP(A449,'Fixture List Individual Files'!$B$14:$F$63,3,FALSE))","v":""},"",{"$f":"IF(A449=\"\",\"\",VLOOKUP(A449,'Fixture List Individual Files'!$B$14:$F$63,4,FALSE))","v":""},{"$f":"IF(A449=\"\",\"\",VLOOKUP(A449,'Fixture List Individual Files'!$B$14:$F$63,5,FALSE))","v":""},"","",""]
[null,{"$f":"IF(A450=\"\",\"\",VLOOKUP(A450,'Fixture List Individual Files'!$B$14:$F$63,2,FALSE))","v":""},null,{"$f":"IF(A450=\"\",\"\",VLOOKUP(A450,'Fixture List Individual Files'!$B$14:$F$63,3,FALSE))","v":""},"",{"$f":"IF(A450=\"\",\"\",VLOOKUP(A450,'Fixture List Individual Files'!$B$14:$F$63,4,FALSE))","v":""},{"$f":"IF(A450=\"\",\"\",VLOOKUP(A450,'Fixture List Individual Files'!$B$14:$F$63,5,FALSE))","v":""},"","",""]
[null,{"$f":"IF(A451=\"\",\"\",VLOOKUP(A451,'Fixture List Individual Files'!$B$14:$F$63,2,FALSE))","v":""},null,{"$f":"IF(A451=\"\",\"\",VLOOKUP(A451,'Fixture List Individual Files'!$B$14:$F$63,3,FALSE))","v":""},"",{"$f":"IF(A451=\"\",\"\",VLOOKUP(A451,'Fixture List Individual Files'!$B$14:$F$63,4,FALSE))","v":""},{"$f":"IF(A451=\"\",\"\",VLOOKUP(A451,'Fixture List Individual Files'!$B$14:$F$63,5,FALSE))","v":""},"","",""]
[null,{"$f":"IF(A452=\"\",\"\",VLOOKUP(A452,'Fixture List Individual Files'!$B$14:$F$63,2,FALSE))","v":""},null,{"$f":"IF(A452=\"\",\"\",VLOOKUP(A452,'Fixture List Individual Files'!$B$14:$F$63,3,FALSE))","v":""},"",{"$f":"IF(A452=\"\",\"\",VLOOKUP(A452,'Fixture List Individual Files'!$B$14:$F$63,4,FALSE))","v":""},{"$f":"IF(A452=\"\",\"\",VLOOKUP(A452,'Fixture List Individual Files'!$B$14:$F$63,5,FALSE))","v":""},"","",""]
[null,{"$f":"IF(A453=\"\",\"\",VLOOKUP(A453,'Fixture List Individual Files'!$B$14:$F$63,2,FALSE))","v":""},null,{"$f":"IF(A453=\"\",\"\",VLOOKUP(A453,'Fixture List Individual Files'!$B$14:$F$63,3,FALSE))","v":""},"",{"$f":"IF(A453=\"\",\"\",VLOOKUP(A453,'Fixture List Individual Files'!$B$14:$F$63,4,FALSE))","v":""},{"$f":"IF(A453=\"\",\"\",VLOOKUP(A453,'Fixture List Individual Files'!$B$14:$F$63,5,FALSE))","v":""},"","",""]
[null,{"$f":"IF(A454=\"\",\"\",VLOOKUP(A454,'Fixture List Individual Files'!$B$14:$F$63,2,FALSE))","v":""},null,{"$f":"IF(A454=\"\",\"\",VLOOKUP(A454,'Fixture List Individual Files'!$B$14:$F$63,3,FALSE))","v":""},"",{"$f":"IF(A454=\"\",\"\",VLOOKUP(A454,'Fixture List Individual Files'!$B$14:$F$63,4,FALSE))","v":""},{"$f":"IF(A454=\"\",\"\",VLOOKUP(A454,'Fixture List Individual Files'!$B$14:$F$63,5,FALSE))","v":""},"","",""]
[null,{"$f":"IF(A455=\"\",\"\",VLOOKUP(A455,'Fixture List Individual Files'!$B$14:$F$63,2,FALSE))","v":""},null,{"$f":"IF(A455=\"\",\"\",VLOOKUP(A455,'Fixture List Individual Files'!$B$14:$F$63,3,FALSE))","v":""},"",{"$f":"IF(A455=\"\",\"\",VLOOKUP(A455,'Fixture List Individual Files'!$B$14:$F$63,4,FALSE))","v":""},{"$f":"IF(A455=\"\",\"\",VLOOKUP(A455,'Fixture List Individual Files'!$B$14:$F$63,5,FALSE))","v":""},"","",""]
[null,{"$f":"IF(A456=\"\",\"\",VLOOKUP(A456,'Fixture List Individual Files'!$B$14:$F$63,2,FALSE))","v":""},null,{"$f":"IF(A456=\"\",\"\",VLOOKUP(A456,'Fixture List Individual Files'!$B$14:$F$63,3,FALSE))","v":""},"",{"$f":"IF(A456=\"\",\"\",VLOOKUP(A456,'Fixture List Individual Files'!$B$14:$F$63,4,FALSE))","v":""},{"$f":"IF(A456=\"\",\"\",VLOOKUP(A456,'Fixture List Individual Files'!$B$14:$F$63,5,FALSE))","v":""},"","",""]
[null,{"$f":"IF(A457=\"\",\"\",VLOOKUP(A457,'Fixture List Individual Files'!$B$14:$F$63,2,FALSE))","v":""},null,{"$f":"IF(A457=\"\",\"\",VLOOKUP(A457,'Fixture List Individual Files'!$B$14:$F$63,3,FALSE))","v":""},"",{"$f":"IF(A457=\"\",\"\",VLOOKUP(A457,'Fixture List Individual Files'!$B$14:$F$63,4,FALSE))","v":""},{"$f":"IF(A457=\"\",\"\",VLOOKUP(A457,'Fixture List Individual Files'!$B$14:$F$63,5,FALSE))","v":""},"","",""]
[null,{"$f":"IF(A458=\"\",\"\",VLOOKUP(A458,'Fixture List Individual Files'!$B$14:$F$63,2,FALSE))","v":""},null,{"$f":"IF(A458=\"\",\"\",VLOOKUP(A458,'Fixture List Individual Files'!$B$14:$F$63,3,FALSE))","v":""},"",{"$f":"IF(A458=\"\",\"\",VLOOKUP(A458,'Fixture List Individual Files'!$B$14:$F$63,4,FALSE))","v":""},{"$f":"IF(A458=\"\",\"\",VLOOKUP(A458,'Fixture List Individual Files'!$B$14:$F$63,5,FALSE))","v":""},"","",""]
[null,{"$f":"IF(A459=\"\",\"\",VLOOKUP(A459,'Fixture List Individual Files'!$B$14:$F$63,2,FALSE))","v":""},null,{"$f":"IF(A459=\"\",\"\",VLOOKUP(A459,'Fixture List Individual Files'!$B$14:$F$63,3,FALSE))","v":""},"",{"$f":"IF(A459=\"\",\"\",VLOOKUP(A459,'Fixture List Individual Files'!$B$14:$F$63,4,FALSE))","v":""},{"$f":"IF(A459=\"\",\"\",VLOOKUP(A459,'Fixture List Individual Files'!$B$14:$F$63,5,FALSE))","v":""},"","",""]
[null,{"$f":"IF(A460=\"\",\"\",VLOOKUP(A460,'Fixture List Individual Files'!$B$14:$F$63,2,FALSE))","v":""},null,{"$f":"IF(A460=\"\",\"\",VLOOKUP(A460,'Fixture List Individual Files'!$B$14:$F$63,3,FALSE))","v":""},"",{"$f":"IF(A460=\"\",\"\",VLOOKUP(A460,'Fixture List Individual Files'!$B$14:$F$63,4,FALSE))","v":""},{"$f":"IF(A460=\"\",\"\",VLOOKUP(A460,'Fixture List Individual Files'!$B$14:$F$63,5,FALSE))","v":""},"","",""]
[null,{"$f":"IF(A461=\"\",\"\",VLOOKUP(A461,'Fixture List Individual Files'!$B$14:$F$63,2,FALSE))","v":""},null,{"$f":"IF(A461=\"\",\"\",VLOOKUP(A461,'Fixture List Individual Files'!$B$14:$F$63,3,FALSE))","v":""},"",{"$f":"IF(A461=\"\",\"\",VLOOKUP(A461,'Fixture List Individual Files'!$B$14:$F$63,4,FALSE))","v":""},{"$f":"IF(A461=\"\",\"\",VLOOKUP(A461,'Fixture List Individual Files'!$B$14:$F$63,5,FALSE))","v":""},"","",""]
[null,{"$f":"IF(A462=\"\",\"\",VLOOKUP(A462,'Fixture List Individual Files'!$B$14:$F$63,2,FALSE))","v":""},null,{"$f":"IF(A462=\"\",\"\",VLOOKUP(A462,'Fixture List Individual Files'!$B$14:$F$63,3,FALSE))","v":""},"",{"$f":"IF(A462=\"\",\"\",VLOOKUP(A462,'Fixture List Individual Files'!$B$14:$F$63,4,FALSE))","v":""},{"$f":"IF(A462=\"\",\"\",VLOOKUP(A462,'Fixture List Individual Files'!$B$14:$F$63,5,FALSE))","v":""},"","",""]
[null,{"$f":"IF(A463=\"\",\"\",VLOOKUP(A463,'Fixture List Individual Files'!$B$14:$F$63,2,FALSE))","v":""},null,{"$f":"IF(A463=\"\",\"\",VLOOKUP(A463,'Fixture List Individual Files'!$B$14:$F$63,3,FALSE))","v":""},"",{"$f":"IF(A463=\"\",\"\",VLOOKUP(A463,'Fixture List Individual Files'!$B$14:$F$63,4,FALSE))","v":""},{"$f":"IF(A463=\"\",\"\",VLOOKUP(A463,'Fixture List Individual Files'!$B$14:$F$63,5,FALSE))","v":""},"","",""]
[null,{"$f":"IF(A464=\"\",\"\",VLOOKUP(A464,'Fixture List Individual Files'!$B$14:$F$63,2,FALSE))","v":""},null,{"$f":"IF(A464=\"\",\"\",VLOOKUP(A464,'Fixture List Individual Files'!$B$14:$F$63,3,FALSE))","v":""},"",{"$f":"IF(A464=\"\",\"\",VLOOKUP(A464,'Fixture List Individual Files'!$B$14:$F$63,4,FALSE))","v":""},{"$f":"IF(A464=\"\",\"\",VLOOKUP(A464,'Fixture List Individual Files'!$B$14:$F$63,5,FALSE))","v":""},"","",""]
[null,{"$f":"IF(A465=\"\",\"\",VLOOKUP(A465,'Fixture List Individual Files'!$B$14:$F$63,2,FALSE))","v":""},null,{"$f":"IF(A465=\"\",\"\",VLOOKUP(A465,'Fixture List Individual Files'!$B$14:$F$63,3,FALSE))","v":""},"",{"$f":"IF(A465=\"\",\"\",VLOOKUP(A465,'Fixture List Individual Files'!$B$14:$F$63,4,FALSE))","v":""},{"$f":"IF(A465=\"\",\"\",VLOOKUP(A465,'Fixture List Individual Files'!$B$14:$F$63,5,FALSE))","v":""},"","",""]
[null,{"$f":"IF(A466=\"\",\"\",VLOOKUP(A466,'Fixture List Individual Files'!$B$14:$F$63,2,FALSE))","v":""},null,{"$f":"IF(A466=\"\",\"\",VLOOKUP(A466,'Fixture List Individual Files'!$B$14:$F$63,3,FALSE))","v":""},"",{"$f":"IF(A466=\"\",\"\",VLOOKUP(A466,'Fixture List Individual Files'!$B$14:$F$63,4,FALSE))","v":""},{"$f":"IF(A466=\"\",\"\",VLOOKUP(A466,'Fixture List Individual Files'!$B$14:$F$63,5,FALSE))","v":""},"","",""]
[null,{"$f":"IF(A467=\"\",\"\",VLOOKUP(A467,'Fixture List Individual Files'!$B$14:$F$63,2,FALSE))","v":""},null,{"$f":"IF(A467=\"\",\"\",VLOOKUP(A467,'Fixture List Individual Files'!$B$14:$F$63,3,FALSE))","v":""},"",{"$f":"IF(A467=\"\",\"\",VLOOKUP(A467,'Fixture List Individual Files'!$B$14:$F$63,4,FALSE))","v":""},{"$f":"IF(A467=\"\",\"\",VLOOKUP(A467,'Fixture List Individual Files'!$B$14:$F$63,5,FALSE))","v":""},"","",""]
[null,{"$f":"IF(A468=\"\",\"\",VLOOKUP(A468,'Fixture List Individual Files'!$B$14:$F$63,2,FALSE))","v":""},null,{"$f":"IF(A468=\"\",\"\",VLOOKUP(A468,'Fixture List Individual Files'!$B$14:$F$63,3,FALSE))","v":""},"",{"$f":"IF(A468=\"\",\"\",VLOOKUP(A468,'Fixture List Individual Files'!$B$14:$F$63,4,FALSE))","v":""},{"$f":"IF(A468=\"\",\"\",VLOOKUP(A468,'Fixture List Individual Files'!$B$14:$F$63,5,FALSE))","v":""},"","",""]
[null,{"$f":"IF(A469=\"\",\"\",VLOOKUP(A469,'Fixture List Individual Files'!$B$14:$F$63,2,FALSE))","v":""},null,{"$f":"IF(A469=\"\",\"\",VLOOKUP(A469,'Fixture List Individual Files'!$B$14:$F$63,3,FALSE))","v":""},"",{"$f":"IF(A469=\"\",\"\",VLOOKUP(A469,'Fixture List Individual Files'!$B$14:$F$63,4,FALSE))","v":""},{"$f":"IF(A469=\"\",\"\",VLOOKUP(A469,'Fixture List Individual Files'!$B$14:$F$63,5,FALSE))","v":""},"","",""]
[null,{"$f":"IF(A470=\"\",\"\",VLOOKUP(A470,'Fixture List Individual Files'!$B$14:$F$63,2,FALSE))","v":""},null,{"$f":"IF(A470=\"\",\"\",VLOOKUP(A470,'Fixture List Individual Files'!$B$14:$F$63,3,FALSE))","v":""},"",{"$f":"IF(A470=\"\",\"\",VLOOKUP(A470,'Fixture List Individual Files'!$B$14:$F$63,4,FALSE))","v":""},{"$f":"IF(A470=\"\",\"\",VLOOKUP(A470,'Fixture List Individual Files'!$B$14:$F$63,5,FALSE))","v":""},"","",""]
[null,{"$f":"IF(A471=\"\",\"\",VLOOKUP(A471,'Fixture List Individual Files'!$B$14:$F$63,2,FALSE))","v":""},null,{"$f":"IF(A471=\"\",\"\",VLOOKUP(A471,'Fixture List Individual Files'!$B$14:$F$63,3,FALSE))","v":""},"",{"$f":"IF(A471=\"\",\"\",VLOOKUP(A471,'Fixture List Individual Files'!$B$14:$F$63,4,FALSE))","v":""},{"$f":"IF(A471=\"\",\"\",VLOOKUP(A471,'Fixture List Individual Files'!$B$14:$F$63,5,FALSE))","v":""},"","",""]
[null,{"$f":"IF(A472=\"\",\"\",VLOOKUP(A472,'Fixture List Individual Files'!$B$14:$F$63,2,FALSE))","v":""},null,{"$f":"IF(A472=\"\",\"\",VLOOKUP(A472,'Fixture List Individual Files'!$B$14:$F$63,3,FALSE))","v":""},"",{"$f":"IF(A472=\"\",\"\",VLOOKUP(A472,'Fixture List Individual Files'!$B$14:$F$63,4,FALSE))","v":""},{"$f":"IF(A472=\"\",\"\",VLOOKUP(A472,'Fixture List Individual Files'!$B$14:$F$63,5,FALSE))","v":""},"","",""]
[null,{"$f":"IF(A473=\"\",\"\",VLOOKUP(A473,'Fixture List Individual Files'!$B$14:$F$63,2,FALSE))","v":""},null,{"$f":"IF(A473=\"\",\"\",VLOOKUP(A473,'Fixture List Individual Files'!$B$14:$F$63,3,FALSE))","v":""},"",{"$f":"IF(A473=\"\",\"\",VLOOKUP(A473,'Fixture List Individual Files'!$B$14:$F$63,4,FALSE))","v":""},{"$f":"IF(A473=\"\",\"\",VLOOKUP(A473,'Fixture List Individual Files'!$B$14:$F$63,5,FALSE))","v":""},"","",""]
[null,{"$f":"IF(A474=\"\",\"\",VLOOKUP(A474,'Fixture List Individual Files'!$B$14:$F$63,2,FALSE))","v":""},null,{"$f":"IF(A474=\"\",\"\",VLOOKUP(A474,'Fixture List Individual Files'!$B$14:$F$63,3,FALSE))","v":""},"",{"$f":"IF(A474=\"\",\"\",VLOOKUP(A474,'Fixture List Individual Files'!$B$14:$F$63,4,FALSE))","v":""},{"$f":"IF(A474=\"\",\"\",VLOOKUP(A474,'Fixture List Individual Files'!$B$14:$F$63,5,FALSE))","v":""},"","",""]
[null,{"$f":"IF(A475=\"\",\"\",VLOOKUP(A475,'Fixture List Individual Files'!$B$14:$F$63,2,FALSE))","v":""},null,{"$f":"IF(A475=\"\",\"\",VLOOKUP(A475,'Fixture List Individual Files'!$B$14:$F$63,3,FALSE))","v":""},"",{"$f":"IF(A475=\"\",\"\",VLOOKUP(A475,'Fixture List Individual Files'!$B$14:$F$63,4,FALSE))","v":""},{"$f":"IF(A475=\"\",\"\",VLOOKUP(A475,'Fixture List Individual Files'!$B$14:$F$63,5,FALSE))","v":""},"","",""]
[null,{"$f":"IF(A476=\"\",\"\",VLOOKUP(A476,'Fixture List Individual Files'!$B$14:$F$63,2,FALSE))","v":""},null,{"$f":"IF(A476=\"\",\"\",VLOOKUP(A476,'Fixture List Individual Files'!$B$14:$F$63,3,FALSE))","v":""},"",{"$f":"IF(A476=\"\",\"\",VLOOKUP(A476,'Fixture List Individual Files'!$B$14:$F$63,4,FALSE))","v":""},{"$f":"IF(A476=\"\",\"\",VLOOKUP(A476,'Fixture List Individual Files'!$B$14:$F$63,5,FALSE))","v":""},"","",""]
[null,{"$f":"IF(A477=\"\",\"\",VLOOKUP(A477,'Fixture List Individual Files'!$B$14:$F$63,2,FALSE))","v":""},null,{"$f":"IF(A477=\"\",\"\",VLOOKUP(A477,'Fixture List Individual Files'!$B$14:$F$63,3,FALSE))","v":""},"",{"$f":"IF(A477=\"\",\"\",VLOOKUP(A477,'Fixture List Individual Files'!$B$14:$F$63,4,FALSE))","v":""},{"$f":"IF(A477=\"\",\"\",VLOOKUP(A477,'Fixture List Individual Files'!$B$14:$F$63,5,FALSE))","v":""},"","",""]
[null,{"$f":"IF(A478=\"\",\"\",VLOOKUP(A478,'Fixture List Individual Files'!$B$14:$F$63,2,FALSE))","v":""},null,{"$f":"IF(A478=\"\",\"\",VLOOKUP(A478,'Fixture List Individual Files'!$B$14:$F$63,3,FALSE))","v":""},"",{"$f":"IF(A478=\"\",\"\",VLOOKUP(A478,'Fixture List Individual Files'!$B$14:$F$63,4,FALSE))","v":""},{"$f":"IF(A478=\"\",\"\",VLOOKUP(A478,'Fixture List Individual Files'!$B$14:$F$63,5,FALSE))","v":""},"","",""]
[null,{"$f":"IF(A479=\"\",\"\",VLOOKUP(A479,'Fixture List Individual Files'!$B$14:$F$63,2,FALSE))","v":""},null,{"$f":"IF(A479=\"\",\"\",VLOOKUP(A479,'Fixture List Individual Files'!$B$14:$F$63,3,FALSE))","v":""},"",{"$f":"IF(A479=\"\",\"\",VLOOKUP(A479,'Fixture List Individual Files'!$B$14:$F$63,4,FALSE))","v":""},{"$f":"IF(A479=\"\",\"\",VLOOKUP(A479,'Fixture List Individual Files'!$B$14:$F$63,5,FALSE))","v":""},"","",""]
[null,{"$f":"IF(A480=\"\",\"\",VLOOKUP(A480,'Fixture List Individual Files'!$B$14:$F$63,2,FALSE))","v":""},null,{"$f":"IF(A480=\"\",\"\",VLOOKUP(A480,'Fixture List Individual Files'!$B$14:$F$63,3,FALSE))","v":""},"",{"$f":"IF(A480=\"\",\"\",VLOOKUP(A480,'Fixture List Individual Files'!$B$14:$F$63,4,FALSE))","v":""},{"$f":"IF(A480=\"\",\"\",VLOOKUP(A480,'Fixture List Individual Files'!$B$14:$F$63,5,FALSE))","v":""},"","",""]
[null,{"$f":"IF(A481=\"\",\"\",VLOOKUP(A481,'Fixture List Individual Files'!$B$14:$F$63,2,FALSE))","v":""},null,{"$f":"IF(A481=\"\",\"\",VLOOKUP(A481,'Fixture List Individual Files'!$B$14:$F$63,3,FALSE))","v":""},"",{"$f":"IF(A481=\"\",\"\",VLOOKUP(A481,'Fixture List Individual Files'!$B$14:$F$63,4,FALSE))","v":""},{"$f":"IF(A481=\"\",\"\",VLOOKUP(A481,'Fixture List Individual Files'!$B$14:$F$63,5,FALSE))","v":""},"","",""]
[null,"Totals:",{"$f":"SUM(C446:C481)","v":0},null,{"$f":"SUM(E446:E481)","v":0},{"$f":"SUMIF(F446:F481,\"Yes\",E446:E481)","v":0},null,{"$f":"SUM(H446:H481)","v":{"v":0,"d":"0.000"}},{"$f":"SUM(I446:I481)","v":0},0]
[]
["Area 12",{"$nulls":4},"NLC area factor:",{"$nulls":3},{"$f":"IF(VLOOKUP(A484,'Start Here!'!$N$46:$Q$70,4,FALSE)=0,VLOOKUP(Facility_Type,Admin_Lists!$A$63:$B$66,2,FALSE),VLOOKUP(A484,'Start Here!'!$N$46:$Q$70,4,FALSE))","v":{"$error":"#N/A"}}]
["Type:","Choose from Drop-down",null,null,{"$f":"IFERROR(VLOOKUP(B485,Admin_Lists!$A$9:$B$49,2,FALSE),\"\")","v":0},"W/sq ft",{"$nulls":3},{"$f":"VLOOKUP(A484,'Start Here!'!$N$46:$O$70,2,FALSE)","v":0}]
[null,{"$f":"\"Area Description: \"&'Sq. Ft. Area Individual Files'!D500","v":"Area Description: "},{"$nulls":3},"Sq Ft: ",{"$f":"'Sq. Ft. Area Individual Files'!C501","v":0}]
["Fixture Mark","Fixture\nName","Fixture\nCount","Fixture Watts","Total Watts \n(Fixt Count \nx Fixt Watts)","NLC Controls (Yes/No)","Space type","NLC Controls Savings"]
[{"$nulls":7},"Peak kW Savings","Annual kWh Savings","LC kWh Savings"]
[null,{"$f":"IF(A489=\"\",\"\",VLOOKUP(A489,'Fixture List Individual Files'!$B$14:$F$63,2,FALSE))","v":""},null,{"$f":"IF(A489=\"\",\"\",VLOOKUP(A489,'Fixture List Individual Files'!$B$14:$F$63,3,FALSE))","v":""},{"$f":"IF(D489=\"\",\"\",C489*D489)","v":""},{"$f":"IF(A489=\"\",\"\",VLOOKUP(A489,'Fixture List Individual Files'!$B$14:$F$63,4,FALSE))","v":""},{"$f":"IF(A489=\"\",\"\",VLOOKUP(A489,'Fixture List Individual Files'!$B$14:$F$63,5,FALSE))","v":""},{"$f":"IF(AND(F489=\"Yes\",Facility_Type=\"Commercial\"),(SFE_Commercial-SFBASE_Commercial)*E489/1000*$J$485,IF(AND(F489=\"Yes\",Facility_Type=\"Industrial\",G489=\"Non-High Bay\"),(SFE_Industrial-SFBASE_Industrial)*E489/1000*$J$485,IF(AND(F489=\"Yes\",Facility_Type=\"Schools & Government\",G489=\"Non-High Bay\"),((SFE_SG-SFBASE_SG)*E489/1000*$J$485),\"\")))","v":""},{"$f":"IF(AND(F489=\"Yes\",Facility_Type=\"Commercial\"),(SFE_Commercial-SFBASE_Commercial)*E489/1000*$J$484,IF(AND(F489=\"Yes\",Facility_Type=\"Industrial\",G489=\"Non-High Bay\"),(SFE_Industrial-SFBASE_Industrial)*E489/1000*$J$484,IF(AND(F489=\"Yes\",Facility_Type=\"Schools & Government\",G489=\"Non-High Bay\"),((SFE_SG-SFBASE_SG)*E489/1000*$J$484),\"\")))","v":""},{"$f":"IFERROR(I489*EUL_for_NLC,\"\")","v":""}]
[null,{"$f":"IF(A490=\"\",\"\",VLOOKUP(A490,'Fixture List Individual Files'!$B$14:$F$63,2,FALSE))","v":""},null,{"$f":"IF(A490=\"\",\"\",VLOOKUP(A490,'Fixture List Individual Files'!$B$14:$F$63,3,FALSE))","v":""},{"$f":"IF(D490=\"\",\"\",C490*D490)","v":""},{"$f":"IF(A490=\"\",\"\",VLOOKUP(A490,'Fixture List Individual Files'!$B$14:$F$63,4,FALSE))","v":""},{"$f":"IF(A490=\"\",\"\",VLOOKUP(A490,'Fixture List Individual Files'!$B$14:$F$63,5,FALSE))","v":""},"","",""]
[null,{"$f":"IF(A491=\"\",\"\",VLOOKUP(A491,'Fixture List Individual Files'!$B$14:$F$63,2,FALSE))","v":""},null,{"$f":"IF(A491=\"\",\"\",VLOOKUP(A491,'Fixture List Individual Files'!$B$14:$F$63,3,FALSE))","v":""},"",{"$f":"IF(A491=\"\",\"\",VLOOKUP(A491,'Fixture List Individual Files'!$B$14:$F$63,4,FALSE))","v":""},{"$f":"IF(A491=\"\",\"\",VLOOKUP(A491,'Fixture List Individual Files'!$B$14:$F$63,5,FALSE))","v":""},"","",""]
[null,{"$f":"IF(A492=\"\",\"\",VLOOKUP(A492,'Fixture List Individual Files'!$B$14:$F$63,2,FALSE))","v":""},null,{"$f":"IF(A492=\"\",\"\",VLOOKUP(A492,'Fixture List Individual Files'!$B$14:$F$63,3,FALSE))","v":""},"",{"$f":"IF(A492=\"\",\"\",VLOOKUP(A492,'Fixture List Individual Files'!$B$14:$F$63,4,FALSE))","v":""},{"$f":"IF(A492=\"\",\"\",VLOOKUP(A492,'Fixture List Individual Files'!$B$14:$F$63,5,FALSE))","v":""},"","",""]
[null,{"$f":"IF(A493=\"\",\"\",VLOOKUP(A493,'Fixture List Individual Files'!$B$14:$F$63,2,FALSE))","v":""},null,{"$f":"IF(A493=\"\",\"\",VLOOKUP(A493,'Fixture List Individual Files'!$B$14:$F$63,3,FALSE))","v":""},"",{"$f":"IF(A493=\"\",\"\",VLOOKUP(A493,'Fixture List Individual Files'!$B$14:$F$63,4,FALSE))","v":""},{"$f":"IF(A493=\"\",\"\",VLOOKUP(A493,'Fixture List Individual Files'!$B$14:$F$63,5,FALSE))","v":""},"","",""]
[null,{"$f":"IF(A494=\"\",\"\",VLOOKUP(A494,'Fixture List Individual Files'!$B$14:$F$63,2,FALSE))","v":""},null,{"$f":"IF(A494=\"\",\"\",VLOOKUP(A494,'Fixture List Individual Files'!$B$14:$F$63,3,FALSE))","v":""},"",{"$f":"IF(A494=\"\",\"\",VLOOKUP(A494,'Fixture List Individual Files'!$B$14:$F$63,4,FALSE))","v":""},{"$f":"IF(A494=\"\",\"\",VLOOKUP(A494,'Fixture List Individual Files'!$B$14:$F$63,5,FALSE))","v":""},"","",""]
[null,{"$f":"IF(A495=\"\",\"\",VLOOKUP(A495,'Fixture List Individual Files'!$B$14:$F$63,2,FALSE))","v":""},null,{"$f":"IF(A495=\"\",\"\",VLOOKUP(A495,'Fixture List Individual Files'!$B$14:$F$63,3,FALSE))","v":""},"",{"$f":"IF(A495=\"\",\"\",VLOOKUP(A495,'Fixture List Individual Files'!$B$14:$F$63,4,FALSE))","v":""},{"$f":"IF(A495=\"\",\"\",VLOOKUP(A495,'Fixture List Individual Files'!$B$14:$F$63,5,FALSE))","v":""},"","",""]
[null,{"$f":"IF(A496=\"\",\"\",VLOOKUP(A496,'Fixture List Individual Files'!$B$14:$F$63,2,FALSE))","v":""},null,{"$f":"IF(A496=\"\",\"\",VLOOKUP(A496,'Fixture List Individual Files'!$B$14:$F$63,3,FALSE))","v":""},"",{"$f":"IF(A496=\"\",\"\",VLOOKUP(A496,'Fixture List Individual Files'!$B$14:$F$63,4,FALSE))","v":""},{"$f":"IF(A496=\"\",\"\",VLOOKUP(A496,'Fixture List Individual Files'!$B$14:$F$63,5,FALSE))","v":""},"","",""]
[null,{"$f":"IF(A497=\"\",\"\",VLOOKUP(A497,'Fixture List Individual Files'!$B$14:$F$63,2,FALSE))","v":""},null,{"$f":"IF(A497=\"\",\"\",VLOOKUP(A497,'Fixture List Individual Files'!$B$14:$F$63,3,FALSE))","v":""},"",{"$f":"IF(A497=\"\",\"\",VLOOKUP(A497,'Fixture List Individual Files'!$B$14:$F$63,4,FALSE))","v":""},{"$f":"IF(A497=\"\",\"\",VLOOKUP(A497,'Fixture List Individual Files'!$B$14:$F$63,5,FALSE))","v":""},"","",""]
[null,{"$f":"IF(A498=\"\",\"\",VLOOKUP(A498,'Fixture List Individual Files'!$B$14:$F$63,2,FALSE))","v":""},null,{"$f":"IF(A498=\"\",\"\",VLOOKUP(A498,'Fixture List Individual Files'!$B$14:$F$63,3,FALSE))","v":""},"",{"$f":"IF(A498=\"\",\"\",VLOOKUP(A498,'Fixture List Individual Files'!$B$14:$F$63,4,FALSE))","v":""},{"$f":"IF(A498=\"\",\"\",VLOOKUP(A498,'Fixture List Individual Files'!$B$14:$F$63,5,FALSE))","v":""},"","",""]
[null,{"$f":"IF(A499=\"\",\"\",VLOOKUP(A499,'Fixture List Individual Files'!$B$14:$F$63,2,FALSE))","v":""},null,{"$f":"IF(A499=\"\",\"\",VLOOKUP(A499,'Fixture List Individual Files'!$B$14:$F$63,3,FALSE))","v":""},"",{"$f":"IF(A499=\"\",\"\",VLOOKUP(A499,'Fixture List Individual Files'!$B$14:$F$63,4,FALSE))","v":""},{"$f":"IF(A499=\"\",\"\",VLOOKUP(A499,'Fixture List Individual Files'!$B$14:$F$63,5,FALSE))","v":""},"","",""]
[null,{"$f":"IF(A500=\"\",\"\",VLOOKUP(A500,'Fixture List Individual Files'!$B$14:$F$63,2,FALSE))","v":""},null,{"$f":"IF(A500=\"\",\"\",VLOOKUP(A500,'Fixture List Individual Files'!$B$14:$F$63,3,FALSE))","v":""},"",{"$f":"IF(A500=\"\",\"\",VLOOKUP(A500,'Fixture List Individual Files'!$B$14:$F$63,4,FALSE))","v":""},{"$f":"IF(A500=\"\",\"\",VLOOKUP(A500,'Fixture List Individual Files'!$B$14:$F$63,5,FALSE))","v":""},"","",""]
[null,{"$f":"IF(A501=\"\",\"\",VLOOKUP(A501,'Fixture List Individual Files'!$B$14:$F$63,2,FALSE))","v":""},null,{"$f":"IF(A501=\"\",\"\",VLOOKUP(A501,'Fixture List Individual Files'!$B$14:$F$63,3,FALSE))","v":""},"",{"$f":"IF(A501=\"\",\"\",VLOOKUP(A501,'Fixture List Individual Files'!$B$14:$F$63,4,FALSE))","v":""},{"$f":"IF(A501=\"\",\"\",VLOOKUP(A501,'Fixture List Individual Files'!$B$14:$F$63,5,FALSE))","v":""},"","",""]
[null,{"$f":"IF(A502=\"\",\"\",VLOOKUP(A502,'Fixture List Individual Files'!$B$14:$F$63,2,FALSE))","v":""},null,{"$f":"IF(A502=\"\",\"\",VLOOKUP(A502,'Fixture List Individual Files'!$B$14:$F$63,3,FALSE))","v":""},"",{"$f":"IF(A502=\"\",\"\",VLOOKUP(A502,'Fixture List Individual Files'!$B$14:$F$63,4,FALSE))","v":""},{"$f":"IF(A502=\"\",\"\",VLOOKUP(A502,'Fixture List Individual Files'!$B$14:$F$63,5,FALSE))","v":""},"","",""]
[null,{"$f":"IF(A503=\"\",\"\",VLOOKUP(A503,'Fixture List Individual Files'!$B$14:$F$63,2,FALSE))","v":""},null,{"$f":"IF(A503=\"\",\"\",VLOOKUP(A503,'Fixture List Individual Files'!$B$14:$F$63,3,FALSE))","v":""},"",{"$f":"IF(A503=\"\",\"\",VLOOKUP(A503,'Fixture List Individual Files'!$B$14:$F$63,4,FALSE))","v":""},{"$f":"IF(A503=\"\",\"\",VLOOKUP(A503,'Fixture List Individual Files'!$B$14:$F$63,5,FALSE))","v":""},"","",""]
[null,{"$f":"IF(A504=\"\",\"\",VLOOKUP(A504,'Fixture List Individual Files'!$B$14:$F$63,2,FALSE))","v":""},null,{"$f":"IF(A504=\"\",\"\",VLOOKUP(A504,'Fixture List Individual Files'!$B$14:$F$63,3,FALSE))","v":""},"",{"$f":"IF(A504=\"\",\"\",VLOOKUP(A504,'Fixture List Individual Files'!$B$14:$F$63,4,FALSE))","v":""},{"$f":"IF(A504=\"\",\"\",VLOOKUP(A504,'Fixture List Individual Files'!$B$14:$F$63,5,FALSE))","v":""},"","",""]
[null,{"$f":"IF(A505=\"\",\"\",VLOOKUP(A505,'Fixture List Individual Files'!$B$14:$F$63,2,FALSE))","v":""},null,{"$f":"IF(A505=\"\",\"\",VLOOKUP(A505,'Fixture List Individual Files'!$B$14:$F$63,3,FALSE))","v":""},"",{"$f":"IF(A505=\"\",\"\",VLOOKUP(A505,'Fixture List Individual Files'!$B$14:$F$63,4,FALSE))","v":""},{"$f":"IF(A505=\"\",\"\",VLOOKUP(A505,'Fixture List Individual Files'!$B$14:$F$63,5,FALSE))","v":""},"","",""]
[null,{"$f":"IF(A506=\"\",\"\",VLOOKUP(A506,'Fixture List Individual Files'!$B$14:$F$63,2,FALSE))","v":""},null,{"$f":"IF(A506=\"\",\"\",VLOOKUP(A506,'Fixture List Individual Files'!$B$14:$F$63,3,FALSE))","v":""},"",{"$f":"IF(A506=\"\",\"\",VLOOKUP(A506,'Fixture List Individual Files'!$B$14:$F$63,4,FALSE))","v":""},{"$f":"IF(A506=\"\",\"\",VLOOKUP(A506,'Fixture List Individual Files'!$B$14:$F$63,5,FALSE))","v":""},"","",""]
[null,{"$f":"IF(A507=\"\",\"\",VLOOKUP(A507,'Fixture List Individual Files'!$B$14:$F$63,2,FALSE))","v":""},null,{"$f":"IF(A507=\"\",\"\",VLOOKUP(A507,'Fixture List Individual Files'!$B$14:$F$63,3,FALSE))","v":""},"",{"$f":"IF(A507=\"\",\"\",VLOOKUP(A507,'Fixture List Individual Files'!$B$14:$F$63,4,FALSE))","v":""},{"$f":"IF(A507=\"\",\"\",VLOOKUP(A507,'Fixture List Individual Files'!$B$14:$F$63,5,FALSE))","v":""},"","",""]
[null,{"$f":"IF(A508=\"\",\"\",VLOOKUP(A508,'Fixture List Individual Files'!$B$14:$F$63,2,FALSE))","v":""},null,{"$f":"IF(A508=\"\",\"\",VLOOKUP(A508,'Fixture List Individual Files'!$B$14:$F$63,3,FALSE))","v":""},"",{"$f":"IF(A508=\"\",\"\",VLOOKUP(A508,'Fixture List Individual Files'!$B$14:$F$63,4,FALSE))","v":""},{"$f":"IF(A508=\"\",\"\",VLOOKUP(A508,'Fixture List Individual Files'!$B$14:$F$63,5,FALSE))","v":""},"","",""]
[null,{"$f":"IF(A509=\"\",\"\",VLOOKUP(A509,'Fixture List Individual Files'!$B$14:$F$63,2,FALSE))","v":""},null,{"$f":"IF(A509=\"\",\"\",VLOOKUP(A509,'Fixture List Individual Files'!$B$14:$F$63,3,FALSE))","v":""},"",{"$f":"IF(A509=\"\",\"\",VLOOKUP(A509,'Fixture List Individual Files'!$B$14:$F$63,4,FALSE))","v":""},{"$f":"IF(A509=\"\",\"\",VLOOKUP(A509,'Fixture List Individual Files'!$B$14:$F$63,5,FALSE))","v":""},"","",""]
[null,{"$f":"IF(A510=\"\",\"\",VLOOKUP(A510,'Fixture List Individual Files'!$B$14:$F$63,2,FALSE))","v":""},null,{"$f":"IF(A510=\"\",\"\",VLOOKUP(A510,'Fixture List Individual Files'!$B$14:$F$63,3,FALSE))","v":""},"",{"$f":"IF(A510=\"\",\"\",VLOOKUP(A510,'Fixture List Individual Files'!$B$14:$F$63,4,FALSE))","v":""},{"$f":"IF(A510=\"\",\"\",VLOOKUP(A510,'Fixture List Individual Files'!$B$14:$F$63,5,FALSE))","v":""},"","",""]
[null,{"$f":"IF(A511=\"\",\"\",VLOOKUP(A511,'Fixture List Individual Files'!$B$14:$F$63,2,FALSE))","v":""},null,{"$f":"IF(A511=\"\",\"\",VLOOKUP(A511,'Fixture List Individual Files'!$B$14:$F$63,3,FALSE))","v":""},"",{"$f":"IF(A511=\"\",\"\",VLOOKUP(A511,'Fixture List Individual Files'!$B$14:$F$63,4,FALSE))","v":""},{"$f":"IF(A511=\"\",\"\",VLOOKUP(A511,'Fixture List Individual Files'!$B$14:$F$63,5,FALSE))","v":""},"","",""]
[null,{"$f":"IF(A512=\"\",\"\",VLOOKUP(A512,'Fixture List Individual Files'!$B$14:$F$63,2,FALSE))","v":""},null,{"$f":"IF(A512=\"\",\"\",VLOOKUP(A512,'Fixture List Individual Files'!$B$14:$F$63,3,FALSE))","v":""},"",{"$f":"IF(A512=\"\",\"\",VLOOKUP(A512,'Fixture List Individual Files'!$B$14:$F$63,4,FALSE))","v":""},{"$f":"IF(A512=\"\",\"\",VLOOKUP(A512,'Fixture List Individual Files'!$B$14:$F$63,5,FALSE))","v":""},"","",""]
[null,{"$f":"IF(A513=\"\",\"\",VLOOKUP(A513,'Fixture List Individual Files'!$B$14:$F$63,2,FALSE))","v":""},null,{"$f":"IF(A513=\"\",\"\",VLOOKUP(A513,'Fixture List Individual Files'!$B$14:$F$63,3,FALSE))","v":""},"",{"$f":"IF(A513=\"\",\"\",VLOOKUP(A513,'Fixture List Individual Files'!$B$14:$F$63,4,FALSE))","v":""},{"$f":"IF(A513=\"\",\"\",VLOOKUP(A513,'Fixture List Individual Files'!$B$14:$F$63,5,FALSE))","v":""},"","",""]
[null,{"$f":"IF(A514=\"\",\"\",VLOOKUP(A514,'Fixture List Individual Files'!$B$14:$F$63,2,FALSE))","v":""},null,{"$f":"IF(A514=\"\",\"\",VLOOKUP(A514,'Fixture List Individual Files'!$B$14:$F$63,3,FALSE))","v":""},"",{"$f":"IF(A514=\"\",\"\",VLOOKUP(A514,'Fixture List Individual Files'!$B$14:$F$63,4,FALSE))","v":""},{"$f":"IF(A514=\"\",\"\",VLOOKUP(A514,'Fixture List Individual Files'!$B$14:$F$63,5,FALSE))","v":""},"","",""]
[null,{"$f":"IF(A515=\"\",\"\",VLOOKUP(A515,'Fixture List Individual Files'!$B$14:$F$63,2,FALSE))","v":""},null,{"$f":"IF(A515=\"\",\"\",VLOOKUP(A515,'Fixture List Individual Files'!$B$14:$F$63,3,FALSE))","v":""},"",{"$f":"IF(A515=\"\",\"\",VLOOKUP(A515,'Fixture List Individual Files'!$B$14:$F$63,4,FALSE))","v":""},{"$f":"IF(A515=\"\",\"\",VLOOKUP(A515,'Fixture List Individual Files'!$B$14:$F$63,5,FALSE))","v":""},"","",""]
[null,{"$f":"IF(A516=\"\",\"\",VLOOKUP(A516,'Fixture List Individual Files'!$B$14:$F$63,2,FALSE))","v":""},null,{"$f":"IF(A516=\"\",\"\",VLOOKUP(A516,'Fixture List Individual Files'!$B$14:$F$63,3,FALSE))","v":""},"",{"$f":"IF(A516=\"\",\"\",VLOOKUP(A516,'Fixture List Individual Files'!$B$14:$F$63,4,FALSE))","v":""},{"$f":"IF(A516=\"\",\"\",VLOOKUP(A516,'Fixture List Individual Files'!$B$14:$F$63,5,FALSE))","v":""},"","",""]
[null,{"$f":"IF(A517=\"\",\"\",VLOOKUP(A517,'Fixture List Individual Files'!$B$14:$F$63,2,FALSE))","v":""},null,{"$f":"IF(A517=\"\",\"\",VLOOKUP(A517,'Fixture List Individual Files'!$B$14:$F$63,3,FALSE))","v":""},"",{"$f":"IF(A517=\"\",\"\",VLOOKUP(A517,'Fixture List Individual Files'!$B$14:$F$63,4,FALSE))","v":""},{"$f":"IF(A517=\"\",\"\",VLOOKUP(A517,'Fixture List Individual Files'!$B$14:$F$63,5,FALSE))","v":""},"","",""]
[null,{"$f":"IF(A518=\"\",\"\",VLOOKUP(A518,'Fixture List Individual Files'!$B$14:$F$63,2,FALSE))","v":""},null,{"$f":"IF(A518=\"\",\"\",VLOOKUP(A518,'Fixture List Individual Files'!$B$14:$F$63,3,FALSE))","v":""},"",{"$f":"IF(A518=\"\",\"\",VLOOKUP(A518,'Fixture List Individual Files'!$B$14:$F$63,4,FALSE))","v":""},{"$f":"IF(A518=\"\",\"\",VLOOKUP(A518,'Fixture List Individual Files'!$B$14:$F$63,5,FALSE))","v":""},"","",""]
[null,{"$f":"IF(A519=\"\",\"\",VLOOKUP(A519,'Fixture List Individual Files'!$B$14:$F$63,2,FALSE))","v":""},null,{"$f":"IF(A519=\"\",\"\",VLOOKUP(A519,'Fixture List Individual Files'!$B$14:$F$63,3,FALSE))","v":""},"",{"$f":"IF(A519=\"\",\"\",VLOOKUP(A519,'Fixture List Individual Files'!$B$14:$F$63,4,FALSE))","v":""},{"$f":"IF(A519=\"\",\"\",VLOOKUP(A519,'Fixture List Individual Files'!$B$14:$F$63,5,FALSE))","v":""},"","",""]
[null,{"$f":"IF(A520=\"\",\"\",VLOOKUP(A520,'Fixture List Individual Files'!$B$14:$F$63,2,FALSE))","v":""},null,{"$f":"IF(A520=\"\",\"\",VLOOKUP(A520,'Fixture List Individual Files'!$B$14:$F$63,3,FALSE))","v":""},"",{"$f":"IF(A520=\"\",\"\",VLOOKUP(A520,'Fixture List Individual Files'!$B$14:$F$63,4,FALSE))","v":""},{"$f":"IF(A520=\"\",\"\",VLOOKUP(A520,'Fixture List Individual Files'!$B$14:$F$63,5,FALSE))","v":""},"","",""]
[null,{"$f":"IF(A521=\"\",\"\",VLOOKUP(A521,'Fixture List Individual Files'!$B$14:$F$63,2,FALSE))","v":""},null,{"$f":"IF(A521=\"\",\"\",VLOOKUP(A521,'Fixture List Individual Files'!$B$14:$F$63,3,FALSE))","v":""},"",{"$f":"IF(A521=\"\",\"\",VLOOKUP(A521,'Fixture List Individual Files'!$B$14:$F$63,4,FALSE))","v":""},{"$f":"IF(A521=\"\",\"\",VLOOKUP(A521,'Fixture List Individual Files'!$B$14:$F$63,5,FALSE))","v":""},"","",""]
[null,{"$f":"IF(A522=\"\",\"\",VLOOKUP(A522,'Fixture List Individual Files'!$B$14:$F$63,2,FALSE))","v":""},null,{"$f":"IF(A522=\"\",\"\",VLOOKUP(A522,'Fixture List Individual Files'!$B$14:$F$63,3,FALSE))","v":""},"",{"$f":"IF(A522=\"\",\"\",VLOOKUP(A522,'Fixture List Individual Files'!$B$14:$F$63,4,FALSE))","v":""},{"$f":"IF(A522=\"\",\"\",VLOOKUP(A522,'Fixture List Individual Files'!$B$14:$F$63,5,FALSE))","v":""},"","",""]
[null,{"$f":"IF(A523=\"\",\"\",VLOOKUP(A523,'Fixture List Individual Files'!$B$14:$F$63,2,FALSE))","v":""},null,{"$f":"IF(A523=\"\",\"\",VLOOKUP(A523,'Fixture List Individual Files'!$B$14:$F$63,3,FALSE))","v":""},"",{"$f":"IF(A523=\"\",\"\",VLOOKUP(A523,'Fixture List Individual Files'!$B$14:$F$63,4,FALSE))","v":""},{"$f":"IF(A523=\"\",\"\",VLOOKUP(A523,'Fixture List Individual Files'!$B$14:$F$63,5,FALSE))","v":""},"","",""]
[null,{"$f":"IF(A524=\"\",\"\",VLOOKUP(A524,'Fixture List Individual Files'!$B$14:$F$63,2,FALSE))","v":""},null,{"$f":"IF(A524=\"\",\"\",VLOOKUP(A524,'Fixture List Individual Files'!$B$14:$F$63,3,FALSE))","v":""},"",{"$f":"IF(A524=\"\",\"\",VLOOKUP(A524,'Fixture List Individual Files'!$B$14:$F$63,4,FALSE))","v":""},{"$f":"IF(A524=\"\",\"\",VLOOKUP(A524,'Fixture List Individual Files'!$B$14:$F$63,5,FALSE))","v":""},"","",""]
[null,"Totals:",{"$f":"SUM(C489:C524)","v":0},null,{"$f":"SUM(E489:E524)","v":0},{"$f":"SUMIF(F489:F524,\"Yes\",E489:E524)","v":0},null,{"$f":"SUM(H489:H524)","v":{"v":0,"d":"0.000"}},{"$f":"SUM(I489:I524)","v":0},0]
[]
["Area 13",{"$nulls":4},"NLC area factor:",{"$nulls":3},{"$f":"IF(VLOOKUP(A527,'Start Here!'!$N$46:$Q$70,4,FALSE)=0,VLOOKUP(Facility_Type,Admin_Lists!$A$63:$B$66,2,FALSE),VLOOKUP(A527,'Start Here!'!$N$46:$Q$70,4,FALSE))","v":{"$error":"#N/A"}}]
["Type:","Choose from Drop-down",null,null,{"$f":"IFERROR(VLOOKUP(B528,Admin_Lists!$A$9:$B$49,2,FALSE),\"\")","v":0},"W/sq ft",{"$nulls":3},{"$f":"VLOOKUP(A527,'Start Here!'!$N$46:$O$70,2,FALSE)","v":0}]
[null,{"$f":"\"Area Description: \"&'Sq. Ft. Area Individual Files'!D504","v":"Area Description: "},{"$nulls":3},"Sq Ft: ",{"$f":"'Sq. Ft. Area Individual Files'!C505","v":0}]
["Fixture Mark","Fixture\nName","Fixture\nCount","Fixture Watts","Total Watts \n(Fixt Count \nx Fixt Watts)","NLC Controls (Yes/No)","Space type","NLC Controls Savings"]
[{"$nulls":7},"Peak kW Savings","Annual kWh Savings","LC kWh Savings"]
[null,{"$f":"IF(A532=\"\",\"\",VLOOKUP(A532,'Fixture List Individual Files'!$B$14:$F$63,2,FALSE))","v":""},null,{"$f":"IF(A532=\"\",\"\",VLOOKUP(A532,'Fixture List Individual Files'!$B$14:$F$63,3,FALSE))","v":""},{"$f":"IF(D532=\"\",\"\",C532*D532)","v":""},{"$f":"IF(A532=\"\",\"\",VLOOKUP(A532,'Fixture List Individual Files'!$B$14:$F$63,4,FALSE))","v":""},{"$f":"IF(A532=\"\",\"\",VLOOKUP(A532,'Fixture List Individual Files'!$B$14:$F$63,5,FALSE))","v":""},{"$f":"IF(AND(F532=\"Yes\",Facility_Type=\"Commercial\"),(SFE_Commercial-SFBASE_Commercial)*E532/1000*$J$528,IF(AND(F532=\"Yes\",Facility_Type=\"Industrial\",G532=\"Non-High Bay\"),(SFE_Industrial-SFBASE_Industrial)*E532/1000*$J$528,IF(AND(F532=\"Yes\",Facility_Type=\"Schools & Government\",G532=\"Non-High Bay\"),((SFE_SG-SFBASE_SG)*E532/1000*$J$528),\"\")))","v":""},{"$f":"IF(AND(F532=\"Yes\",Facility_Type=\"Commercial\"),(SFE_Commercial-SFBASE_Commercial)*E532/1000*$J$527,IF(AND(F532=\"Yes\",Facility_Type=\"Industrial\",G532=\"Non-High Bay\"),(SFE_Industrial-SFBASE_Industrial)*E532/1000*$J$527,IF(AND(F532=\"Yes\",Facility_Type=\"Schools & Government\",G532=\"Non-High Bay\"),((SFE_SG-SFBASE_SG)*E532/1000*$J$527),\"\")))","v":""},{"$f":"IFERROR(I532*EUL_for_NLC,\"\")","v":""}]
[null,{"$f":"IF(A533=\"\",\"\",VLOOKUP(A533,'Fixture List Individual Files'!$B$14:$F$63,2,FALSE))","v":""},null,{"$f":"IF(A533=\"\",\"\",VLOOKUP(A533,'Fixture List Individual Files'!$B$14:$F$63,3,FALSE))","v":""},{"$f":"IF(D533=\"\",\"\",C533*D533)","v":""},{"$f":"IF(A533=\"\",\"\",VLOOKUP(A533,'Fixture List Individual Files'!$B$14:$F$63,4,FALSE))","v":""},{"$f":"IF(A533=\"\",\"\",VLOOKUP(A533,'Fixture List Individual Files'!$B$14:$F$63,5,FALSE))","v":""},"","",""]
[null,{"$f":"IF(A534=\"\",\"\",VLOOKUP(A534,'Fixture List Individual Files'!$B$14:$F$63,2,FALSE))","v":""},null,{"$f":"IF(A534=\"\",\"\",VLOOKUP(A534,'Fixture List Individual Files'!$B$14:$F$63,3,FALSE))","v":""},"",{"$f":"IF(A534=\"\",\"\",VLOOKUP(A534,'Fixture List Individual Files'!$B$14:$F$63,4,FALSE))","v":""},{"$f":"IF(A534=\"\",\"\",VLOOKUP(A534,'Fixture List Individual Files'!$B$14:$F$63,5,FALSE))","v":""},"","",""]
[null,{"$f":"IF(A535=\"\",\"\",VLOOKUP(A535,'Fixture List Individual Files'!$B$14:$F$63,2,FALSE))","v":""},null,{"$f":"IF(A535=\"\",\"\",VLOOKUP(A535,'Fixture List Individual Files'!$B$14:$F$63,3,FALSE))","v":""},"",{"$f":"IF(A535=\"\",\"\",VLOOKUP(A535,'Fixture List Individual Files'!$B$14:$F$63,4,FALSE))","v":""},{"$f":"IF(A535=\"\",\"\",VLOOKUP(A535,'Fixture List Individual Files'!$B$14:$F$63,5,FALSE))","v":""},"","",""]
[null,{"$f":"IF(A536=\"\",\"\",VLOOKUP(A536,'Fixture List Individual Files'!$B$14:$F$63,2,FALSE))","v":""},null,{"$f":"IF(A536=\"\",\"\",VLOOKUP(A536,'Fixture List Individual Files'!$B$14:$F$63,3,FALSE))","v":""},"",{"$f":"IF(A536=\"\",\"\",VLOOKUP(A536,'Fixture List Individual Files'!$B$14:$F$63,4,FALSE))","v":""},{"$f":"IF(A536=\"\",\"\",VLOOKUP(A536,'Fixture List Individual Files'!$B$14:$F$63,5,FALSE))","v":""},"","",""]
[null,{"$f":"IF(A537=\"\",\"\",VLOOKUP(A537,'Fixture List Individual Files'!$B$14:$F$63,2,FALSE))","v":""},null,{"$f":"IF(A537=\"\",\"\",VLOOKUP(A537,'Fixture List Individual Files'!$B$14:$F$63,3,FALSE))","v":""},"",{"$f":"IF(A537=\"\",\"\",VLOOKUP(A537,'Fixture List Individual Files'!$B$14:$F$63,4,FALSE))","v":""},{"$f":"IF(A537=\"\",\"\",VLOOKUP(A537,'Fixture List Individual Files'!$B$14:$F$63,5,FALSE))","v":""},"","",""]
[null,{"$f":"IF(A538=\"\",\"\",VLOOKUP(A538,'Fixture List Individual Files'!$B$14:$F$63,2,FALSE))","v":""},null,{"$f":"IF(A538=\"\",\"\",VLOOKUP(A538,'Fixture List Individual Files'!$B$14:$F$63,3,FALSE))","v":""},"",{"$f":"IF(A538=\"\",\"\",VLOOKUP(A538,'Fixture List Individual Files'!$B$14:$F$63,4,FALSE))","v":""},{"$f":"IF(A538=\"\",\"\",VLOOKUP(A538,'Fixture List Individual Files'!$B$14:$F$63,5,FALSE))","v":""},"","",""]
[null,{"$f":"IF(A539=\"\",\"\",VLOOKUP(A539,'Fixture List Individual Files'!$B$14:$F$63,2,FALSE))","v":""},null,{"$f":"IF(A539=\"\",\"\",VLOOKUP(A539,'Fixture List Individual Files'!$B$14:$F$63,3,FALSE))","v":""},"",{"$f":"IF(A539=\"\",\"\",VLOOKUP(A539,'Fixture List Individual Files'!$B$14:$F$63,4,FALSE))","v":""},{"$f":"IF(A539=\"\",\"\",VLOOKUP(A539,'Fixture List Individual Files'!$B$14:$F$63,5,FALSE))","v":""},"","",""]
[null,{"$f":"IF(A540=\"\",\"\",VLOOKUP(A540,'Fixture List Individual Files'!$B$14:$F$63,2,FALSE))","v":""},null,{"$f":"IF(A540=\"\",\"\",VLOOKUP(A540,'Fixture List Individual Files'!$B$14:$F$63,3,FALSE))","v":""},"",{"$f":"IF(A540=\"\",\"\",VLOOKUP(A540,'Fixture List Individual Files'!$B$14:$F$63,4,FALSE))","v":""},{"$f":"IF(A540=\"\",\"\",VLOOKUP(A540,'Fixture List Individual Files'!$B$14:$F$63,5,FALSE))","v":""},"","",""]
[null,{"$f":"IF(A541=\"\",\"\",VLOOKUP(A541,'Fixture List Individual Files'!$B$14:$F$63,2,FALSE))","v":""},null,{"$f":"IF(A541=\"\",\"\",VLOOKUP(A541,'Fixture List Individual Files'!$B$14:$F$63,3,FALSE))","v":""},"",{"$f":"IF(A541=\"\",\"\",VLOOKUP(A541,'Fixture List Individual Files'!$B$14:$F$63,4,FALSE))","v":""},{"$f":"IF(A541=\"\",\"\",VLOOKUP(A541,'Fixture List Individual Files'!$B$14:$F$63,5,FALSE))","v":""},"","",""]
[null,{"$f":"IF(A542=\"\",\"\",VLOOKUP(A542,'Fixture List Individual Files'!$B$14:$F$63,2,FALSE))","v":""},null,{"$f":"IF(A542=\"\",\"\",VLOOKUP(A542,'Fixture List Individual Files'!$B$14:$F$63,3,FALSE))","v":""},"",{"$f":"IF(A542=\"\",\"\",VLOOKUP(A542,'Fixture List Individual Files'!$B$14:$F$63,4,FALSE))","v":""},{"$f":"IF(A542=\"\",\"\",VLOOKUP(A542,'Fixture List Individual Files'!$B$14:$F$63,5,FALSE))","v":""},"","",""]
[null,{"$f":"IF(A543=\"\",\"\",VLOOKUP(A543,'Fixture List Individual Files'!$B$14:$F$63,2,FALSE))","v":""},null,{"$f":"IF(A543=\"\",\"\",VLOOKUP(A543,'Fixture List Individual Files'!$B$14:$F$63,3,FALSE))","v":""},"",{"$f":"IF(A543=\"\",\"\",VLOOKUP(A543,'Fixture List Individual Files'!$B$14:$F$63,4,FALSE))","v":""},{"$f":"IF(A543=\"\",\"\",VLOOKUP(A543,'Fixture List Individual Files'!$B$14:$F$63,5,FALSE))","v":""},"","",""]
[null,{"$f":"IF(A544=\"\",\"\",VLOOKUP(A544,'Fixture List Individual Files'!$B$14:$F$63,2,FALSE))","v":""},null,{"$f":"IF(A544=\"\",\"\",VLOOKUP(A544,'Fixture List Individual Files'!$B$14:$F$63,3,FALSE))","v":""},"",{"$f":"IF(A544=\"\",\"\",VLOOKUP(A544,'Fixture List Individual Files'!$B$14:$F$63,4,FALSE))","v":""},{"$f":"IF(A544=\"\",\"\",VLOOKUP(A544,'Fixture List Individual Files'!$B$14:$F$63,5,FALSE))","v":""},"","",""]
[null,{"$f":"IF(A545=\"\",\"\",VLOOKUP(A545,'Fixture List Individual Files'!$B$14:$F$63,2,FALSE))","v":""},null,{"$f":"IF(A545=\"\",\"\",VLOOKUP(A545,'Fixture List Individual Files'!$B$14:$F$63,3,FALSE))","v":""},"",{"$f":"IF(A545=\"\",\"\",VLOOKUP(A545,'Fixture List Individual Files'!$B$14:$F$63,4,FALSE))","v":""},{"$f":"IF(A545=\"\",\"\",VLOOKUP(A545,'Fixture List Individual Files'!$B$14:$F$63,5,FALSE))","v":""},"","",""]
[null,{"$f":"IF(A546=\"\",\"\",VLOOKUP(A546,'Fixture List Individual Files'!$B$14:$F$63,2,FALSE))","v":""},null,{"$f":"IF(A546=\"\",\"\",VLOOKUP(A546,'Fixture List Individual Files'!$B$14:$F$63,3,FALSE))","v":""},"",{"$f":"IF(A546=\"\",\"\",VLOOKUP(A546,'Fixture List Individual Files'!$B$14:$F$63,4,FALSE))","v":""},{"$f":"IF(A546=\"\",\"\",VLOOKUP(A546,'Fixture List Individual Files'!$B$14:$F$63,5,FALSE))","v":""},"","",""]
[null,{"$f":"IF(A547=\"\",\"\",VLOOKUP(A547,'Fixture List Individual Files'!$B$14:$F$63,2,FALSE))","v":""},null,{"$f":"IF(A547=\"\",\"\",VLOOKUP(A547,'Fixture List Individual Files'!$B$14:$F$63,3,FALSE))","v":""},"",{"$f":"IF(A547=\"\",\"\",VLOOKUP(A547,'Fixture List Individual Files'!$B$14:$F$63,4,FALSE))","v":""},{"$f":"IF(A547=\"\",\"\",VLOOKUP(A547,'Fixture List Individual Files'!$B$14:$F$63,5,FALSE))","v":""},"","",""]
[null,{"$f":"IF(A548=\"\",\"\",VLOOKUP(A548,'Fixture List Individual Files'!$B$14:$F$63,2,FALSE))","v":""},null,{"$f":"IF(A548=\"\",\"\",VLOOKUP(A548,'Fixture List Individual Files'!$B$14:$F$63,3,FALSE))","v":""},"",{"$f":"IF(A548=\"\",\"\",VLOOKUP(A548,'Fixture List Individual Files'!$B$14:$F$63,4,FALSE))","v":""},{"$f":"IF(A548=\"\",\"\",VLOOKUP(A548,'Fixture List Individual Files'!$B$14:$F$63,5,FALSE))","v":""},"","",""]
[null,{"$f":"IF(A549=\"\",\"\",VLOOKUP(A549,'Fixture List Individual Files'!$B$14:$F$63,2,FALSE))","v":""},null,{"$f":"IF(A549=\"\",\"\",VLOOKUP(A549,'Fixture List Individual Files'!$B$14:$F$63,3,FALSE))","v":""},"",{"$f":"IF(A549=\"\",\"\",VLOOKUP(A549,'Fixture List Individual Files'!$B$14:$F$63,4,FALSE))","v":""},{"$f":"IF(A549=\"\",\"\",VLOOKUP(A549,'Fixture List Individual Files'!$B$14:$F$63,5,FALSE))","v":""},"","",""]
[null,{"$f":"IF(A550=\"\",\"\",VLOOKUP(A550,'Fixture List Individual Files'!$B$14:$F$63,2,FALSE))","v":""},null,{"$f":"IF(A550=\"\",\"\",VLOOKUP(A550,'Fixture List Individual Files'!$B$14:$F$63,3,FALSE))","v":""},"",{"$f":"IF(A550=\"\",\"\",VLOOKUP(A550,'Fixture List Individual Files'!$B$14:$F$63,4,FALSE))","v":""},{"$f":"IF(A550=\"\",\"\",VLOOKUP(A550,'Fixture List Individual Files'!$B$14:$F$63,5,FALSE))","v":""},"","",""]
[null,{"$f":"IF(A551=\"\",\"\",VLOOKUP(A551,'Fixture List Individual Files'!$B$14:$F$63,2,FALSE))","v":""},null,{"$f":"IF(A551=\"\",\"\",VLOOKUP(A551,'Fixture List Individual Files'!$B$14:$F$63,3,FALSE))","v":""},"",{"$f":"IF(A551=\"\",\"\",VLOOKUP(A551,'Fixture List Individual Files'!$B$14:$F$63,4,FALSE))","v":""},{"$f":"IF(A551=\"\",\"\",VLOOKUP(A551,'Fixture List Individual Files'!$B$14:$F$63,5,FALSE))","v":""},"","",""]
[null,{"$f":"IF(A552=\"\",\"\",VLOOKUP(A552,'Fixture List Individual Files'!$B$14:$F$63,2,FALSE))","v":""},null,{"$f":"IF(A552=\"\",\"\",VLOOKUP(A552,'Fixture List Individual Files'!$B$14:$F$63,3,FALSE))","v":""},"",{"$f":"IF(A552=\"\",\"\",VLOOKUP(A552,'Fixture List Individual Files'!$B$14:$F$63,4,FALSE))","v":""},{"$f":"IF(A552=\"\",\"\",VLOOKUP(A552,'Fixture List Individual Files'!$B$14:$F$63,5,FALSE))","v":""},"","",""]
[null,{"$f":"IF(A553=\"\",\"\",VLOOKUP(A553,'Fixture List Individual Files'!$B$14:$F$63,2,FALSE))","v":""},null,{"$f":"IF(A553=\"\",\"\",VLOOKUP(A553,'Fixture List Individual Files'!$B$14:$F$63,3,FALSE))","v":""},"",{"$f":"IF(A553=\"\",\"\",VLOOKUP(A553,'Fixture List Individual Files'!$B$14:$F$63,4,FALSE))","v":""},{"$f":"IF(A553=\"\",\"\",VLOOKUP(A553,'Fixture List Individual Files'!$B$14:$F$63,5,FALSE))","v":""},"","",""]
[null,{"$f":"IF(A554=\"\",\"\",VLOOKUP(A554,'Fixture List Individual Files'!$B$14:$F$63,2,FALSE))","v":""},null,{"$f":"IF(A554=\"\",\"\",VLOOKUP(A554,'Fixture List Individual Files'!$B$14:$F$63,3,FALSE))","v":""},"",{"$f":"IF(A554=\"\",\"\",VLOOKUP(A554,'Fixture List Individual Files'!$B$14:$F$63,4,FALSE))","v":""},{"$f":"IF(A554=\"\",\"\",VLOOKUP(A554,'Fixture List Individual Files'!$B$14:$F$63,5,FALSE))","v":""},"","",""]
[null,{"$f":"IF(A555=\"\",\"\",VLOOKUP(A555,'Fixture List Individual Files'!$B$14:$F$63,2,FALSE))","v":""},null,{"$f":"IF(A555=\"\",\"\",VLOOKUP(A555,'Fixture List Individual Files'!$B$14:$F$63,3,FALSE))","v":""},"",{"$f":"IF(A555=\"\",\"\",VLOOKUP(A555,'Fixture List Individual Files'!$B$14:$F$63,4,FALSE))","v":""},{"$f":"IF(A555=\"\",\"\",VLOOKUP(A555,'Fixture List Individual Files'!$B$14:$F$63,5,FALSE))","v":""},"","",""]
[null,{"$f":"IF(A556=\"\",\"\",VLOOKUP(A556,'Fixture List Individual Files'!$B$14:$F$63,2,FALSE))","v":""},null,{"$f":"IF(A556=\"\",\"\",VLOOKUP(A556,'Fixture List Individual Files'!$B$14:$F$63,3,FALSE))","v":""},"",{"$f":"IF(A556=\"\",\"\",VLOOKUP(A556,'Fixture List Individual Files'!$B$14:$F$63,4,FALSE))","v":""},{"$f":"IF(A556=\"\",\"\",VLOOKUP(A556,'Fixture List Individual Files'!$B$14:$F$63,5,FALSE))","v":""},"","",""]
[null,{"$f":"IF(A557=\"\",\"\",VLOOKUP(A557,'Fixture List Individual Files'!$B$14:$F$63,2,FALSE))","v":""},null,{"$f":"IF(A557=\"\",\"\",VLOOKUP(A557,'Fixture List Individual Files'!$B$14:$F$63,3,FALSE))","v":""},"",{"$f":"IF(A557=\"\",\"\",VLOOKUP(A557,'Fixture List Individual Files'!$B$14:$F$63,4,FALSE))","v":""},{"$f":"IF(A557=\"\",\"\",VLOOKUP(A557,'Fixture List Individual Files'!$B$14:$F$63,5,FALSE))","v":""},"","",""]
[null,{"$f":"IF(A558=\"\",\"\",VLOOKUP(A558,'Fixture List Individual Files'!$B$14:$F$63,2,FALSE))","v":""},null,{"$f":"IF(A558=\"\",\"\",VLOOKUP(A558,'Fixture List Individual Files'!$B$14:$F$63,3,FALSE))","v":""},"",{"$f":"IF(A558=\"\",\"\",VLOOKUP(A558,'Fixture List Individual Files'!$B$14:$F$63,4,FALSE))","v":""},{"$f":"IF(A558=\"\",\"\",VLOOKUP(A558,'Fixture List Individual Files'!$B$14:$F$63,5,FALSE))","v":""},"","",""]
[null,{"$f":"IF(A559=\"\",\"\",VLOOKUP(A559,'Fixture List Individual Files'!$B$14:$F$63,2,FALSE))","v":""},null,{"$f":"IF(A559=\"\",\"\",VLOOKUP(A559,'Fixture List Individual Files'!$B$14:$F$63,3,FALSE))","v":""},"",{"$f":"IF(A559=\"\",\"\",VLOOKUP(A559,'Fixture List Individual Files'!$B$14:$F$63,4,FALSE))","v":""},{"$f":"IF(A559=\"\",\"\",VLOOKUP(A559,'Fixture List Individual Files'!$B$14:$F$63,5,FALSE))","v":""},"","",""]
[null,{"$f":"IF(A560=\"\",\"\",VLOOKUP(A560,'Fixture List Individual Files'!$B$14:$F$63,2,FALSE))","v":""},null,{"$f":"IF(A560=\"\",\"\",VLOOKUP(A560,'Fixture List Individual Files'!$B$14:$F$63,3,FALSE))","v":""},"",{"$f":"IF(A560=\"\",\"\",VLOOKUP(A560,'Fixture List Individual Files'!$B$14:$F$63,4,FALSE))","v":""},{"$f":"IF(A560=\"\",\"\",VLOOKUP(A560,'Fixture List Individual Files'!$B$14:$F$63,5,FALSE))","v":""},"","",""]
[null,{"$f":"IF(A561=\"\",\"\",VLOOKUP(A561,'Fixture List Individual Files'!$B$14:$F$63,2,FALSE))","v":""},null,{"$f":"IF(A561=\"\",\"\",VLOOKUP(A561,'Fixture List Individual Files'!$B$14:$F$63,3,FALSE))","v":""},"",{"$f":"IF(A561=\"\",\"\",VLOOKUP(A561,'Fixture List Individual Files'!$B$14:$F$63,4,FALSE))","v":""},{"$f":"IF(A561=\"\",\"\",VLOOKUP(A561,'Fixture List Individual Files'!$B$14:$F$63,5,FALSE))","v":""},"","",""]
[null,{"$f":"IF(A562=\"\",\"\",VLOOKUP(A562,'Fixture List Individual Files'!$B$14:$F$63,2,FALSE))","v":""},null,{"$f":"IF(A562=\"\",\"\",VLOOKUP(A562,'Fixture List Individual Files'!$B$14:$F$63,3,FALSE))","v":""},"",{"$f":"IF(A562=\"\",\"\",VLOOKUP(A562,'Fixture List Individual Files'!$B$14:$F$63,4,FALSE))","v":""},{"$f":"IF(A562=\"\",\"\",VLOOKUP(A562,'Fixture List Individual Files'!$B$14:$F$63,5,FALSE))","v":""},"","",""]
[null,{"$f":"IF(A563=\"\",\"\",VLOOKUP(A563,'Fixture List Individual Files'!$B$14:$F$63,2,FALSE))","v":""},null,{"$f":"IF(A563=\"\",\"\",VLOOKUP(A563,'Fixture List Individual Files'!$B$14:$F$63,3,FALSE))","v":""},"",{"$f":"IF(A563=\"\",\"\",VLOOKUP(A563,'Fixture List Individual Files'!$B$14:$F$63,4,FALSE))","v":""},{"$f":"IF(A563=\"\",\"\",VLOOKUP(A563,'Fixture List Individual Files'!$B$14:$F$63,5,FALSE))","v":""},"","",""]
[null,{"$f":"IF(A564=\"\",\"\",VLOOKUP(A564,'Fixture List Individual Files'!$B$14:$F$63,2,FALSE))","v":""},null,{"$f":"IF(A564=\"\",\"\",VLOOKUP(A564,'Fixture List Individual Files'!$B$14:$F$63,3,FALSE))","v":""},"",{"$f":"IF(A564=\"\",\"\",VLOOKUP(A564,'Fixture List Individual Files'!$B$14:$F$63,4,FALSE))","v":""},{"$f":"IF(A564=\"\",\"\",VLOOKUP(A564,'Fixture List Individual Files'!$B$14:$F$63,5,FALSE))","v":""},"","",""]
[null,{"$f":"IF(A565=\"\",\"\",VLOOKUP(A565,'Fixture List Individual Files'!$B$14:$F$63,2,FALSE))","v":""},null,{"$f":"IF(A565=\"\",\"\",VLOOKUP(A565,'Fixture List Individual Files'!$B$14:$F$63,3,FALSE))","v":""},"",{"$f":"IF(A565=\"\",\"\",VLOOKUP(A565,'Fixture List Individual Files'!$B$14:$F$63,4,FALSE))","v":""},{"$f":"IF(A565=\"\",\"\",VLOOKUP(A565,'Fixture List Individual Files'!$B$14:$F$63,5,FALSE))","v":""},"","",""]
[null,{"$f":"IF(A566=\"\",\"\",VLOOKUP(A566,'Fixture List Individual Files'!$B$14:$F$63,2,FALSE))","v":""},null,{"$f":"IF(A566=\"\",\"\",VLOOKUP(A566,'Fixture List Individual Files'!$B$14:$F$63,3,FALSE))","v":""},"",{"$f":"IF(A566=\"\",\"\",VLOOKUP(A566,'Fixture List Individual Files'!$B$14:$F$63,4,FALSE))","v":""},{"$f":"IF(A566=\"\",\"\",VLOOKUP(A566,'Fixture List Individual Files'!$B$14:$F$63,5,FALSE))","v":""},"","",""]
[null,{"$f":"IF(A567=\"\",\"\",VLOOKUP(A567,'Fixture List Individual Files'!$B$14:$F$63,2,FALSE))","v":""},null,{"$f":"IF(A567=\"\",\"\",VLOOKUP(A567,'Fixture List Individual Files'!$B$14:$F$63,3,FALSE))","v":""},"",{"$f":"IF(A567=\"\",\"\",VLOOKUP(A567,'Fixture List Individual Files'!$B$14:$F$63,4,FALSE))","v":""},{"$f":"IF(A567=\"\",\"\",VLOOKUP(A567,'Fixture List Individual Files'!$B$14:$F$63,5,FALSE))","v":""},"","",""]
[null,"Totals:",{"$f":"SUM(C532:C567)","v":0},null,{"$f":"SUM(E532:E567)","v":0},{"$f":"SUMIF(F532:F567,\"Yes\",E532:E567)","v":0},null,{"$f":"SUM(H532:H567)","v":{"v":0,"d":"0.000"}},{"$f":"SUM(I532:I567)","v":0},0]
[]
["Area 14",{"$nulls":4},"NLC area factor:",{"$nulls":3},{"$f":"IF(VLOOKUP(A570,'Start Here!'!$N$46:$Q$70,4,FALSE)=0,VLOOKUP(Facility_Type,Admin_Lists!$A$63:$B$66,2,FALSE),VLOOKUP(A570,'Start Here!'!$N$46:$Q$70,4,FALSE))","v":{"$error":"#N/A"}}]
["Type:","Choose from Drop-down",null,null,{"$f":"IFERROR(VLOOKUP(B571,Admin_Lists!$A$9:$B$49,2,FALSE),\"\")","v":0},"W/sq ft",{"$nulls":3},{"$f":"VLOOKUP(A570,'Start Here!'!$N$46:$O$70,2,FALSE)","v":0}]
[null,{"$f":"\"Area Description: \"&'Sq. Ft. Area Individual Files'!D508","v":"Area Description: "},{"$nulls":3},"Sq Ft: ",{"$f":"'Sq. Ft. Area Individual Files'!C509","v":0}]
["Fixture Mark","Fixture\nName","Fixture\nCount","Fixture Watts","Total Watts \n(Fixt Count \nx Fixt Watts)","NLC Controls (Yes/No)","Space type","NLC Controls Savings"]
[{"$nulls":7},"Peak kW Savings","Annual kWh Savings","LC kWh Savings"]
[null,{"$f":"IF(A575=\"\",\"\",VLOOKUP(A575,'Fixture List Individual Files'!$B$14:$F$63,2,FALSE))","v":""},null,{"$f":"IF(A575=\"\",\"\",VLOOKUP(A575,'Fixture List Individual Files'!$B$14:$F$63,3,FALSE))","v":""},{"$f":"IF(D575=\"\",\"\",C575*D575)","v":""},{"$f":"IF(A575=\"\",\"\",VLOOKUP(A575,'Fixture List Individual Files'!$B$14:$F$63,4,FALSE))","v":""},{"$f":"IF(A575=\"\",\"\",VLOOKUP(A575,'Fixture List Individual Files'!$B$14:$F$63,5,FALSE))","v":""},{"$f":"IF(AND(F575=\"Yes\",Facility_Type=\"Commercial\"),(SFE_Commercial-SFBASE_Commercial)*E575/1000*$J$571,IF(AND(F575=\"Yes\",Facility_Type=\"Industrial\",G575=\"Non-High Bay\"),(SFE_Industrial-SFBASE_Industrial)*E575/1000*$J$571,IF(AND(F575=\"Yes\",Facility_Type=\"Schools & Government\",G575=\"Non-High Bay\"),((SFE_SG-SFBASE_SG)*E575/1000*$J$571),\"\")))","v":""},{"$f":"IF(AND(F575=\"Yes\",Facility_Type=\"Commercial\"),(SFE_Commercial-SFBASE_Commercial)*E575/1000*$J$570,IF(AND(F575=\"Yes\",Facility_Type=\"Industrial\",G575=\"Non-High Bay\"),(SFE_Industrial-SFBASE_Industrial)*E575/1000*$J$570,IF(AND(F575=\"Yes\",Facility_Type=\"Schools & Government\",G575=\"Non-High Bay\"),((SFE_SG-SFBASE_SG)*E575/1000*$J$570),\"\")))","v":""},{"$f":"IFERROR(I575*EUL_for_NLC,\"\")","v":""}]
[null,{"$f":"IF(A576=\"\",\"\",VLOOKUP(A576,'Fixture List Individual Files'!$B$14:$F$63,2,FALSE))","v":""},null,{"$f":"IF(A576=\"\",\"\",VLOOKUP(A576,'Fixture List Individual Files'!$B$14:$F$63,3,FALSE))","v":""},{"$f":"IF(D576=\"\",\"\",C576*D576)","v":""},{"$f":"IF(A576=\"\",\"\",VLOOKUP(A576,'Fixture List Individual Files'!$B$14:$F$63,4,FALSE))","v":""},{"$f":"IF(A576=\"\",\"\",VLOOKUP(A576,'Fixture List Individual Files'!$B$14:$F$63,5,FALSE))","v":""},"","",""]
[null,{"$f":"IF(A577=\"\",\"\",VLOOKUP(A577,'Fixture List Individual Files'!$B$14:$F$63,2,FALSE))","v":""},null,{"$f":"IF(A577=\"\",\"\",VLOOKUP(A577,'Fixture List Individual Files'!$B$14:$F$63,3,FALSE))","v":""},"",{"$f":"IF(A577=\"\",\"\",VLOOKUP(A577,'Fixture List Individual Files'!$B$14:$F$63,4,FALSE))","v":""},{"$f":"IF(A577=\"\",\"\",VLOOKUP(A577,'Fixture List Individual Files'!$B$14:$F$63,5,FALSE))","v":""},"","",""]
[null,{"$f":"IF(A578=\"\",\"\",VLOOKUP(A578,'Fixture List Individual Files'!$B$14:$F$63,2,FALSE))","v":""},null,{"$f":"IF(A578=\"\",\"\",VLOOKUP(A578,'Fixture List Individual Files'!$B$14:$F$63,3,FALSE))","v":""},"",{"$f":"IF(A578=\"\",\"\",VLOOKUP(A578,'Fixture List Individual Files'!$B$14:$F$63,4,FALSE))","v":""},{"$f":"IF(A578=\"\",\"\",VLOOKUP(A578,'Fixture List Individual Files'!$B$14:$F$63,5,FALSE))","v":""},"","",""]
[null,{"$f":"IF(A579=\"\",\"\",VLOOKUP(A579,'Fixture List Individual Files'!$B$14:$F$63,2,FALSE))","v":""},null,{"$f":"IF(A579=\"\",\"\",VLOOKUP(A579,'Fixture List Individual Files'!$B$14:$F$63,3,FALSE))","v":""},"",{"$f":"IF(A579=\"\",\"\",VLOOKUP(A579,'Fixture List Individual Files'!$B$14:$F$63,4,FALSE))","v":""},{"$f":"IF(A579=\"\",\"\",VLOOKUP(A579,'Fixture List Individual Files'!$B$14:$F$63,5,FALSE))","v":""},"","",""]
[null,{"$f":"IF(A580=\"\",\"\",VLOOKUP(A580,'Fixture List Individual Files'!$B$14:$F$63,2,FALSE))","v":""},null,{"$f":"IF(A580=\"\",\"\",VLOOKUP(A580,'Fixture List Individual Files'!$B$14:$F$63,3,FALSE))","v":""},"",{"$f":"IF(A580=\"\",\"\",VLOOKUP(A580,'Fixture List Individual Files'!$B$14:$F$63,4,FALSE))","v":""},{"$f":"IF(A580=\"\",\"\",VLOOKUP(A580,'Fixture List Individual Files'!$B$14:$F$63,5,FALSE))","v":""},"","",""]
[null,{"$f":"IF(A581=\"\",\"\",VLOOKUP(A581,'Fixture List Individual Files'!$B$14:$F$63,2,FALSE))","v":""},null,{"$f":"IF(A581=\"\",\"\",VLOOKUP(A581,'Fixture List Individual Files'!$B$14:$F$63,3,FALSE))","v":""},"",{"$f":"IF(A581=\"\",\"\",VLOOKUP(A581,'Fixture List Individual Files'!$B$14:$F$63,4,FALSE))","v":""},{"$f":"IF(A581=\"\",\"\",VLOOKUP(A581,'Fixture List Individual Files'!$B$14:$F$63,5,FALSE))","v":""},"","",""]
[null,{"$f":"IF(A582=\"\",\"\",VLOOKUP(A582,'Fixture List Individual Files'!$B$14:$F$63,2,FALSE))","v":""},null,{"$f":"IF(A582=\"\",\"\",VLOOKUP(A582,'Fixture List Individual Files'!$B$14:$F$63,3,FALSE))","v":""},"",{"$f":"IF(A582=\"\",\"\",VLOOKUP(A582,'Fixture List Individual Files'!$B$14:$F$63,4,FALSE))","v":""},{"$f":"IF(A582=\"\",\"\",VLOOKUP(A582,'Fixture List Individual Files'!$B$14:$F$63,5,FALSE))","v":""},"","",""]
[null,{"$f":"IF(A583=\"\",\"\",VLOOKUP(A583,'Fixture List Individual Files'!$B$14:$F$63,2,FALSE))","v":""},null,{"$f":"IF(A583=\"\",\"\",VLOOKUP(A583,'Fixture List Individual Files'!$B$14:$F$63,3,FALSE))","v":""},"",{"$f":"IF(A583=\"\",\"\",VLOOKUP(A583,'Fixture List Individual Files'!$B$14:$F$63,4,FALSE))","v":""},{"$f":"IF(A583=\"\",\"\",VLOOKUP(A583,'Fixture List Individual Files'!$B$14:$F$63,5,FALSE))","v":""},"","",""]
[null,{"$f":"IF(A584=\"\",\"\",VLOOKUP(A584,'Fixture List Individual Files'!$B$14:$F$63,2,FALSE))","v":""},null,{"$f":"IF(A584=\"\",\"\",VLOOKUP(A584,'Fixture List Individual Files'!$B$14:$F$63,3,FALSE))","v":""},"",{"$f":"IF(A584=\"\",\"\",VLOOKUP(A584,'Fixture List Individual Files'!$B$14:$F$63,4,FALSE))","v":""},{"$f":"IF(A584=\"\",\"\",VLOOKUP(A584,'Fixture List Individual Files'!$B$14:$F$63,5,FALSE))","v":""},"","",""]
[null,{"$f":"IF(A585=\"\",\"\",VLOOKUP(A585,'Fixture List Individual Files'!$B$14:$F$63,2,FALSE))","v":""},null,{"$f":"IF(A585=\"\",\"\",VLOOKUP(A585,'Fixture List Individual Files'!$B$14:$F$63,3,FALSE))","v":""},"",{"$f":"IF(A585=\"\",\"\",VLOOKUP(A585,'Fixture List Individual Files'!$B$14:$F$63,4,FALSE))","v":""},{"$f":"IF(A585=\"\",\"\",VLOOKUP(A585,'Fixture List Individual Files'!$B$14:$F$63,5,FALSE))","v":""},"","",""]
[null,{"$f":"IF(A586=\"\",\"\",VLOOKUP(A586,'Fixture List Individual Files'!$B$14:$F$63,2,FALSE))","v":""},null,{"$f":"IF(A586=\"\",\"\",VLOOKUP(A586,'Fixture List Individual Files'!$B$14:$F$63,3,FALSE))","v":""},"",{"$f":"IF(A586=\"\",\"\",VLOOKUP(A586,'Fixture List Individual Files'!$B$14:$F$63,4,FALSE))","v":""},{"$f":"IF(A586=\"\",\"\",VLOOKUP(A586,'Fixture List Individual Files'!$B$14:$F$63,5,FALSE))","v":""},"","",""]
[null,{"$f":"IF(A587=\"\",\"\",VLOOKUP(A587,'Fixture List Individual Files'!$B$14:$F$63,2,FALSE))","v":""},null,{"$f":"IF(A587=\"\",\"\",VLOOKUP(A587,'Fixture List Individual Files'!$B$14:$F$63,3,FALSE))","v":""},"",{"$f":"IF(A587=\"\",\"\",VLOOKUP(A587,'Fixture List Individual Files'!$B$14:$F$63,4,FALSE))","v":""},{"$f":"IF(A587=\"\",\"\",VLOOKUP(A587,'Fixture List Individual Files'!$B$14:$F$63,5,FALSE))","v":""},"","",""]
[null,{"$f":"IF(A588=\"\",\"\",VLOOKUP(A588,'Fixture List Individual Files'!$B$14:$F$63,2,FALSE))","v":""},null,{"$f":"IF(A588=\"\",\"\",VLOOKUP(A588,'Fixture List Individual Files'!$B$14:$F$63,3,FALSE))","v":""},"",{"$f":"IF(A588=\"\",\"\",VLOOKUP(A588,'Fixture List Individual Files'!$B$14:$F$63,4,FALSE))","v":""},{"$f":"IF(A588=\"\",\"\",VLOOKUP(A588,'Fixture List Individual Files'!$B$14:$F$63,5,FALSE))","v":""},"","",""]
[null,{"$f":"IF(A589=\"\",\"\",VLOOKUP(A589,'Fixture List Individual Files'!$B$14:$F$63,2,FALSE))","v":""},null,{"$f":"IF(A589=\"\",\"\",VLOOKUP(A589,'Fixture List Individual Files'!$B$14:$F$63,3,FALSE))","v":""},"",{"$f":"IF(A589=\"\",\"\",VLOOKUP(A589,'Fixture List Individual Files'!$B$14:$F$63,4,FALSE))","v":""},{"$f":"IF(A589=\"\",\"\",VLOOKUP(A589,'Fixture List Individual Files'!$B$14:$F$63,5,FALSE))","v":""},"","",""]
[null,{"$f":"IF(A590=\"\",\"\",VLOOKUP(A590,'Fixture List Individual Files'!$B$14:$F$63,2,FALSE))","v":""},null,{"$f":"IF(A590=\"\",\"\",VLOOKUP(A590,'Fixture List Individual Files'!$B$14:$F$63,3,FALSE))","v":""},"",{"$f":"IF(A590=\"\",\"\",VLOOKUP(A590,'Fixture List Individual Files'!$B$14:$F$63,4,FALSE))","v":""},{"$f":"IF(A590=\"\",\"\",VLOOKUP(A590,'Fixture List Individual Files'!$B$14:$F$63,5,FALSE))","v":""},"","",""]
[null,{"$f":"IF(A591=\"\",\"\",VLOOKUP(A591,'Fixture List Individual Files'!$B$14:$F$63,2,FALSE))","v":""},null,{"$f":"IF(A591=\"\",\"\",VLOOKUP(A591,'Fixture List Individual Files'!$B$14:$F$63,3,FALSE))","v":""},"",{"$f":"IF(A591=\"\",\"\",VLOOKUP(A591,'Fixture List Individual Files'!$B$14:$F$63,4,FALSE))","v":""},{"$f":"IF(A591=\"\",\"\",VLOOKUP(A591,'Fixture List Individual Files'!$B$14:$F$63,5,FALSE))","v":""},"","",""]
[null,{"$f":"IF(A592=\"\",\"\",VLOOKUP(A592,'Fixture List Individual Files'!$B$14:$F$63,2,FALSE))","v":""},null,{"$f":"IF(A592=\"\",\"\",VLOOKUP(A592,'Fixture List Individual Files'!$B$14:$F$63,3,FALSE))","v":""},"",{"$f":"IF(A592=\"\",\"\",VLOOKUP(A592,'Fixture List Individual Files'!$B$14:$F$63,4,FALSE))","v":""},{"$f":"IF(A592=\"\",\"\",VLOOKUP(A592,'Fixture List Individual Files'!$B$14:$F$63,5,FALSE))","v":""},"","",""]
[null,{"$f":"IF(A593=\"\",\"\",VLOOKUP(A593,'Fixture List Individual Files'!$B$14:$F$63,2,FALSE))","v":""},null,{"$f":"IF(A593=\"\",\"\",VLOOKUP(A593,'Fixture List Individual Files'!$B$14:$F$63,3,FALSE))","v":""},"",{"$f":"IF(A593=\"\",\"\",VLOOKUP(A593,'Fixture List Individual Files'!$B$14:$F$63,4,FALSE))","v":""},{"$f":"IF(A593=\"\",\"\",VLOOKUP(A593,'Fixture List Individual Files'!$B$14:$F$63,5,FALSE))","v":""},"","",""]
[null,{"$f":"IF(A594=\"\",\"\",VLOOKUP(A594,'Fixture List Individual Files'!$B$14:$F$63,2,FALSE))","v":""},null,{"$f":"IF(A594=\"\",\"\",VLOOKUP(A594,'Fixture List Individual Files'!$B$14:$F$63,3,FALSE))","v":""},"",{"$f":"IF(A594=\"\",\"\",VLOOKUP(A594,'Fixture List Individual Files'!$B$14:$F$63,4,FALSE))","v":""},{"$f":"IF(A594=\"\",\"\",VLOOKUP(A594,'Fixture List Individual Files'!$B$14:$F$63,5,FALSE))","v":""},"","",""]
[null,{"$f":"IF(A595=\"\",\"\",VLOOKUP(A595,'Fixture List Individual Files'!$B$14:$F$63,2,FALSE))","v":""},null,{"$f":"IF(A595=\"\",\"\",VLOOKUP(A595,'Fixture List Individual Files'!$B$14:$F$63,3,FALSE))","v":""},"",{"$f":"IF(A595=\"\",\"\",VLOOKUP(A595,'Fixture List Individual Files'!$B$14:$F$63,4,FALSE))","v":""},{"$f":"IF(A595=\"\",\"\",VLOOKUP(A595,'Fixture List Individual Files'!$B$14:$F$63,5,FALSE))","v":""},"","",""]
[null,{"$f":"IF(A596=\"\",\"\",VLOOKUP(A596,'Fixture List Individual Files'!$B$14:$F$63,2,FALSE))","v":""},null,{"$f":"IF(A596=\"\",\"\",VLOOKUP(A596,'Fixture List Individual Files'!$B$14:$F$63,3,FALSE))","v":""},"",{"$f":"IF(A596=\"\",\"\",VLOOKUP(A596,'Fixture List Individual Files'!$B$14:$F$63,4,FALSE))","v":""},{"$f":"IF(A596=\"\",\"\",VLOOKUP(A596,'Fixture List Individual Files'!$B$14:$F$63,5,FALSE))","v":""},"","",""]
[null,{"$f":"IF(A597=\"\",\"\",VLOOKUP(A597,'Fixture List Individual Files'!$B$14:$F$63,2,FALSE))","v":""},null,{"$f":"IF(A597=\"\",\"\",VLOOKUP(A597,'Fixture List Individual Files'!$B$14:$F$63,3,FALSE))","v":""},"",{"$f":"IF(A597=\"\",\"\",VLOOKUP(A597,'Fixture List Individual Files'!$B$14:$F$63,4,FALSE))","v":""},{"$f":"IF(A597=\"\",\"\",VLOOKUP(A597,'Fixture List Individual Files'!$B$14:$F$63,5,FALSE))","v":""},"","",""]
[null,{"$f":"IF(A598=\"\",\"\",VLOOKUP(A598,'Fixture List Individual Files'!$B$14:$F$63,2,FALSE))","v":""},null,{"$f":"IF(A598=\"\",\"\",VLOOKUP(A598,'Fixture List Individual Files'!$B$14:$F$63,3,FALSE))","v":""},"",{"$f":"IF(A598=\"\",\"\",VLOOKUP(A598,'Fixture List Individual Files'!$B$14:$F$63,4,FALSE))","v":""},{"$f":"IF(A598=\"\",\"\",VLOOKUP(A598,'Fixture List Individual Files'!$B$14:$F$63,5,FALSE))","v":""},"","",""]
[null,{"$f":"IF(A599=\"\",\"\",VLOOKUP(A599,'Fixture List Individual Files'!$B$14:$F$63,2,FALSE))","v":""},null,{"$f":"IF(A599=\"\",\"\",VLOOKUP(A599,'Fixture List Individual Files'!$B$14:$F$63,3,FALSE))","v":""},"",{"$f":"IF(A599=\"\",\"\",VLOOKUP(A599,'Fixture List Individual Files'!$B$14:$F$63,4,FALSE))","v":""},{"$f":"IF(A599=\"\",\"\",VLOOKUP(A599,'Fixture List Individual Files'!$B$14:$F$63,5,FALSE))","v":""},"","",""]
[null,{"$f":"IF(A600=\"\",\"\",VLOOKUP(A600,'Fixture List Individual Files'!$B$14:$F$63,2,FALSE))","v":""},null,{"$f":"IF(A600=\"\",\"\",VLOOKUP(A600,'Fixture List Individual Files'!$B$14:$F$63,3,FALSE))","v":""},"",{"$f":"IF(A600=\"\",\"\",VLOOKUP(A600,'Fixture List Individual Files'!$B$14:$F$63,4,FALSE))","v":""},{"$f":"IF(A600=\"\",\"\",VLOOKUP(A600,'Fixture List Individual Files'!$B$14:$F$63,5,FALSE))","v":""},"","",""]
[null,{"$f":"IF(A601=\"\",\"\",VLOOKUP(A601,'Fixture List Individual Files'!$B$14:$F$63,2,FALSE))","v":""},null,{"$f":"IF(A601=\"\",\"\",VLOOKUP(A601,'Fixture List Individual Files'!$B$14:$F$63,3,FALSE))","v":""},"",{"$f":"IF(A601=\"\",\"\",VLOOKUP(A601,'Fixture List Individual Files'!$B$14:$F$63,4,FALSE))","v":""},{"$f":"IF(A601=\"\",\"\",VLOOKUP(A601,'Fixture List Individual Files'!$B$14:$F$63,5,FALSE))","v":""},"","",""]
[null,{"$f":"IF(A602=\"\",\"\",VLOOKUP(A602,'Fixture List Individual Files'!$B$14:$F$63,2,FALSE))","v":""},null,{"$f":"IF(A602=\"\",\"\",VLOOKUP(A602,'Fixture List Individual Files'!$B$14:$F$63,3,FALSE))","v":""},"",{"$f":"IF(A602=\"\",\"\",VLOOKUP(A602,'Fixture List Individual Files'!$B$14:$F$63,4,FALSE))","v":""},{"$f":"IF(A602=\"\",\"\",VLOOKUP(A602,'Fixture List Individual Files'!$B$14:$F$63,5,FALSE))","v":""},"","",""]
[null,{"$f":"IF(A603=\"\",\"\",VLOOKUP(A603,'Fixture List Individual Files'!$B$14:$F$63,2,FALSE))","v":""},null,{"$f":"IF(A603=\"\",\"\",VLOOKUP(A603,'Fixture List Individual Files'!$B$14:$F$63,3,FALSE))","v":""},"",{"$f":"IF(A603=\"\",\"\",VLOOKUP(A603,'Fixture List Individual Files'!$B$14:$F$63,4,FALSE))","v":""},{"$f":"IF(A603=\"\",\"\",VLOOKUP(A603,'Fixture List Individual Files'!$B$14:$F$63,5,FALSE))","v":""},"","",""]
[null,{"$f":"IF(A604=\"\",\"\",VLOOKUP(A604,'Fixture List Individual Files'!$B$14:$F$63,2,FALSE))","v":""},null,{"$f":"IF(A604=\"\",\"\",VLOOKUP(A604,'Fixture List Individual Files'!$B$14:$F$63,3,FALSE))","v":""},"",{"$f":"IF(A604=\"\",\"\",VLOOKUP(A604,'Fixture List Individual Files'!$B$14:$F$63,4,FALSE))","v":""},{"$f":"IF(A604=\"\",\"\",VLOOKUP(A604,'Fixture List Individual Files'!$B$14:$F$63,5,FALSE))","v":""},"","",""]
[null,{"$f":"IF(A605=\"\",\"\",VLOOKUP(A605,'Fixture List Individual Files'!$B$14:$F$63,2,FALSE))","v":""},null,{"$f":"IF(A605=\"\",\"\",VLOOKUP(A605,'Fixture List Individual Files'!$B$14:$F$63,3,FALSE))","v":""},"",{"$f":"IF(A605=\"\",\"\",VLOOKUP(A605,'Fixture List Individual Files'!$B$14:$F$63,4,FALSE))","v":""},{"$f":"IF(A605=\"\",\"\",VLOOKUP(A605,'Fixture List Individual Files'!$B$14:$F$63,5,FALSE))","v":""},"","",""]
[null,{"$f":"IF(A606=\"\",\"\",VLOOKUP(A606,'Fixture List Individual Files'!$B$14:$F$63,2,FALSE))","v":""},null,{"$f":"IF(A606=\"\",\"\",VLOOKUP(A606,'Fixture List Individual Files'!$B$14:$F$63,3,FALSE))","v":""},"",{"$f":"IF(A606=\"\",\"\",VLOOKUP(A606,'Fixture List Individual Files'!$B$14:$F$63,4,FALSE))","v":""},{"$f":"IF(A606=\"\",\"\",VLOOKUP(A606,'Fixture List Individual Files'!$B$14:$F$63,5,FALSE))","v":""},"","",""]
[null,{"$f":"IF(A607=\"\",\"\",VLOOKUP(A607,'Fixture List Individual Files'!$B$14:$F$63,2,FALSE))","v":""},null,{"$f":"IF(A607=\"\",\"\",VLOOKUP(A607,'Fixture List Individual Files'!$B$14:$F$63,3,FALSE))","v":""},"",{"$f":"IF(A607=\"\",\"\",VLOOKUP(A607,'Fixture List Individual Files'!$B$14:$F$63,4,FALSE))","v":""},{"$f":"IF(A607=\"\",\"\",VLOOKUP(A607,'Fixture List Individual Files'!$B$14:$F$63,5,FALSE))","v":""},"","",""]
[null,{"$f":"IF(A608=\"\",\"\",VLOOKUP(A608,'Fixture List Individual Files'!$B$14:$F$63,2,FALSE))","v":""},null,{"$f":"IF(A608=\"\",\"\",VLOOKUP(A608,'Fixture List Individual Files'!$B$14:$F$63,3,FALSE))","v":""},"",{"$f":"IF(A608=\"\",\"\",VLOOKUP(A608,'Fixture List Individual Files'!$B$14:$F$63,4,FALSE))","v":""},{"$f":"IF(A608=\"\",\"\",VLOOKUP(A608,'Fixture List Individual Files'!$B$14:$F$63,5,FALSE))","v":""},"","",""]
[null,{"$f":"IF(A609=\"\",\"\",VLOOKUP(A609,'Fixture List Individual Files'!$B$14:$F$63,2,FALSE))","v":""},null,{"$f":"IF(A609=\"\",\"\",VLOOKUP(A609,'Fixture List Individual Files'!$B$14:$F$63,3,FALSE))","v":""},"",{"$f":"IF(A609=\"\",\"\",VLOOKUP(A609,'Fixture List Individual Files'!$B$14:$F$63,4,FALSE))","v":""},{"$f":"IF(A609=\"\",\"\",VLOOKUP(A609,'Fixture List Individual Files'!$B$14:$F$63,5,FALSE))","v":""},"","",""]
[null,{"$f":"IF(A610=\"\",\"\",VLOOKUP(A610,'Fixture List Individual Files'!$B$14:$F$63,2,FALSE))","v":""},null,{"$f":"IF(A610=\"\",\"\",VLOOKUP(A610,'Fixture List Individual Files'!$B$14:$F$63,3,FALSE))","v":""},"",{"$f":"IF(A610=\"\",\"\",VLOOKUP(A610,'Fixture List Individual Files'!$B$14:$F$63,4,FALSE))","v":""},{"$f":"IF(A610=\"\",\"\",VLOOKUP(A610,'Fixture List Individual Files'!$B$14:$F$63,5,FALSE))","v":""},"","",""]
[null,"Totals:",{"$f":"SUM(C575:C610)","v":0},null,{"$f":"SUM(E575:E610)","v":0},{"$f":"SUMIF(F575:F610,\"Yes\",E575:E610)","v":0},null,{"$f":"SUM(H575:H610)","v":{"v":0,"d":"0.000"}},{"$f":"SUM(I575:I610)","v":0},0]
[]
["Area 15",{"$nulls":4},"NLC area factor:",{"$nulls":3},{"$f":"IF(VLOOKUP(A613,'Start Here!'!$N$46:$Q$70,4,FALSE)=0,VLOOKUP(Facility_Type,Admin_Lists!$A$63:$B$66,2,FALSE),VLOOKUP(A613,'Start Here!'!$N$46:$Q$70,4,FALSE))","v":{"$error":"#N/A"}}]
["Type:","Choose from Drop-down",null,null,{"$f":"IFERROR(VLOOKUP(B614,Admin_Lists!$A$9:$B$49,2,FALSE),\"\")","v":0},"W/sq ft",{"$nulls":3},{"$f":"VLOOKUP(A613,'Start Here!'!$N$46:$O$70,2,FALSE)","v":0}]
[null,{"$f":"\"Area Description: \"&'Sq. Ft. Area Individual Files'!D512","v":"Area Description: "},{"$nulls":3},"Sq Ft: ",{"$f":"'Sq. Ft. Area Individual Files'!C513","v":0}]
["Fixture Mark","Fixture\nName","Fixture\nCount","Fixture Watts","Total Watts \n(Fixt Count \nx Fixt Watts)","NLC Controls (Yes/No)","Space type","NLC Controls Savings"]
[{"$nulls":7},"Peak kW Savings","Annual kWh Savings","LC kWh Savings"]
[null,{"$f":"IF(A618=\"\",\"\",VLOOKUP(A618,'Fixture List Individual Files'!$B$14:$F$63,2,FALSE))","v":""},null,{"$f":"IF(A618=\"\",\"\",VLOOKUP(A618,'Fixture List Individual Files'!$B$14:$F$63,3,FALSE))","v":""},{"$f":"IF(D618=\"\",\"\",C618*D618)","v":""},{"$f":"IF(A618=\"\",\"\",VLOOKUP(A618,'Fixture List Individual Files'!$B$14:$F$63,4,FALSE))","v":""},{"$f":"IF(A618=\"\",\"\",VLOOKUP(A618,'Fixture List Individual Files'!$B$14:$F$63,5,FALSE))","v":""},{"$f":"IF(AND(F618=\"Yes\",Facility_Type=\"Commercial\"),(SFE_Commercial-SFBASE_Commercial)*E618/1000*$J$614,IF(AND(F618=\"Yes\",Facility_Type=\"Industrial\",G618=\"Non-High Bay\"),(SFE_Industrial-SFBASE_Industrial)*E618/1000*$J$614,IF(AND(F618=\"Yes\",Facility_Type=\"Schools & Government\",G618=\"Non-High Bay\"),((SFE_SG-SFBASE_SG)*E618/1000*$J$614),\"\")))","v":""},{"$f":"IF(AND(F618=\"Yes\",Facility_Type=\"Commercial\"),(SFE_Commercial-SFBASE_Commercial)*E618/1000*$J$613,IF(AND(F618=\"Yes\",Facility_Type=\"Industrial\",G618=\"Non-High Bay\"),(SFE_Industrial-SFBASE_Industrial)*E618/1000*$J$613,IF(AND(F618=\"Yes\",Facility_Type=\"Schools & Government\",G618=\"Non-High Bay\"),((SFE_SG-SFBASE_SG)*E618/1000*$J$613),\"\")))","v":""},{"$f":"IFERROR(I618*EUL_for_NLC,\"\")","v":""}]
[null,{"$f":"IF(A619=\"\",\"\",VLOOKUP(A619,'Fixture List Individual Files'!$B$14:$F$63,2,FALSE))","v":""},null,{"$f":"IF(A619=\"\",\"\",VLOOKUP(A619,'Fixture List Individual Files'!$B$14:$F$63,3,FALSE))","v":""},{"$f":"IF(D619=\"\",\"\",C619*D619)","v":""},{"$f":"IF(A619=\"\",\"\",VLOOKUP(A619,'Fixture List Individual Files'!$B$14:$F$63,4,FALSE))","v":""},{"$f":"IF(A619=\"\",\"\",VLOOKUP(A619,'Fixture List Individual Files'!$B$14:$F$63,5,FALSE))","v":""},"","",""]
[null,{"$f":"IF(A620=\"\",\"\",VLOOKUP(A620,'Fixture List Individual Files'!$B$14:$F$63,2,FALSE))","v":""},null,{"$f":"IF(A620=\"\",\"\",VLOOKUP(A620,'Fixture List Individual Files'!$B$14:$F$63,3,FALSE))","v":""},"",{"$f":"IF(A620=\"\",\"\",VLOOKUP(A620,'Fixture List Individual Files'!$B$14:$F$63,4,FALSE))","v":""},{"$f":"IF(A620=\"\",\"\",VLOOKUP(A620,'Fixture List Individual Files'!$B$14:$F$63,5,FALSE))","v":""},"","",""]
[null,{"$f":"IF(A621=\"\",\"\",VLOOKUP(A621,'Fixture List Individual Files'!$B$14:$F$63,2,FALSE))","v":""},null,{"$f":"IF(A621=\"\",\"\",VLOOKUP(A621,'Fixture List Individual Files'!$B$14:$F$63,3,FALSE))","v":""},"",{"$f":"IF(A621=\"\",\"\",VLOOKUP(A621,'Fixture List Individual Files'!$B$14:$F$63,4,FALSE))","v":""},{"$f":"IF(A621=\"\",\"\",VLOOKUP(A621,'Fixture List Individual Files'!$B$14:$F$63,5,FALSE))","v":""},"","",""]
[null,{"$f":"IF(A622=\"\",\"\",VLOOKUP(A622,'Fixture List Individual Files'!$B$14:$F$63,2,FALSE))","v":""},null,{"$f":"IF(A622=\"\",\"\",VLOOKUP(A622,'Fixture List Individual Files'!$B$14:$F$63,3,FALSE))","v":""},"",{"$f":"IF(A622=\"\",\"\",VLOOKUP(A622,'Fixture List Individual Files'!$B$14:$F$63,4,FALSE))","v":""},{"$f":"IF(A622=\"\",\"\",VLOOKUP(A622,'Fixture List Individual Files'!$B$14:$F$63,5,FALSE))","v":""},"","",""]
[null,{"$f":"IF(A623=\"\",\"\",VLOOKUP(A623,'Fixture List Individual Files'!$B$14:$F$63,2,FALSE))","v":""},null,{"$f":"IF(A623=\"\",\"\",VLOOKUP(A623,'Fixture List Individual Files'!$B$14:$F$63,3,FALSE))","v":""},"",{"$f":"IF(A623=\"\",\"\",VLOOKUP(A623,'Fixture List Individual Files'!$B$14:$F$63,4,FALSE))","v":""},{"$f":"IF(A623=\"\",\"\",VLOOKUP(A623,'Fixture List Individual Files'!$B$14:$F$63,5,FALSE))","v":""},"","",""]
[null,{"$f":"IF(A624=\"\",\"\",VLOOKUP(A624,'Fixture List Individual Files'!$B$14:$F$63,2,FALSE))","v":""},null,{"$f":"IF(A624=\"\",\"\",VLOOKUP(A624,'Fixture List Individual Files'!$B$14:$F$63,3,FALSE))","v":""},"",{"$f":"IF(A624=\"\",\"\",VLOOKUP(A624,'Fixture List Individual Files'!$B$14:$F$63,4,FALSE))","v":""},{"$f":"IF(A624=\"\",\"\",VLOOKUP(A624,'Fixture List Individual Files'!$B$14:$F$63,5,FALSE))","v":""},"","",""]
[null,{"$f":"IF(A625=\"\",\"\",VLOOKUP(A625,'Fixture List Individual Files'!$B$14:$F$63,2,FALSE))","v":""},null,{"$f":"IF(A625=\"\",\"\",VLOOKUP(A625,'Fixture List Individual Files'!$B$14:$F$63,3,FALSE))","v":""},"",{"$f":"IF(A625=\"\",\"\",VLOOKUP(A625,'Fixture List Individual Files'!$B$14:$F$63,4,FALSE))","v":""},{"$f":"IF(A625=\"\",\"\",VLOOKUP(A625,'Fixture List Individual Files'!$B$14:$F$63,5,FALSE))","v":""},"","",""]
[null,{"$f":"IF(A626=\"\",\"\",VLOOKUP(A626,'Fixture List Individual Files'!$B$14:$F$63,2,FALSE))","v":""},null,{"$f":"IF(A626=\"\",\"\",VLOOKUP(A626,'Fixture List Individual Files'!$B$14:$F$63,3,FALSE))","v":""},"",{"$f":"IF(A626=\"\",\"\",VLOOKUP(A626,'Fixture List Individual Files'!$B$14:$F$63,4,FALSE))","v":""},{"$f":"IF(A626=\"\",\"\",VLOOKUP(A626,'Fixture List Individual Files'!$B$14:$F$63,5,FALSE))","v":""},"","",""]
[null,{"$f":"IF(A627=\"\",\"\",VLOOKUP(A627,'Fixture List Individual Files'!$B$14:$F$63,2,FALSE))","v":""},null,{"$f":"IF(A627=\"\",\"\",VLOOKUP(A627,'Fixture List Individual Files'!$B$14:$F$63,3,FALSE))","v":""},"",{"$f":"IF(A627=\"\",\"\",VLOOKUP(A627,'Fixture List Individual Files'!$B$14:$F$63,4,FALSE))","v":""},{"$f":"IF(A627=\"\",\"\",VLOOKUP(A627,'Fixture List Individual Files'!$B$14:$F$63,5,FALSE))","v":""},"","",""]
[null,{"$f":"IF(A628=\"\",\"\",VLOOKUP(A628,'Fixture List Individual Files'!$B$14:$F$63,2,FALSE))","v":""},null,{"$f":"IF(A628=\"\",\"\",VLOOKUP(A628,'Fixture List Individual Files'!$B$14:$F$63,3,FALSE))","v":""},"",{"$f":"IF(A628=\"\",\"\",VLOOKUP(A628,'Fixture List Individual Files'!$B$14:$F$63,4,FALSE))","v":""},{"$f":"IF(A628=\"\",\"\",VLOOKUP(A628,'Fixture List Individual Files'!$B$14:$F$63,5,FALSE))","v":""},"","",""]
[null,{"$f":"IF(A629=\"\",\"\",VLOOKUP(A629,'Fixture List Individual Files'!$B$14:$F$63,2,FALSE))","v":""},null,{"$f":"IF(A629=\"\",\"\",VLOOKUP(A629,'Fixture List Individual Files'!$B$14:$F$63,3,FALSE))","v":""},"",{"$f":"IF(A629=\"\",\"\",VLOOKUP(A629,'Fixture List Individual Files'!$B$14:$F$63,4,FALSE))","v":""},{"$f":"IF(A629=\"\",\"\",VLOOKUP(A629,'Fixture List Individual Files'!$B$14:$F$63,5,FALSE))","v":""},"","",""]
[null,{"$f":"IF(A630=\"\",\"\",VLOOKUP(A630,'Fixture List Individual Files'!$B$14:$F$63,2,FALSE))","v":""},null,{"$f":"IF(A630=\"\",\"\",VLOOKUP(A630,'Fixture List Individual Files'!$B$14:$F$63,3,FALSE))","v":""},"",{"$f":"IF(A630=\"\",\"\",VLOOKUP(A630,'Fixture List Individual Files'!$B$14:$F$63,4,FALSE))","v":""},{"$f":"IF(A630=\"\",\"\",VLOOKUP(A630,'Fixture List Individual Files'!$B$14:$F$63,5,FALSE))","v":""},"","",""]
[null,{"$f":"IF(A631=\"\",\"\",VLOOKUP(A631,'Fixture List Individual Files'!$B$14:$F$63,2,FALSE))","v":""},null,{"$f":"IF(A631=\"\",\"\",VLOOKUP(A631,'Fixture List Individual Files'!$B$14:$F$63,3,FALSE))","v":""},"",{"$f":"IF(A631=\"\",\"\",VLOOKUP(A631,'Fixture List Individual Files'!$B$14:$F$63,4,FALSE))","v":""},{"$f":"IF(A631=\"\",\"\",VLOOKUP(A631,'Fixture List Individual Files'!$B$14:$F$63,5,FALSE))","v":""},"","",""]
[null,{"$f":"IF(A632=\"\",\"\",VLOOKUP(A632,'Fixture List Individual Files'!$B$14:$F$63,2,FALSE))","v":""},null,{"$f":"IF(A632=\"\",\"\",VLOOKUP(A632,'Fixture List Individual Files'!$B$14:$F$63,3,FALSE))","v":""},"",{"$f":"IF(A632=\"\",\"\",VLOOKUP(A632,'Fixture List Individual Files'!$B$14:$F$63,4,FALSE))","v":""},{"$f":"IF(A632=\"\",\"\",VLOOKUP(A632,'Fixture List Individual Files'!$B$14:$F$63,5,FALSE))","v":""},"","",""]
[null,{"$f":"IF(A633=\"\",\"\",VLOOKUP(A633,'Fixture List Individual Files'!$B$14:$F$63,2,FALSE))","v":""},null,{"$f":"IF(A633=\"\",\"\",VLOOKUP(A633,'Fixture List Individual Files'!$B$14:$F$63,3,FALSE))","v":""},"",{"$f":"IF(A633=\"\",\"\",VLOOKUP(A633,'Fixture List Individual Files'!$B$14:$F$63,4,FALSE))","v":""},{"$f":"IF(A633=\"\",\"\",VLOOKUP(A633,'Fixture List Individual Files'!$B$14:$F$63,5,FALSE))","v":""},"","",""]
[null,{"$f":"IF(A634=\"\",\"\",VLOOKUP(A634,'Fixture List Individual Files'!$B$14:$F$63,2,FALSE))","v":""},null,{"$f":"IF(A634=\"\",\"\",VLOOKUP(A634,'Fixture List Individual Files'!$B$14:$F$63,3,FALSE))","v":""},"",{"$f":"IF(A634=\"\",\"\",VLOOKUP(A634,'Fixture List Individual Files'!$B$14:$F$63,4,FALSE))","v":""},{"$f":"IF(A634=\"\",\"\",VLOOKUP(A634,'Fixture List Individual Files'!$B$14:$F$63,5,FALSE))","v":""},"","",""]
[null,{"$f":"IF(A635=\"\",\"\",VLOOKUP(A635,'Fixture List Individual Files'!$B$14:$F$63,2,FALSE))","v":""},null,{"$f":"IF(A635=\"\",\"\",VLOOKUP(A635,'Fixture List Individual Files'!$B$14:$F$63,3,FALSE))","v":""},"",{"$f":"IF(A635=\"\",\"\",VLOOKUP(A635,'Fixture List Individual Files'!$B$14:$F$63,4,FALSE))","v":""},{"$f":"IF(A635=\"\",\"\",VLOOKUP(A635,'Fixture List Individual Files'!$B$14:$F$63,5,FALSE))","v":""},"","",""]
[null,{"$f":"IF(A636=\"\",\"\",VLOOKUP(A636,'Fixture List Individual Files'!$B$14:$F$63,2,FALSE))","v":""},null,{"$f":"IF(A636=\"\",\"\",VLOOKUP(A636,'Fixture List Individual Files'!$B$14:$F$63,3,FALSE))","v":""},"",{"$f":"IF(A636=\"\",\"\",VLOOKUP(A636,'Fixture List Individual Files'!$B$14:$F$63,4,FALSE))","v":""},{"$f":"IF(A636=\"\",\"\",VLOOKUP(A636,'Fixture List Individual Files'!$B$14:$F$63,5,FALSE))","v":""},"","",""]
[null,{"$f":"IF(A637=\"\",\"\",VLOOKUP(A637,'Fixture List Individual Files'!$B$14:$F$63,2,FALSE))","v":""},null,{"$f":"IF(A637=\"\",\"\",VLOOKUP(A637,'Fixture List Individual Files'!$B$14:$F$63,3,FALSE))","v":""},"",{"$f":"IF(A637=\"\",\"\",VLOOKUP(A637,'Fixture List Individual Files'!$B$14:$F$63,4,FALSE))","v":""},{"$f":"IF(A637=\"\",\"\",VLOOKUP(A637,'Fixture List Individual Files'!$B$14:$F$63,5,FALSE))","v":""},"","",""]
[null,{"$f":"IF(A638=\"\",\"\",VLOOKUP(A638,'Fixture List Individual Files'!$B$14:$F$63,2,FALSE))","v":""},null,{"$f":"IF(A638=\"\",\"\",VLOOKUP(A638,'Fixture List Individual Files'!$B$14:$F$63,3,FALSE))","v":""},"",{"$f":"IF(A638=\"\",\"\",VLOOKUP(A638,'Fixture List Individual Files'!$B$14:$F$63,4,FALSE))","v":""},{"$f":"IF(A638=\"\",\"\",VLOOKUP(A638,'Fixture List Individual Files'!$B$14:$F$63,5,FALSE))","v":""},"","",""]
[null,{"$f":"IF(A639=\"\",\"\",VLOOKUP(A639,'Fixture List Individual Files'!$B$14:$F$63,2,FALSE))","v":""},null,{"$f":"IF(A639=\"\",\"\",VLOOKUP(A639,'Fixture List Individual Files'!$B$14:$F$63,3,FALSE))","v":""},"",{"$f":"IF(A639=\"\",\"\",VLOOKUP(A639,'Fixture List Individual Files'!$B$14:$F$63,4,FALSE))","v":""},{"$f":"IF(A639=\"\",\"\",VLOOKUP(A639,'Fixture List Individual Files'!$B$14:$F$63,5,FALSE))","v":""},"","",""]
[null,{"$f":"IF(A640=\"\",\"\",VLOOKUP(A640,'Fixture List Individual Files'!$B$14:$F$63,2,FALSE))","v":""},null,{"$f":"IF(A640=\"\",\"\",VLOOKUP(A640,'Fixture List Individual Files'!$B$14:$F$63,3,FALSE))","v":""},"",{"$f":"IF(A640=\"\",\"\",VLOOKUP(A640,'Fixture List Individual Files'!$B$14:$F$63,4,FALSE))","v":""},{"$f":"IF(A640=\"\",\"\",VLOOKUP(A640,'Fixture List Individual Files'!$B$14:$F$63,5,FALSE))","v":""},"","",""]
[null,{"$f":"IF(A641=\"\",\"\",VLOOKUP(A641,'Fixture List Individual Files'!$B$14:$F$63,2,FALSE))","v":""},null,{"$f":"IF(A641=\"\",\"\",VLOOKUP(A641,'Fixture List Individual Files'!$B$14:$F$63,3,FALSE))","v":""},"",{"$f":"IF(A641=\"\",\"\",VLOOKUP(A641,'Fixture List Individual Files'!$B$14:$F$63,4,FALSE))","v":""},{"$f":"IF(A641=\"\",\"\",VLOOKUP(A641,'Fixture List Individual Files'!$B$14:$F$63,5,FALSE))","v":""},"","",""]
[null,{"$f":"IF(A642=\"\",\"\",VLOOKUP(A642,'Fixture List Individual Files'!$B$14:$F$63,2,FALSE))","v":""},null,{"$f":"IF(A642=\"\",\"\",VLOOKUP(A642,'Fixture List Individual Files'!$B$14:$F$63,3,FALSE))","v":""},"",{"$f":"IF(A642=\"\",\"\",VLOOKUP(A642,'Fixture List Individual Files'!$B$14:$F$63,4,FALSE))","v":""},{"$f":"IF(A642=\"\",\"\",VLOOKUP(A642,'Fixture List Individual Files'!$B$14:$F$63,5,FALSE))","v":""},"","",""]
[null,{"$f":"IF(A643=\"\",\"\",VLOOKUP(A643,'Fixture List Individual Files'!$B$14:$F$63,2,FALSE))","v":""},null,{"$f":"IF(A643=\"\",\"\",VLOOKUP(A643,'Fixture List Individual Files'!$B$14:$F$63,3,FALSE))","v":""},"",{"$f":"IF(A643=\"\",\"\",VLOOKUP(A643,'Fixture List Individual Files'!$B$14:$F$63,4,FALSE))","v":""},{"$f":"IF(A643=\"\",\"\",VLOOKUP(A643,'Fixture List Individual Files'!$B$14:$F$63,5,FALSE))","v":""},"","",""]
[null,{"$f":"IF(A644=\"\",\"\",VLOOKUP(A644,'Fixture List Individual Files'!$B$14:$F$63,2,FALSE))","v":""},null,{"$f":"IF(A644=\"\",\"\",VLOOKUP(A644,'Fixture List Individual Files'!$B$14:$F$63,3,FALSE))","v":""},"",{"$f":"IF(A644=\"\",\"\",VLOOKUP(A644,'Fixture List Individual Files'!$B$14:$F$63,4,FALSE))","v":""},{"$f":"IF(A644=\"\",\"\",VLOOKUP(A644,'Fixture List Individual Files'!$B$14:$F$63,5,FALSE))","v":""},"","",""]
[null,{"$f":"IF(A645=\"\",\"\",VLOOKUP(A645,'Fixture List Individual Files'!$B$14:$F$63,2,FALSE))","v":""},null,{"$f":"IF(A645=\"\",\"\",VLOOKUP(A645,'Fixture List Individual Files'!$B$14:$F$63,3,FALSE))","v":""},"",{"$f":"IF(A645=\"\",\"\",VLOOKUP(A645,'Fixture List Individual Files'!$B$14:$F$63,4,FALSE))","v":""},{"$f":"IF(A645=\"\",\"\",VLOOKUP(A645,'Fixture List Individual Files'!$B$14:$F$63,5,FALSE))","v":""},"","",""]
[null,{"$f":"IF(A646=\"\",\"\",VLOOKUP(A646,'Fixture List Individual Files'!$B$14:$F$63,2,FALSE))","v":""},null,{"$f":"IF(A646=\"\",\"\",VLOOKUP(A646,'Fixture List Individual Files'!$B$14:$F$63,3,FALSE))","v":""},"",{"$f":"IF(A646=\"\",\"\",VLOOKUP(A646,'Fixture List Individual Files'!$B$14:$F$63,4,FALSE))","v":""},{"$f":"IF(A646=\"\",\"\",VLOOKUP(A646,'Fixture List Individual Files'!$B$14:$F$63,5,FALSE))","v":""},"","",""]
[null,{"$f":"IF(A647=\"\",\"\",VLOOKUP(A647,'Fixture List Individual Files'!$B$14:$F$63,2,FALSE))","v":""},null,{"$f":"IF(A647=\"\",\"\",VLOOKUP(A647,'Fixture List Individual Files'!$B$14:$F$63,3,FALSE))","v":""},"",{"$f":"IF(A647=\"\",\"\",VLOOKUP(A647,'Fixture List Individual Files'!$B$14:$F$63,4,FALSE))","v":""},{"$f":"IF(A647=\"\",\"\",VLOOKUP(A647,'Fixture List Individual Files'!$B$14:$F$63,5,FALSE))","v":""},"","",""]
[null,{"$f":"IF(A648=\"\",\"\",VLOOKUP(A648,'Fixture List Individual Files'!$B$14:$F$63,2,FALSE))","v":""},null,{"$f":"IF(A648=\"\",\"\",VLOOKUP(A648,'Fixture List Individual Files'!$B$14:$F$63,3,FALSE))","v":""},"",{"$f":"IF(A648=\"\",\"\",VLOOKUP(A648,'Fixture List Individual Files'!$B$14:$F$63,4,FALSE))","v":""},{"$f":"IF(A648=\"\",\"\",VLOOKUP(A648,'Fixture List Individual Files'!$B$14:$F$63,5,FALSE))","v":""},"","",""]
[null,{"$f":"IF(A649=\"\",\"\",VLOOKUP(A649,'Fixture List Individual Files'!$B$14:$F$63,2,FALSE))","v":""},null,{"$f":"IF(A649=\"\",\"\",VLOOKUP(A649,'Fixture List Individual Files'!$B$14:$F$63,3,FALSE))","v":""},"",{"$f":"IF(A649=\"\",\"\",VLOOKUP(A649,'Fixture List Individual Files'!$B$14:$F$63,4,FALSE))","v":""},{"$f":"IF(A649=\"\",\"\",VLOOKUP(A649,'Fixture List Individual Files'!$B$14:$F$63,5,FALSE))","v":""},"","",""]
[null,{"$f":"IF(A650=\"\",\"\",VLOOKUP(A650,'Fixture List Individual Files'!$B$14:$F$63,2,FALSE))","v":""},null,{"$f":"IF(A650=\"\",\"\",VLOOKUP(A650,'Fixture List Individual Files'!$B$14:$F$63,3,FALSE))","v":""},"",{"$f":"IF(A650=\"\",\"\",VLOOKUP(A650,'Fixture List Individual Files'!$B$14:$F$63,4,FALSE))","v":""},{"$f":"IF(A650=\"\",\"\",VLOOKUP(A650,'Fixture List Individual Files'!$B$14:$F$63,5,FALSE))","v":""},"","",""]
[null,{"$f":"IF(A651=\"\",\"\",VLOOKUP(A651,'Fixture List Individual Files'!$B$14:$F$63,2,FALSE))","v":""},null,{"$f":"IF(A651=\"\",\"\",VLOOKUP(A651,'Fixture List Individual Files'!$B$14:$F$63,3,FALSE))","v":""},"",{"$f":"IF(A651=\"\",\"\",VLOOKUP(A651,'Fixture List Individual Files'!$B$14:$F$63,4,FALSE))","v":""},{"$f":"IF(A651=\"\",\"\",VLOOKUP(A651,'Fixture List Individual Files'!$B$14:$F$63,5,FALSE))","v":""},"","",""]
[null,{"$f":"IF(A652=\"\",\"\",VLOOKUP(A652,'Fixture List Individual Files'!$B$14:$F$63,2,FALSE))","v":""},null,{"$f":"IF(A652=\"\",\"\",VLOOKUP(A652,'Fixture List Individual Files'!$B$14:$F$63,3,FALSE))","v":""},"",{"$f":"IF(A652=\"\",\"\",VLOOKUP(A652,'Fixture List Individual Files'!$B$14:$F$63,4,FALSE))","v":""},{"$f":"IF(A652=\"\",\"\",VLOOKUP(A652,'Fixture List Individual Files'!$B$14:$F$63,5,FALSE))","v":""},"","",""]
[null,{"$f":"IF(A653=\"\",\"\",VLOOKUP(A653,'Fixture List Individual Files'!$B$14:$F$63,2,FALSE))","v":""},null,{"$f":"IF(A653=\"\",\"\",VLOOKUP(A653,'Fixture List Individual Files'!$B$14:$F$63,3,FALSE))","v":""},"",{"$f":"IF(A653=\"\",\"\",VLOOKUP(A653,'Fixture List Individual Files'!$B$14:$F$63,4,FALSE))","v":""},{"$f":"IF(A653=\"\",\"\",VLOOKUP(A653,'Fixture List Individual Files'!$B$14:$F$63,5,FALSE))","v":""},"","",""]
[null,"Totals:",{"$f":"SUM(C618:C653)","v":0},null,{"$f":"SUM(E618:E653)","v":0},{"$f":"SUMIF(F618:F653,\"Yes\",E618:E653)","v":0},null,{"$f":"SUM(H618:H653)","v":{"v":0,"d":"0.000"}},{"$f":"SUM(I618:I653)","v":0},0]
[]
["Area 16",{"$nulls":4},"NLC area factor:",{"$nulls":3},{"$f":"IF(VLOOKUP(A656,'Start Here!'!$N$46:$Q$70,4,FALSE)=0,VLOOKUP(Facility_Type,Admin_Lists!$A$63:$B$66,2,FALSE),VLOOKUP(A656,'Start Here!'!$N$46:$Q$70,4,FALSE))","v":{"$error":"#N/A"}}]
["Type:","Choose from Drop-down",null,null,{"$f":"IFERROR(VLOOKUP(B657,Admin_Lists!$A$9:$B$49,2,FALSE),\"\")","v":0},"W/sq ft",{"$nulls":3},{"$f":"VLOOKUP(A656,'Start Here!'!$N$46:$O$70,2,FALSE)","v":0}]
[null,{"$f":"\"Area Description: \"&'Sq. Ft. Area Individual Files'!D706","v":"Area Description: "},{"$nulls":3},"Sq Ft: ",{"$f":"'Sq. Ft. Area Individual Files'!C707","v":0}]
["Fixture Mark","Fixture\nName","Fixture\nCount","Fixture Watts","Total Watts \n(Fixt Count \nx Fixt Watts)","NLC Controls (Yes/No)","Space type","NLC Controls Savings"]
[{"$nulls":7},"Peak kW Savings","Annual kWh Savings","LC kWh Savings"]
[null,{"$f":"IF(A661=\"\",\"\",VLOOKUP(A661,'Fixture List Individual Files'!$B$14:$F$63,2,FALSE))","v":""},null,{"$f":"IF(A661=\"\",\"\",VLOOKUP(A661,'Fixture List Individual Files'!$B$14:$F$63,3,FALSE))","v":""},{"$f":"IF(D661=\"\",\"\",C661*D661)","v":""},{"$f":"IF(A661=\"\",\"\",VLOOKUP(A661,'Fixture List Individual Files'!$B$14:$F$63,4,FALSE))","v":""},{"$f":"IF(A661=\"\",\"\",VLOOKUP(A661,'Fixture List Individual Files'!$B$14:$F$63,5,FALSE))","v":""},{"$f":"IF(AND(F661=\"Yes\",Facility_Type=\"Commercial\"),(SFE_Commercial-SFBASE_Commercial)*E661/1000*$J$657,IF(AND(F661=\"Yes\",Facility_Type=\"Industrial\",G661=\"Non-High Bay\"),(SFE_Industrial-SFBASE_Industrial)*E661/1000*$J$657,IF(AND(F661=\"Yes\",Facility_Type=\"Schools & Government\",G661=\"Non-High Bay\"),((SFE_SG-SFBASE_SG)*E661/1000*$J$657),\"\")))","v":""},{"$f":"IF(AND(F661=\"Yes\",Facility_Type=\"Commercial\"),(SFE_Commercial-SFBASE_Commercial)*E661/1000*$J$656,IF(AND(F661=\"Yes\",Facility_Type=\"Industrial\",G661=\"Non-High Bay\"),(SFE_Industrial-SFBASE_Industrial)*E661/1000*$J$656,IF(AND(F661=\"Yes\",Facility_Type=\"Schools & Government\",G661=\"Non-High Bay\"),((SFE_SG-SFBASE_SG)*E661/1000*$J$656),\"\")))","v":""},{"$f":"IFERROR(I661*EUL_for_NLC,\"\")","v":""}]
[null,{"$f":"IF(A662=\"\",\"\",VLOOKUP(A662,'Fixture List Individual Files'!$B$14:$F$63,2,FALSE))","v":""},null,{"$f":"IF(A662=\"\",\"\",VLOOKUP(A662,'Fixture List Individual Files'!$B$14:$F$63,3,FALSE))","v":""},{"$f":"IF(D662=\"\",\"\",C662*D662)","v":""},{"$f":"IF(A662=\"\",\"\",VLOOKUP(A662,'Fixture List Individual Files'!$B$14:$F$63,4,FALSE))","v":""},{"$f":"IF(A662=\"\",\"\",VLOOKUP(A662,'Fixture List Individual Files'!$B$14:$F$63,5,FALSE))","v":""},"","",""]
[null,{"$f":"IF(A663=\"\",\"\",VLOOKUP(A663,'Fixture List Individual Files'!$B$14:$F$63,2,FALSE))","v":""},null,{"$f":"IF(A663=\"\",\"\",VLOOKUP(A663,'Fixture List Individual Files'!$B$14:$F$63,3,FALSE))","v":""},"",{"$f":"IF(A663=\"\",\"\",VLOOKUP(A663,'Fixture List Individual Files'!$B$14:$F$63,4,FALSE))","v":""},{"$f":"IF(A663=\"\",\"\",VLOOKUP(A663,'Fixture List Individual Files'!$B$14:$F$63,5,FALSE))","v":""},"","",""]
[null,{"$f":"IF(A664=\"\",\"\",VLOOKUP(A664,'Fixture List Individual Files'!$B$14:$F$63,2,FALSE))","v":""},null,{"$f":"IF(A664=\"\",\"\",VLOOKUP(A664,'Fixture List Individual Files'!$B$14:$F$63,3,FALSE))","v":""},"",{"$f":"IF(A664=\"\",\"\",VLOOKUP(A664,'Fixture List Individual Files'!$B$14:$F$63,4,FALSE))","v":""},{"$f":"IF(A664=\"\",\"\",VLOOKUP(A664,'Fixture List Individual Files'!$B$14:$F$63,5,FALSE))","v":""},"","",""]
[null,{"$f":"IF(A665=\"\",\"\",VLOOKUP(A665,'Fixture List Individual Files'!$B$14:$F$63,2,FALSE))","v":""},null,{"$f":"IF(A665=\"\",\"\",VLOOKUP(A665,'Fixture List Individual Files'!$B$14:$F$63,3,FALSE))","v":""},"",{"$f":"IF(A665=\"\",\"\",VLOOKUP(A665,'Fixture List Individual Files'!$B$14:$F$63,4,FALSE))","v":""},{"$f":"IF(A665=\"\",\"\",VLOOKUP(A665,'Fixture List Individual Files'!$B$14:$F$63,5,FALSE))","v":""},"","",""]
[null,{"$f":"IF(A666=\"\",\"\",VLOOKUP(A666,'Fixture List Individual Files'!$B$14:$F$63,2,FALSE))","v":""},null,{"$f":"IF(A666=\"\",\"\",VLOOKUP(A666,'Fixture List Individual Files'!$B$14:$F$63,3,FALSE))","v":""},"",{"$f":"IF(A666=\"\",\"\",VLOOKUP(A666,'Fixture List Individual Files'!$B$14:$F$63,4,FALSE))","v":""},{"$f":"IF(A666=\"\",\"\",VLOOKUP(A666,'Fixture List Individual Files'!$B$14:$F$63,5,FALSE))","v":""},"","",""]
[null,{"$f":"IF(A667=\"\",\"\",VLOOKUP(A667,'Fixture List Individual Files'!$B$14:$F$63,2,FALSE))","v":""},null,{"$f":"IF(A667=\"\",\"\",VLOOKUP(A667,'Fixture List Individual Files'!$B$14:$F$63,3,FALSE))","v":""},"",{"$f":"IF(A667=\"\",\"\",VLOOKUP(A667,'Fixture List Individual Files'!$B$14:$F$63,4,FALSE))","v":""},{"$f":"IF(A667=\"\",\"\",VLOOKUP(A667,'Fixture List Individual Files'!$B$14:$F$63,5,FALSE))","v":""},"","",""]
[null,{"$f":"IF(A668=\"\",\"\",VLOOKUP(A668,'Fixture List Individual Files'!$B$14:$F$63,2,FALSE))","v":""},null,{"$f":"IF(A668=\"\",\"\",VLOOKUP(A668,'Fixture List Individual Files'!$B$14:$F$63,3,FALSE))","v":""},"",{"$f":"IF(A668=\"\",\"\",VLOOKUP(A668,'Fixture List Individual Files'!$B$14:$F$63,4,FALSE))","v":""},{"$f":"IF(A668=\"\",\"\",VLOOKUP(A668,'Fixture List Individual Files'!$B$14:$F$63,5,FALSE))","v":""},"","",""]
[null,{"$f":"IF(A669=\"\",\"\",VLOOKUP(A669,'Fixture List Individual Files'!$B$14:$F$63,2,FALSE))","v":""},null,{"$f":"IF(A669=\"\",\"\",VLOOKUP(A669,'Fixture List Individual Files'!$B$14:$F$63,3,FALSE))","v":""},"",{"$f":"IF(A669=\"\",\"\",VLOOKUP(A669,'Fixture List Individual Files'!$B$14:$F$63,4,FALSE))","v":""},{"$f":"IF(A669=\"\",\"\",VLOOKUP(A669,'Fixture List Individual Files'!$B$14:$F$63,5,FALSE))","v":""},"","",""]
[null,{"$f":"IF(A670=\"\",\"\",VLOOKUP(A670,'Fixture List Individual Files'!$B$14:$F$63,2,FALSE))","v":""},null,{"$f":"IF(A670=\"\",\"\",VLOOKUP(A670,'Fixture List Individual Files'!$B$14:$F$63,3,FALSE))","v":""},"",{"$f":"IF(A670=\"\",\"\",VLOOKUP(A670,'Fixture List Individual Files'!$B$14:$F$63,4,FALSE))","v":""},{"$f":"IF(A670=\"\",\"\",VLOOKUP(A670,'Fixture List Individual Files'!$B$14:$F$63,5,FALSE))","v":""},"","",""]
[null,{"$f":"IF(A671=\"\",\"\",VLOOKUP(A671,'Fixture List Individual Files'!$B$14:$F$63,2,FALSE))","v":""},null,{"$f":"IF(A671=\"\",\"\",VLOOKUP(A671,'Fixture List Individual Files'!$B$14:$F$63,3,FALSE))","v":""},"",{"$f":"IF(A671=\"\",\"\",VLOOKUP(A671,'Fixture List Individual Files'!$B$14:$F$63,4,FALSE))","v":""},{"$f":"IF(A671=\"\",\"\",VLOOKUP(A671,'Fixture List Individual Files'!$B$14:$F$63,5,FALSE))","v":""},"","",""]
[null,{"$f":"IF(A672=\"\",\"\",VLOOKUP(A672,'Fixture List Individual Files'!$B$14:$F$63,2,FALSE))","v":""},null,{"$f":"IF(A672=\"\",\"\",VLOOKUP(A672,'Fixture List Individual Files'!$B$14:$F$63,3,FALSE))","v":""},"",{"$f":"IF(A672=\"\",\"\",VLOOKUP(A672,'Fixture List Individual Files'!$B$14:$F$63,4,FALSE))","v":""},{"$f":"IF(A672=\"\",\"\",VLOOKUP(A672,'Fixture List Individual Files'!$B$14:$F$63,5,FALSE))","v":""},"","",""]
[null,{"$f":"IF(A673=\"\",\"\",VLOOKUP(A673,'Fixture List Individual Files'!$B$14:$F$63,2,FALSE))","v":""},null,{"$f":"IF(A673=\"\",\"\",VLOOKUP(A673,'Fixture List Individual Files'!$B$14:$F$63,3,FALSE))","v":""},"",{"$f":"IF(A673=\"\",\"\",VLOOKUP(A673,'Fixture List Individual Files'!$B$14:$F$63,4,FALSE))","v":""},{"$f":"IF(A673=\"\",\"\",VLOOKUP(A673,'Fixture List Individual Files'!$B$14:$F$63,5,FALSE))","v":""},"","",""]
[null,{"$f":"IF(A674=\"\",\"\",VLOOKUP(A674,'Fixture List Individual Files'!$B$14:$F$63,2,FALSE))","v":""},null,{"$f":"IF(A674=\"\",\"\",VLOOKUP(A674,'Fixture List Individual Files'!$B$14:$F$63,3,FALSE))","v":""},"",{"$f":"IF(A674=\"\",\"\",VLOOKUP(A674,'Fixture List Individual Files'!$B$14:$F$63,4,FALSE))","v":""},{"$f":"IF(A674=\"\",\"\",VLOOKUP(A674,'Fixture List Individual Files'!$B$14:$F$63,5,FALSE))","v":""},"","",""]
[null,{"$f":"IF(A675=\"\",\"\",VLOOKUP(A675,'Fixture List Individual Files'!$B$14:$F$63,2,FALSE))","v":""},null,{"$f":"IF(A675=\"\",\"\",VLOOKUP(A675,'Fixture List Individual Files'!$B$14:$F$63,3,FALSE))","v":""},"",{"$f":"IF(A675=\"\",\"\",VLOOKUP(A675,'Fixture List Individual Files'!$B$14:$F$63,4,FALSE))","v":""},{"$f":"IF(A675=\"\",\"\",VLOOKUP(A675,'Fixture List Individual Files'!$B$14:$F$63,5,FALSE))","v":""},"","",""]
[null,{"$f":"IF(A676=\"\",\"\",VLOOKUP(A676,'Fixture List Individual Files'!$B$14:$F$63,2,FALSE))","v":""},null,{"$f":"IF(A676=\"\",\"\",VLOOKUP(A676,'Fixture List Individual Files'!$B$14:$F$63,3,FALSE))","v":""},"",{"$f":"IF(A676=\"\",\"\",VLOOKUP(A676,'Fixture List Individual Files'!$B$14:$F$63,4,FALSE))","v":""},{"$f":"IF(A676=\"\",\"\",VLOOKUP(A676,'Fixture List Individual Files'!$B$14:$F$63,5,FALSE))","v":""},"","",""]
[null,{"$f":"IF(A677=\"\",\"\",VLOOKUP(A677,'Fixture List Individual Files'!$B$14:$F$63,2,FALSE))","v":""},null,{"$f":"IF(A677=\"\",\"\",VLOOKUP(A677,'Fixture List Individual Files'!$B$14:$F$63,3,FALSE))","v":""},"",{"$f":"IF(A677=\"\",\"\",VLOOKUP(A677,'Fixture List Individual Files'!$B$14:$F$63,4,FALSE))","v":""},{"$f":"IF(A677=\"\",\"\",VLOOKUP(A677,'Fixture List Individual Files'!$B$14:$F$63,5,FALSE))","v":""},"","",""]
[null,{"$f":"IF(A678=\"\",\"\",VLOOKUP(A678,'Fixture List Individual Files'!$B$14:$F$63,2,FALSE))","v":""},null,{"$f":"IF(A678=\"\",\"\",VLOOKUP(A678,'Fixture List Individual Files'!$B$14:$F$63,3,FALSE))","v":""},"",{"$f":"IF(A678=\"\",\"\",VLOOKUP(A678,'Fixture List Individual Files'!$B$14:$F$63,4,FALSE))","v":""},{"$f":"IF(A678=\"\",\"\",VLOOKUP(A678,'Fixture List Individual Files'!$B$14:$F$63,5,FALSE))","v":""},"","",""]
[null,{"$f":"IF(A679=\"\",\"\",VLOOKUP(A679,'Fixture List Individual Files'!$B$14:$F$63,2,FALSE))","v":""},null,{"$f":"IF(A679=\"\",\"\",VLOOKUP(A679,'Fixture List Individual Files'!$B$14:$F$63,3,FALSE))","v":""},"",{"$f":"IF(A679=\"\",\"\",VLOOKUP(A679,'Fixture List Individual Files'!$B$14:$F$63,4,FALSE))","v":""},{"$f":"IF(A679=\"\",\"\",VLOOKUP(A679,'Fixture List Individual Files'!$B$14:$F$63,5,FALSE))","v":""},"","",""]
[null,{"$f":"IF(A680=\"\",\"\",VLOOKUP(A680,'Fixture List Individual Files'!$B$14:$F$63,2,FALSE))","v":""},null,{"$f":"IF(A680=\"\",\"\",VLOOKUP(A680,'Fixture List Individual Files'!$B$14:$F$63,3,FALSE))","v":""},"",{"$f":"IF(A680=\"\",\"\",VLOOKUP(A680,'Fixture List Individual Files'!$B$14:$F$63,4,FALSE))","v":""},{"$f":"IF(A680=\"\",\"\",VLOOKUP(A680,'Fixture List Individual Files'!$B$14:$F$63,5,FALSE))","v":""},"","",""]
[null,{"$f":"IF(A681=\"\",\"\",VLOOKUP(A681,'Fixture List Individual Files'!$B$14:$F$63,2,FALSE))","v":""},null,{"$f":"IF(A681=\"\",\"\",VLOOKUP(A681,'Fixture List Individual Files'!$B$14:$F$63,3,FALSE))","v":""},"",{"$f":"IF(A681=\"\",\"\",VLOOKUP(A681,'Fixture List Individual Files'!$B$14:$F$63,4,FALSE))","v":""},{"$f":"IF(A681=\"\",\"\",VLOOKUP(A681,'Fixture List Individual Files'!$B$14:$F$63,5,FALSE))","v":""},"","",""]
[null,{"$f":"IF(A682=\"\",\"\",VLOOKUP(A682,'Fixture List Individual Files'!$B$14:$F$63,2,FALSE))","v":""},null,{"$f":"IF(A682=\"\",\"\",VLOOKUP(A682,'Fixture List Individual Files'!$B$14:$F$63,3,FALSE))","v":""},"",{"$f":"IF(A682=\"\",\"\",VLOOKUP(A682,'Fixture List Individual Files'!$B$14:$F$63,4,FALSE))","v":""},{"$f":"IF(A682=\"\",\"\",VLOOKUP(A682,'Fixture List Individual Files'!$B$14:$F$63,5,FALSE))","v":""},"","",""]
[null,{"$f":"IF(A683=\"\",\"\",VLOOKUP(A683,'Fixture List Individual Files'!$B$14:$F$63,2,FALSE))","v":""},null,{"$f":"IF(A683=\"\",\"\",VLOOKUP(A683,'Fixture List Individual Files'!$B$14:$F$63,3,FALSE))","v":""},"",{"$f":"IF(A683=\"\",\"\",VLOOKUP(A683,'Fixture List Individual Files'!$B$14:$F$63,4,FALSE))","v":""},{"$f":"IF(A683=\"\",\"\",VLOOKUP(A683,'Fixture List Individual Files'!$B$14:$F$63,5,FALSE))","v":""},"","",""]
[null,{"$f":"IF(A684=\"\",\"\",VLOOKUP(A684,'Fixture List Individual Files'!$B$14:$F$63,2,FALSE))","v":""},null,{"$f":"IF(A684=\"\",\"\",VLOOKUP(A684,'Fixture List Individual Files'!$B$14:$F$63,3,FALSE))","v":""},"",{"$f":"IF(A684=\"\",\"\",VLOOKUP(A684,'Fixture List Individual Files'!$B$14:$F$63,4,FALSE))","v":""},{"$f":"IF(A684=\"\",\"\",VLOOKUP(A684,'Fixture List Individual Files'!$B$14:$F$63,5,FALSE))","v":""},"","",""]
[null,{"$f":"IF(A685=\"\",\"\",VLOOKUP(A685,'Fixture List Individual Files'!$B$14:$F$63,2,FALSE))","v":""},null,{"$f":"IF(A685=\"\",\"\",VLOOKUP(A685,'Fixture List Individual Files'!$B$14:$F$63,3,FALSE))","v":""},"",{"$f":"IF(A685=\"\",\"\",VLOOKUP(A685,'Fixture List Individual Files'!$B$14:$F$63,4,FALSE))","v":""},{"$f":"IF(A685=\"\",\"\",VLOOKUP(A685,'Fixture List Individual Files'!$B$14:$F$63,5,FALSE))","v":""},"","",""]
[null,{"$f":"IF(A686=\"\",\"\",VLOOKUP(A686,'Fixture List Individual Files'!$B$14:$F$63,2,FALSE))","v":""},null,{"$f":"IF(A686=\"\",\"\",VLOOKUP(A686,'Fixture List Individual Files'!$B$14:$F$63,3,FALSE))","v":""},"",{"$f":"IF(A686=\"\",\"\",VLOOKUP(A686,'Fixture List Individual Files'!$B$14:$F$63,4,FALSE))","v":""},{"$f":"IF(A686=\"\",\"\",VLOOKUP(A686,'Fixture List Individual Files'!$B$14:$F$63,5,FALSE))","v":""},"","",""]
[null,{"$f":"IF(A687=\"\",\"\",VLOOKUP(A687,'Fixture List Individual Files'!$B$14:$F$63,2,FALSE))","v":""},null,{"$f":"IF(A687=\"\",\"\",VLOOKUP(A687,'Fixture List Individual Files'!$B$14:$F$63,3,FALSE))","v":""},"",{"$f":"IF(A687=\"\",\"\",VLOOKUP(A687,'Fixture List Individual Files'!$B$14:$F$63,4,FALSE))","v":""},{"$f":"IF(A687=\"\",\"\",VLOOKUP(A687,'Fixture List Individual Files'!$B$14:$F$63,5,FALSE))","v":""},"","",""]
[null,{"$f":"IF(A688=\"\",\"\",VLOOKUP(A688,'Fixture List Individual Files'!$B$14:$F$63,2,FALSE))","v":""},null,{"$f":"IF(A688=\"\",\"\",VLOOKUP(A688,'Fixture List Individual Files'!$B$14:$F$63,3,FALSE))","v":""},"",{"$f":"IF(A688=\"\",\"\",VLOOKUP(A688,'Fixture List Individual Files'!$B$14:$F$63,4,FALSE))","v":""},{"$f":"IF(A688=\"\",\"\",VLOOKUP(A688,'Fixture List Individual Files'!$B$14:$F$63,5,FALSE))","v":""},"","",""]
[null,{"$f":"IF(A689=\"\",\"\",VLOOKUP(A689,'Fixture List Individual Files'!$B$14:$F$63,2,FALSE))","v":""},null,{"$f":"IF(A689=\"\",\"\",VLOOKUP(A689,'Fixture List Individual Files'!$B$14:$F$63,3,FALSE))","v":""},"",{"$f":"IF(A689=\"\",\"\",VLOOKUP(A689,'Fixture List Individual Files'!$B$14:$F$63,4,FALSE))","v":""},{"$f":"IF(A689=\"\",\"\",VLOOKUP(A689,'Fixture List Individual Files'!$B$14:$F$63,5,FALSE))","v":""},"","",""]
[null,{"$f":"IF(A690=\"\",\"\",VLOOKUP(A690,'Fixture List Individual Files'!$B$14:$F$63,2,FALSE))","v":""},null,{"$f":"IF(A690=\"\",\"\",VLOOKUP(A690,'Fixture List Individual Files'!$B$14:$F$63,3,FALSE))","v":""},"",{"$f":"IF(A690=\"\",\"\",VLOOKUP(A690,'Fixture List Individual Files'!$B$14:$F$63,4,FALSE))","v":""},{"$f":"IF(A690=\"\",\"\",VLOOKUP(A690,'Fixture List Individual Files'!$B$14:$F$63,5,FALSE))","v":""},"","",""]
[null,{"$f":"IF(A691=\"\",\"\",VLOOKUP(A691,'Fixture List Individual Files'!$B$14:$F$63,2,FALSE))","v":""},null,{"$f":"IF(A691=\"\",\"\",VLOOKUP(A691,'Fixture List Individual Files'!$B$14:$F$63,3,FALSE))","v":""},"",{"$f":"IF(A691=\"\",\"\",VLOOKUP(A691,'Fixture List Individual Files'!$B$14:$F$63,4,FALSE))","v":""},{"$f":"IF(A691=\"\",\"\",VLOOKUP(A691,'Fixture List Individual Files'!$B$14:$F$63,5,FALSE))","v":""},"","",""]
[null,{"$f":"IF(A692=\"\",\"\",VLOOKUP(A692,'Fixture List Individual Files'!$B$14:$F$63,2,FALSE))","v":""},null,{"$f":"IF(A692=\"\",\"\",VLOOKUP(A692,'Fixture List Individual Files'!$B$14:$F$63,3,FALSE))","v":""},"",{"$f":"IF(A692=\"\",\"\",VLOOKUP(A692,'Fixture List Individual Files'!$B$14:$F$63,4,FALSE))","v":""},{"$f":"IF(A692=\"\",\"\",VLOOKUP(A692,'Fixture List Individual Files'!$B$14:$F$63,5,FALSE))","v":""},"","",""]
[null,{"$f":"IF(A693=\"\",\"\",VLOOKUP(A693,'Fixture List Individual Files'!$B$14:$F$63,2,FALSE))","v":""},null,{"$f":"IF(A693=\"\",\"\",VLOOKUP(A693,'Fixture List Individual Files'!$B$14:$F$63,3,FALSE))","v":""},"",{"$f":"IF(A693=\"\",\"\",VLOOKUP(A693,'Fixture List Individual Files'!$B$14:$F$63,4,FALSE))","v":""},{"$f":"IF(A693=\"\",\"\",VLOOKUP(A693,'Fixture List Individual Files'!$B$14:$F$63,5,FALSE))","v":""},"","",""]
[null,{"$f":"IF(A694=\"\",\"\",VLOOKUP(A694,'Fixture List Individual Files'!$B$14:$F$63,2,FALSE))","v":""},null,{"$f":"IF(A694=\"\",\"\",VLOOKUP(A694,'Fixture List Individual Files'!$B$14:$F$63,3,FALSE))","v":""},"",{"$f":"IF(A694=\"\",\"\",VLOOKUP(A694,'Fixture List Individual Files'!$B$14:$F$63,4,FALSE))","v":""},{"$f":"IF(A694=\"\",\"\",VLOOKUP(A694,'Fixture List Individual Files'!$B$14:$F$63,5,FALSE))","v":""},"","",""]
[null,{"$f":"IF(A695=\"\",\"\",VLOOKUP(A695,'Fixture List Individual Files'!$B$14:$F$63,2,FALSE))","v":""},null,{"$f":"IF(A695=\"\",\"\",VLOOKUP(A695,'Fixture List Individual Files'!$B$14:$F$63,3,FALSE))","v":""},"",{"$f":"IF(A695=\"\",\"\",VLOOKUP(A695,'Fixture List Individual Files'!$B$14:$F$63,4,FALSE))","v":""},{"$f":"IF(A695=\"\",\"\",VLOOKUP(A695,'Fixture List Individual Files'!$B$14:$F$63,5,FALSE))","v":""},"","",""]
[null,{"$f":"IF(A696=\"\",\"\",VLOOKUP(A696,'Fixture List Individual Files'!$B$14:$F$63,2,FALSE))","v":""},null,{"$f":"IF(A696=\"\",\"\",VLOOKUP(A696,'Fixture List Individual Files'!$B$14:$F$63,3,FALSE))","v":""},"",{"$f":"IF(A696=\"\",\"\",VLOOKUP(A696,'Fixture List Individual Files'!$B$14:$F$63,4,FALSE))","v":""},{"$f":"IF(A696=\"\",\"\",VLOOKUP(A696,'Fixture List Individual Files'!$B$14:$F$63,5,FALSE))","v":""},"","",""]
[null,"Totals:",{"$f":"SUM(C661:C696)","v":0},null,{"$f":"SUM(E661:E696)","v":0},{"$f":"SUMIF(F661:F696,\"Yes\",E661:E696)","v":0},null,{"$f":"SUM(H661:H696)","v":{"v":0,"d":"0.000"}},{"$f":"SUM(I661:I696)","v":0},0]
[]
["Area 17",{"$nulls":4},"NLC area factor:",{"$nulls":3},{"$f":"IF(VLOOKUP(A699,'Start Here!'!$N$46:$Q$70,4,FALSE)=0,VLOOKUP(Facility_Type,Admin_Lists!$A$63:$B$66,2,FALSE),VLOOKUP(A699,'Start Here!'!$N$46:$Q$70,4,FALSE))","v":{"$error":"#N/A"}}]
["Type:","Choose from Drop-down",null,null,{"$f":"IFERROR(VLOOKUP(B700,Admin_Lists!$A$9:$B$49,2,FALSE),\"\")","v":0},"W/sq ft",{"$nulls":3},{"$f":"VLOOKUP(A699,'Start Here!'!$N$46:$O$70,2,FALSE)","v":0}]
[null,{"$f":"\"Area Description: \"&'Sq. Ft. Area Individual Files'!D710","v":"Area Description: "},{"$nulls":3},"Sq Ft: ",{"$f":"'Sq. Ft. Area Individual Files'!C711","v":0}]
["Fixture Mark","Fixture\nName","Fixture\nCount","Fixture Watts","Total Watts \n(Fixt Count \nx Fixt Watts)","NLC Controls (Yes/No)","Space type","NLC Controls Savings"]
[{"$nulls":7},"Peak kW Savings","Annual kWh Savings","LC kWh Savings"]
[null,{"$f":"IF(A704=\"\",\"\",VLOOKUP(A704,'Fixture List Individual Files'!$B$14:$F$63,2,FALSE))","v":""},null,{"$f":"IF(A704=\"\",\"\",VLOOKUP(A704,'Fixture List Individual Files'!$B$14:$F$63,3,FALSE))","v":""},{"$f":"IF(D704=\"\",\"\",C704*D704)","v":""},{"$f":"IF(A704=\"\",\"\",VLOOKUP(A704,'Fixture List Individual Files'!$B$14:$F$63,4,FALSE))","v":""},{"$f":"IF(A704=\"\",\"\",VLOOKUP(A704,'Fixture List Individual Files'!$B$14:$F$63,5,FALSE))","v":""},{"$f":"IF(AND(F704=\"Yes\",Facility_Type=\"Commercial\"),(SFE_Commercial-SFBASE_Commercial)*E704/1000*$J$700,IF(AND(F704=\"Yes\",Facility_Type=\"Industrial\",G704=\"Non-High Bay\"),(SFE_Industrial-SFBASE_Industrial)*E704/1000*$J$700,IF(AND(F704=\"Yes\",Facility_Type=\"Schools & Government\",G704=\"Non-High Bay\"),((SFE_SG-SFBASE_SG)*E704/1000*$J$700),\"\")))","v":""},{"$f":"IF(AND(F704=\"Yes\",Facility_Type=\"Commercial\"),(SFE_Commercial-SFBASE_Commercial)*E704/1000*$J$699,IF(AND(F704=\"Yes\",Facility_Type=\"Industrial\",G704=\"Non-High Bay\"),(SFE_Industrial-SFBASE_Industrial)*E704/1000*$J$699,IF(AND(F704=\"Yes\",Facility_Type=\"Schools & Government\",G704=\"Non-High Bay\"),((SFE_SG-SFBASE_SG)*E704/1000*$J$699),\"\")))","v":""},{"$f":"IFERROR(I704*EUL_for_NLC,\"\")","v":""}]
[null,{"$f":"IF(A705=\"\",\"\",VLOOKUP(A705,'Fixture List Individual Files'!$B$14:$F$63,2,FALSE))","v":""},null,{"$f":"IF(A705=\"\",\"\",VLOOKUP(A705,'Fixture List Individual Files'!$B$14:$F$63,3,FALSE))","v":""},{"$f":"IF(D705=\"\",\"\",C705*D705)","v":""},{"$f":"IF(A705=\"\",\"\",VLOOKUP(A705,'Fixture List Individual Files'!$B$14:$F$63,4,FALSE))","v":""},{"$f":"IF(A705=\"\",\"\",VLOOKUP(A705,'Fixture List Individual Files'!$B$14:$F$63,5,FALSE))","v":""},"","",""]
[null,{"$f":"IF(A706=\"\",\"\",VLOOKUP(A706,'Fixture List Individual Files'!$B$14:$F$63,2,FALSE))","v":""},null,{"$f":"IF(A706=\"\",\"\",VLOOKUP(A706,'Fixture List Individual Files'!$B$14:$F$63,3,FALSE))","v":""},"",{"$f":"IF(A706=\"\",\"\",VLOOKUP(A706,'Fixture List Individual Files'!$B$14:$F$63,4,FALSE))","v":""},{"$f":"IF(A706=\"\",\"\",VLOOKUP(A706,'Fixture List Individual Files'!$B$14:$F$63,5,FALSE))","v":""},"","",""]
[null,{"$f":"IF(A707=\"\",\"\",VLOOKUP(A707,'Fixture List Individual Files'!$B$14:$F$63,2,FALSE))","v":""},null,{"$f":"IF(A707=\"\",\"\",VLOOKUP(A707,'Fixture List Individual Files'!$B$14:$F$63,3,FALSE))","v":""},"",{"$f":"IF(A707=\"\",\"\",VLOOKUP(A707,'Fixture List Individual Files'!$B$14:$F$63,4,FALSE))","v":""},{"$f":"IF(A707=\"\",\"\",VLOOKUP(A707,'Fixture List Individual Files'!$B$14:$F$63,5,FALSE))","v":""},"","",""]
[null,{"$f":"IF(A708=\"\",\"\",VLOOKUP(A708,'Fixture List Individual Files'!$B$14:$F$63,2,FALSE))","v":""},null,{"$f":"IF(A708=\"\",\"\",VLOOKUP(A708,'Fixture List Individual Files'!$B$14:$F$63,3,FALSE))","v":""},"",{"$f":"IF(A708=\"\",\"\",VLOOKUP(A708,'Fixture List Individual Files'!$B$14:$F$63,4,FALSE))","v":""},{"$f":"IF(A708=\"\",\"\",VLOOKUP(A708,'Fixture List Individual Files'!$B$14:$F$63,5,FALSE))","v":""},"","",""]
[null,{"$f":"IF(A709=\"\",\"\",VLOOKUP(A709,'Fixture List Individual Files'!$B$14:$F$63,2,FALSE))","v":""},null,{"$f":"IF(A709=\"\",\"\",VLOOKUP(A709,'Fixture List Individual Files'!$B$14:$F$63,3,FALSE))","v":""},"",{"$f":"IF(A709=\"\",\"\",VLOOKUP(A709,'Fixture List Individual Files'!$B$14:$F$63,4,FALSE))","v":""},{"$f":"IF(A709=\"\",\"\",VLOOKUP(A709,'Fixture List Individual Files'!$B$14:$F$63,5,FALSE))","v":""},"","",""]
[null,{"$f":"IF(A710=\"\",\"\",VLOOKUP(A710,'Fixture List Individual Files'!$B$14:$F$63,2,FALSE))","v":""},null,{"$f":"IF(A710=\"\",\"\",VLOOKUP(A710,'Fixture List Individual Files'!$B$14:$F$63,3,FALSE))","v":""},"",{"$f":"IF(A710=\"\",\"\",VLOOKUP(A710,'Fixture List Individual Files'!$B$14:$F$63,4,FALSE))","v":""},{"$f":"IF(A710=\"\",\"\",VLOOKUP(A710,'Fixture List Individual Files'!$B$14:$F$63,5,FALSE))","v":""},"","",""]
[null,{"$f":"IF(A711=\"\",\"\",VLOOKUP(A711,'Fixture List Individual Files'!$B$14:$F$63,2,FALSE))","v":""},null,{"$f":"IF(A711=\"\",\"\",VLOOKUP(A711,'Fixture List Individual Files'!$B$14:$F$63,3,FALSE))","v":""},"",{"$f":"IF(A711=\"\",\"\",VLOOKUP(A711,'Fixture List Individual Files'!$B$14:$F$63,4,FALSE))","v":""},{"$f":"IF(A711=\"\",\"\",VLOOKUP(A711,'Fixture List Individual Files'!$B$14:$F$63,5,FALSE))","v":""},"","",""]
[null,{"$f":"IF(A712=\"\",\"\",VLOOKUP(A712,'Fixture List Individual Files'!$B$14:$F$63,2,FALSE))","v":""},null,{"$f":"IF(A712=\"\",\"\",VLOOKUP(A712,'Fixture List Individual Files'!$B$14:$F$63,3,FALSE))","v":""},"",{"$f":"IF(A712=\"\",\"\",VLOOKUP(A712,'Fixture List Individual Files'!$B$14:$F$63,4,FALSE))","v":""},{"$f":"IF(A712=\"\",\"\",VLOOKUP(A712,'Fixture List Individual Files'!$B$14:$F$63,5,FALSE))","v":""},"","",""]
[null,{"$f":"IF(A713=\"\",\"\",VLOOKUP(A713,'Fixture List Individual Files'!$B$14:$F$63,2,FALSE))","v":""},null,{"$f":"IF(A713=\"\",\"\",VLOOKUP(A713,'Fixture List Individual Files'!$B$14:$F$63,3,FALSE))","v":""},"",{"$f":"IF(A713=\"\",\"\",VLOOKUP(A713,'Fixture List Individual Files'!$B$14:$F$63,4,FALSE))","v":""},{"$f":"IF(A713=\"\",\"\",VLOOKUP(A713,'Fixture List Individual Files'!$B$14:$F$63,5,FALSE))","v":""},"","",""]
[null,{"$f":"IF(A714=\"\",\"\",VLOOKUP(A714,'Fixture List Individual Files'!$B$14:$F$63,2,FALSE))","v":""},null,{"$f":"IF(A714=\"\",\"\",VLOOKUP(A714,'Fixture List Individual Files'!$B$14:$F$63,3,FALSE))","v":""},"",{"$f":"IF(A714=\"\",\"\",VLOOKUP(A714,'Fixture List Individual Files'!$B$14:$F$63,4,FALSE))","v":""},{"$f":"IF(A714=\"\",\"\",VLOOKUP(A714,'Fixture List Individual Files'!$B$14:$F$63,5,FALSE))","v":""},"","",""]
[null,{"$f":"IF(A715=\"\",\"\",VLOOKUP(A715,'Fixture List Individual Files'!$B$14:$F$63,2,FALSE))","v":""},null,{"$f":"IF(A715=\"\",\"\",VLOOKUP(A715,'Fixture List Individual Files'!$B$14:$F$63,3,FALSE))","v":""},"",{"$f":"IF(A715=\"\",\"\",VLOOKUP(A715,'Fixture List Individual Files'!$B$14:$F$63,4,FALSE))","v":""},{"$f":"IF(A715=\"\",\"\",VLOOKUP(A715,'Fixture List Individual Files'!$B$14:$F$63,5,FALSE))","v":""},"","",""]
[null,{"$f":"IF(A716=\"\",\"\",VLOOKUP(A716,'Fixture List Individual Files'!$B$14:$F$63,2,FALSE))","v":""},null,{"$f":"IF(A716=\"\",\"\",VLOOKUP(A716,'Fixture List Individual Files'!$B$14:$F$63,3,FALSE))","v":""},"",{"$f":"IF(A716=\"\",\"\",VLOOKUP(A716,'Fixture List Individual Files'!$B$14:$F$63,4,FALSE))","v":""},{"$f":"IF(A716=\"\",\"\",VLOOKUP(A716,'Fixture List Individual Files'!$B$14:$F$63,5,FALSE))","v":""},"","",""]
[null,{"$f":"IF(A717=\"\",\"\",VLOOKUP(A717,'Fixture List Individual Files'!$B$14:$F$63,2,FALSE))","v":""},null,{"$f":"IF(A717=\"\",\"\",VLOOKUP(A717,'Fixture List Individual Files'!$B$14:$F$63,3,FALSE))","v":""},"",{"$f":"IF(A717=\"\",\"\",VLOOKUP(A717,'Fixture List Individual Files'!$B$14:$F$63,4,FALSE))","v":""},{"$f":"IF(A717=\"\",\"\",VLOOKUP(A717,'Fixture List Individual Files'!$B$14:$F$63,5,FALSE))","v":""},"","",""]
[null,{"$f":"IF(A718=\"\",\"\",VLOOKUP(A718,'Fixture List Individual Files'!$B$14:$F$63,2,FALSE))","v":""},null,{"$f":"IF(A718=\"\",\"\",VLOOKUP(A718,'Fixture List Individual Files'!$B$14:$F$63,3,FALSE))","v":""},"",{"$f":"IF(A718=\"\",\"\",VLOOKUP(A718,'Fixture List Individual Files'!$B$14:$F$63,4,FALSE))","v":""},{"$f":"IF(A718=\"\",\"\",VLOOKUP(A718,'Fixture List Individual Files'!$B$14:$F$63,5,FALSE))","v":""},"","",""]
[null,{"$f":"IF(A719=\"\",\"\",VLOOKUP(A719,'Fixture List Individual Files'!$B$14:$F$63,2,FALSE))","v":""},null,{"$f":"IF(A719=\"\",\"\",VLOOKUP(A719,'Fixture List Individual Files'!$B$14:$F$63,3,FALSE))","v":""},"",{"$f":"IF(A719=\"\",\"\",VLOOKUP(A719,'Fixture List Individual Files'!$B$14:$F$63,4,FALSE))","v":""},{"$f":"IF(A719=\"\",\"\",VLOOKUP(A719,'Fixture List Individual Files'!$B$14:$F$63,5,FALSE))","v":""},"","",""]
[null,{"$f":"IF(A720=\"\",\"\",VLOOKUP(A720,'Fixture List Individual Files'!$B$14:$F$63,2,FALSE))","v":""},null,{"$f":"IF(A720=\"\",\"\",VLOOKUP(A720,'Fixture List Individual Files'!$B$14:$F$63,3,FALSE))","v":""},"",{"$f":"IF(A720=\"\",\"\",VLOOKUP(A720,'Fixture List Individual Files'!$B$14:$F$63,4,FALSE))","v":""},{"$f":"IF(A720=\"\",\"\",VLOOKUP(A720,'Fixture List Individual Files'!$B$14:$F$63,5,FALSE))","v":""},"","",""]
[null,{"$f":"IF(A721=\"\",\"\",VLOOKUP(A721,'Fixture List Individual Files'!$B$14:$F$63,2,FALSE))","v":""},null,{"$f":"IF(A721=\"\",\"\",VLOOKUP(A721,'Fixture List Individual Files'!$B$14:$F$63,3,FALSE))","v":""},"",{"$f":"IF(A721=\"\",\"\",VLOOKUP(A721,'Fixture List Individual Files'!$B$14:$F$63,4,FALSE))","v":""},{"$f":"IF(A721=\"\",\"\",VLOOKUP(A721,'Fixture List Individual Files'!$B$14:$F$63,5,FALSE))","v":""},"","",""]
[null,{"$f":"IF(A722=\"\",\"\",VLOOKUP(A722,'Fixture List Individual Files'!$B$14:$F$63,2,FALSE))","v":""},null,{"$f":"IF(A722=\"\",\"\",VLOOKUP(A722,'Fixture List Individual Files'!$B$14:$F$63,3,FALSE))","v":""},"",{"$f":"IF(A722=\"\",\"\",VLOOKUP(A722,'Fixture List Individual Files'!$B$14:$F$63,4,FALSE))","v":""},{"$f":"IF(A722=\"\",\"\",VLOOKUP(A722,'Fixture List Individual Files'!$B$14:$F$63,5,FALSE))","v":""},"","",""]
[null,{"$f":"IF(A723=\"\",\"\",VLOOKUP(A723,'Fixture List Individual Files'!$B$14:$F$63,2,FALSE))","v":""},null,{"$f":"IF(A723=\"\",\"\",VLOOKUP(A723,'Fixture List Individual Files'!$B$14:$F$63,3,FALSE))","v":""},"",{"$f":"IF(A723=\"\",\"\",VLOOKUP(A723,'Fixture List Individual Files'!$B$14:$F$63,4,FALSE))","v":""},{"$f":"IF(A723=\"\",\"\",VLOOKUP(A723,'Fixture List Individual Files'!$B$14:$F$63,5,FALSE))","v":""},"","",""]
[null,{"$f":"IF(A724=\"\",\"\",VLOOKUP(A724,'Fixture List Individual Files'!$B$14:$F$63,2,FALSE))","v":""},null,{"$f":"IF(A724=\"\",\"\",VLOOKUP(A724,'Fixture List Individual Files'!$B$14:$F$63,3,FALSE))","v":""},"",{"$f":"IF(A724=\"\",\"\",VLOOKUP(A724,'Fixture List Individual Files'!$B$14:$F$63,4,FALSE))","v":""},{"$f":"IF(A724=\"\",\"\",VLOOKUP(A724,'Fixture List Individual Files'!$B$14:$F$63,5,FALSE))","v":""},"","",""]
[null,{"$f":"IF(A725=\"\",\"\",VLOOKUP(A725,'Fixture List Individual Files'!$B$14:$F$63,2,FALSE))","v":""},null,{"$f":"IF(A725=\"\",\"\",VLOOKUP(A725,'Fixture List Individual Files'!$B$14:$F$63,3,FALSE))","v":""},"",{"$f":"IF(A725=\"\",\"\",VLOOKUP(A725,'Fixture List Individual Files'!$B$14:$F$63,4,FALSE))","v":""},{"$f":"IF(A725=\"\",\"\",VLOOKUP(A725,'Fixture List Individual Files'!$B$14:$F$63,5,FALSE))","v":""},"","",""]
[null,{"$f":"IF(A726=\"\",\"\",VLOOKUP(A726,'Fixture List Individual Files'!$B$14:$F$63,2,FALSE))","v":""},null,{"$f":"IF(A726=\"\",\"\",VLOOKUP(A726,'Fixture List Individual Files'!$B$14:$F$63,3,FALSE))","v":""},"",{"$f":"IF(A726=\"\",\"\",VLOOKUP(A726,'Fixture List Individual Files'!$B$14:$F$63,4,FALSE))","v":""},{"$f":"IF(A726=\"\",\"\",VLOOKUP(A726,'Fixture List Individual Files'!$B$14:$F$63,5,FALSE))","v":""},"","",""]
[null,{"$f":"IF(A727=\"\",\"\",VLOOKUP(A727,'Fixture List Individual Files'!$B$14:$F$63,2,FALSE))","v":""},null,{"$f":"IF(A727=\"\",\"\",VLOOKUP(A727,'Fixture List Individual Files'!$B$14:$F$63,3,FALSE))","v":""},"",{"$f":"IF(A727=\"\",\"\",VLOOKUP(A727,'Fixture List Individual Files'!$B$14:$F$63,4,FALSE))","v":""},{"$f":"IF(A727=\"\",\"\",VLOOKUP(A727,'Fixture List Individual Files'!$B$14:$F$63,5,FALSE))","v":""},"","",""]
[null,{"$f":"IF(A728=\"\",\"\",VLOOKUP(A728,'Fixture List Individual Files'!$B$14:$F$63,2,FALSE))","v":""},null,{"$f":"IF(A728=\"\",\"\",VLOOKUP(A728,'Fixture List Individual Files'!$B$14:$F$63,3,FALSE))","v":""},"",{"$f":"IF(A728=\"\",\"\",VLOOKUP(A728,'Fixture List Individual Files'!$B$14:$F$63,4,FALSE))","v":""},{"$f":"IF(A728=\"\",\"\",VLOOKUP(A728,'Fixture List Individual Files'!$B$14:$F$63,5,FALSE))","v":""},"","",""]
[null,{"$f":"IF(A729=\"\",\"\",VLOOKUP(A729,'Fixture List Individual Files'!$B$14:$F$63,2,FALSE))","v":""},null,{"$f":"IF(A729=\"\",\"\",VLOOKUP(A729,'Fixture List Individual Files'!$B$14:$F$63,3,FALSE))","v":""},"",{"$f":"IF(A729=\"\",\"\",VLOOKUP(A729,'Fixture List Individual Files'!$B$14:$F$63,4,FALSE))","v":""},{"$f":"IF(A729=\"\",\"\",VLOOKUP(A729,'Fixture List Individual Files'!$B$14:$F$63,5,FALSE))","v":""},"","",""]
[null,{"$f":"IF(A730=\"\",\"\",VLOOKUP(A730,'Fixture List Individual Files'!$B$14:$F$63,2,FALSE))","v":""},null,{"$f":"IF(A730=\"\",\"\",VLOOKUP(A730,'Fixture List Individual Files'!$B$14:$F$63,3,FALSE))","v":""},"",{"$f":"IF(A730=\"\",\"\",VLOOKUP(A730,'Fixture List Individual Files'!$B$14:$F$63,4,FALSE))","v":""},{"$f":"IF(A730=\"\",\"\",VLOOKUP(A730,'Fixture List Individual Files'!$B$14:$F$63,5,FALSE))","v":""},"","",""]
[null,{"$f":"IF(A731=\"\",\"\",VLOOKUP(A731,'Fixture List Individual Files'!$B$14:$F$63,2,FALSE))","v":""},null,{"$f":"IF(A731=\"\",\"\",VLOOKUP(A731,'Fixture List Individual Files'!$B$14:$F$63,3,FALSE))","v":""},"",{"$f":"IF(A731=\"\",\"\",VLOOKUP(A731,'Fixture List Individual Files'!$B$14:$F$63,4,FALSE))","v":""},{"$f":"IF(A731=\"\",\"\",VLOOKUP(A731,'Fixture List Individual Files'!$B$14:$F$63,5,FALSE))","v":""},"","",""]
[null,{"$f":"IF(A732=\"\",\"\",VLOOKUP(A732,'Fixture List Individual Files'!$B$14:$F$63,2,FALSE))","v":""},null,{"$f":"IF(A732=\"\",\"\",VLOOKUP(A732,'Fixture List Individual Files'!$B$14:$F$63,3,FALSE))","v":""},"",{"$f":"IF(A732=\"\",\"\",VLOOKUP(A732,'Fixture List Individual Files'!$B$14:$F$63,4,FALSE))","v":""},{"$f":"IF(A732=\"\",\"\",VLOOKUP(A732,'Fixture List Individual Files'!$B$14:$F$63,5,FALSE))","v":""},"","",""]
[null,{"$f":"IF(A733=\"\",\"\",VLOOKUP(A733,'Fixture List Individual Files'!$B$14:$F$63,2,FALSE))","v":""},null,{"$f":"IF(A733=\"\",\"\",VLOOKUP(A733,'Fixture List Individual Files'!$B$14:$F$63,3,FALSE))","v":""},"",{"$f":"IF(A733=\"\",\"\",VLOOKUP(A733,'Fixture List Individual Files'!$B$14:$F$63,4,FALSE))","v":""},{"$f":"IF(A733=\"\",\"\",VLOOKUP(A733,'Fixture List Individual Files'!$B$14:$F$63,5,FALSE))","v":""},"","",""]
[null,{"$f":"IF(A734=\"\",\"\",VLOOKUP(A734,'Fixture List Individual Files'!$B$14:$F$63,2,FALSE))","v":""},null,{"$f":"IF(A734=\"\",\"\",VLOOKUP(A734,'Fixture List Individual Files'!$B$14:$F$63,3,FALSE))","v":""},"",{"$f":"IF(A734=\"\",\"\",VLOOKUP(A734,'Fixture List Individual Files'!$B$14:$F$63,4,FALSE))","v":""},{"$f":"IF(A734=\"\",\"\",VLOOKUP(A734,'Fixture List Individual Files'!$B$14:$F$63,5,FALSE))","v":""},"","",""]
[null,{"$f":"IF(A735=\"\",\"\",VLOOKUP(A735,'Fixture List Individual Files'!$B$14:$F$63,2,FALSE))","v":""},null,{"$f":"IF(A735=\"\",\"\",VLOOKUP(A735,'Fixture List Individual Files'!$B$14:$F$63,3,FALSE))","v":""},"",{"$f":"IF(A735=\"\",\"\",VLOOKUP(A735,'Fixture List Individual Files'!$B$14:$F$63,4,FALSE))","v":""},{"$f":"IF(A735=\"\",\"\",VLOOKUP(A735,'Fixture List Individual Files'!$B$14:$F$63,5,FALSE))","v":""},"","",""]
[null,{"$f":"IF(A736=\"\",\"\",VLOOKUP(A736,'Fixture List Individual Files'!$B$14:$F$63,2,FALSE))","v":""},null,{"$f":"IF(A736=\"\",\"\",VLOOKUP(A736,'Fixture List Individual Files'!$B$14:$F$63,3,FALSE))","v":""},"",{"$f":"IF(A736=\"\",\"\",VLOOKUP(A736,'Fixture List Individual Files'!$B$14:$F$63,4,FALSE))","v":""},{"$f":"IF(A736=\"\",\"\",VLOOKUP(A736,'Fixture List Individual Files'!$B$14:$F$63,5,FALSE))","v":""},"","",""]
[null,{"$f":"IF(A737=\"\",\"\",VLOOKUP(A737,'Fixture List Individual Files'!$B$14:$F$63,2,FALSE))","v":""},null,{"$f":"IF(A737=\"\",\"\",VLOOKUP(A737,'Fixture List Individual Files'!$B$14:$F$63,3,FALSE))","v":""},"",{"$f":"IF(A737=\"\",\"\",VLOOKUP(A737,'Fixture List Individual Files'!$B$14:$F$63,4,FALSE))","v":""},{"$f":"IF(A737=\"\",\"\",VLOOKUP(A737,'Fixture List Individual Files'!$B$14:$F$63,5,FALSE))","v":""},"","",""]
[null,{"$f":"IF(A738=\"\",\"\",VLOOKUP(A738,'Fixture List Individual Files'!$B$14:$F$63,2,FALSE))","v":""},null,{"$f":"IF(A738=\"\",\"\",VLOOKUP(A738,'Fixture List Individual Files'!$B$14:$F$63,3,FALSE))","v":""},"",{"$f":"IF(A738=\"\",\"\",VLOOKUP(A738,'Fixture List Individual Files'!$B$14:$F$63,4,FALSE))","v":""},{"$f":"IF(A738=\"\",\"\",VLOOKUP(A738,'Fixture List Individual Files'!$B$14:$F$63,5,FALSE))","v":""},"","",""]
[null,{"$f":"IF(A739=\"\",\"\",VLOOKUP(A739,'Fixture List Individual Files'!$B$14:$F$63,2,FALSE))","v":""},null,{"$f":"IF(A739=\"\",\"\",VLOOKUP(A739,'Fixture List Individual Files'!$B$14:$F$63,3,FALSE))","v":""},"",{"$f":"IF(A739=\"\",\"\",VLOOKUP(A739,'Fixture List Individual Files'!$B$14:$F$63,4,FALSE))","v":""},{"$f":"IF(A739=\"\",\"\",VLOOKUP(A739,'Fixture List Individual Files'!$B$14:$F$63,5,FALSE))","v":""},"","",""]
[null,"Totals:",{"$f":"SUM(C704:C739)","v":0},null,{"$f":"SUM(E704:E739)","v":0},{"$f":"SUMIF(F704:F739,\"Yes\",E704:E739)","v":0},null,{"$f":"SUM(H704:H739)","v":{"v":0,"d":"0.000"}},{"$f":"SUM(I704:I739)","v":0},0]
[]
["Area 18",{"$nulls":4},"NLC area factor:",{"$nulls":3},{"$f":"IF(VLOOKUP(A742,'Start Here!'!$N$46:$Q$70,4,FALSE)=0,VLOOKUP(Facility_Type,Admin_Lists!$A$63:$B$66,2,FALSE),VLOOKUP(A742,'Start Here!'!$N$46:$Q$70,4,FALSE))","v":{"$error":"#N/A"}}]
["Type:","Choose from Drop-down",null,null,{"$f":"IFERROR(VLOOKUP(B743,Admin_Lists!$A$9:$B$49,2,FALSE),\"\")","v":0},"W/sq ft",{"$nulls":3},{"$f":"VLOOKUP(A742,'Start Here!'!$N$46:$O$70,2,FALSE)","v":0}]
[null,{"$f":"\"Area Description: \"&'Sq. Ft. Area Individual Files'!D714","v":"Area Description: "},{"$nulls":3},"Sq Ft: ",{"$f":"'Sq. Ft. Area Individual Files'!C715","v":0}]
["Fixture Mark","Fixture\nName","Fixture\nCount","Fixture Watts","Total Watts \n(Fixt Count \nx Fixt Watts)","NLC Controls (Yes/No)","Space type","NLC Controls Savings"]
[{"$nulls":7},"Peak kW Savings","Annual kWh Savings","LC kWh Savings"]
[null,{"$f":"IF(A747=\"\",\"\",VLOOKUP(A747,'Fixture List Individual Files'!$B$14:$F$63,2,FALSE))","v":""},null,{"$f":"IF(A747=\"\",\"\",VLOOKUP(A747,'Fixture List Individual Files'!$B$14:$F$63,3,FALSE))","v":""},{"$f":"IF(D747=\"\",\"\",C747*D747)","v":""},{"$f":"IF(A747=\"\",\"\",VLOOKUP(A747,'Fixture List Individual Files'!$B$14:$F$63,4,FALSE))","v":""},{"$f":"IF(A747=\"\",\"\",VLOOKUP(A747,'Fixture List Individual Files'!$B$14:$F$63,5,FALSE))","v":""},{"$f":"IF(AND(F747=\"Yes\",Facility_Type=\"Commercial\"),(SFE_Commercial-SFBASE_Commercial)*E747/1000*$J$743,IF(AND(F747=\"Yes\",Facility_Type=\"Industrial\",G747=\"Non-High Bay\"),(SFE_Industrial-SFBASE_Industrial)*E747/1000*$J$743,IF(AND(F747=\"Yes\",Facility_Type=\"Schools & Government\",G747=\"Non-High Bay\"),((SFE_SG-SFBASE_SG)*E747/1000*$J$743),\"\")))","v":""},{"$f":"IF(AND(F747=\"Yes\",Facility_Type=\"Commercial\"),(SFE_Commercial-SFBASE_Commercial)*E747/1000*$J$742,IF(AND(F747=\"Yes\",Facility_Type=\"Industrial\",G747=\"Non-High Bay\"),(SFE_Industrial-SFBASE_Industrial)*E747/1000*$J$742,IF(AND(F747=\"Yes\",Facility_Type=\"Schools & Government\",G747=\"Non-High Bay\"),((SFE_SG-SFBASE_SG)*E747/1000*$J$742),\"\")))","v":""},{"$f":"IFERROR(I747*EUL_for_NLC,\"\")","v":""}]
[null,{"$f":"IF(A748=\"\",\"\",VLOOKUP(A748,'Fixture List Individual Files'!$B$14:$F$63,2,FALSE))","v":""},null,{"$f":"IF(A748=\"\",\"\",VLOOKUP(A748,'Fixture List Individual Files'!$B$14:$F$63,3,FALSE))","v":""},{"$f":"IF(D748=\"\",\"\",C748*D748)","v":""},{"$f":"IF(A748=\"\",\"\",VLOOKUP(A748,'Fixture List Individual Files'!$B$14:$F$63,4,FALSE))","v":""},{"$f":"IF(A748=\"\",\"\",VLOOKUP(A748,'Fixture List Individual Files'!$B$14:$F$63,5,FALSE))","v":""},"","",""]
[null,{"$f":"IF(A749=\"\",\"\",VLOOKUP(A749,'Fixture List Individual Files'!$B$14:$F$63,2,FALSE))","v":""},null,{"$f":"IF(A749=\"\",\"\",VLOOKUP(A749,'Fixture List Individual Files'!$B$14:$F$63,3,FALSE))","v":""},"",{"$f":"IF(A749=\"\",\"\",VLOOKUP(A749,'Fixture List Individual Files'!$B$14:$F$63,4,FALSE))","v":""},{"$f":"IF(A749=\"\",\"\",VLOOKUP(A749,'Fixture List Individual Files'!$B$14:$F$63,5,FALSE))","v":""},"","",""]
[null,{"$f":"IF(A750=\"\",\"\",VLOOKUP(A750,'Fixture List Individual Files'!$B$14:$F$63,2,FALSE))","v":""},null,{"$f":"IF(A750=\"\",\"\",VLOOKUP(A750,'Fixture List Individual Files'!$B$14:$F$63,3,FALSE))","v":""},"",{"$f":"IF(A750=\"\",\"\",VLOOKUP(A750,'Fixture List Individual Files'!$B$14:$F$63,4,FALSE))","v":""},{"$f":"IF(A750=\"\",\"\",VLOOKUP(A750,'Fixture List Individual Files'!$B$14:$F$63,5,FALSE))","v":""},"","",""]
[null,{"$f":"IF(A751=\"\",\"\",VLOOKUP(A751,'Fixture List Individual Files'!$B$14:$F$63,2,FALSE))","v":""},null,{"$f":"IF(A751=\"\",\"\",VLOOKUP(A751,'Fixture List Individual Files'!$B$14:$F$63,3,FALSE))","v":""},"",{"$f":"IF(A751=\"\",\"\",VLOOKUP(A751,'Fixture List Individual Files'!$B$14:$F$63,4,FALSE))","v":""},{"$f":"IF(A751=\"\",\"\",VLOOKUP(A751,'Fixture List Individual Files'!$B$14:$F$63,5,FALSE))","v":""},"","",""]
[null,{"$f":"IF(A752=\"\",\"\",VLOOKUP(A752,'Fixture List Individual Files'!$B$14:$F$63,2,FALSE))","v":""},null,{"$f":"IF(A752=\"\",\"\",VLOOKUP(A752,'Fixture List Individual Files'!$B$14:$F$63,3,FALSE))","v":""},"",{"$f":"IF(A752=\"\",\"\",VLOOKUP(A752,'Fixture List Individual Files'!$B$14:$F$63,4,FALSE))","v":""},{"$f":"IF(A752=\"\",\"\",VLOOKUP(A752,'Fixture List Individual Files'!$B$14:$F$63,5,FALSE))","v":""},"","",""]
[null,{"$f":"IF(A753=\"\",\"\",VLOOKUP(A753,'Fixture List Individual Files'!$B$14:$F$63,2,FALSE))","v":""},null,{"$f":"IF(A753=\"\",\"\",VLOOKUP(A753,'Fixture List Individual Files'!$B$14:$F$63,3,FALSE))","v":""},"",{"$f":"IF(A753=\"\",\"\",VLOOKUP(A753,'Fixture List Individual Files'!$B$14:$F$63,4,FALSE))","v":""},{"$f":"IF(A753=\"\",\"\",VLOOKUP(A753,'Fixture List Individual Files'!$B$14:$F$63,5,FALSE))","v":""},"","",""]
[null,{"$f":"IF(A754=\"\",\"\",VLOOKUP(A754,'Fixture List Individual Files'!$B$14:$F$63,2,FALSE))","v":""},null,{"$f":"IF(A754=\"\",\"\",VLOOKUP(A754,'Fixture List Individual Files'!$B$14:$F$63,3,FALSE))","v":""},"",{"$f":"IF(A754=\"\",\"\",VLOOKUP(A754,'Fixture List Individual Files'!$B$14:$F$63,4,FALSE))","v":""},{"$f":"IF(A754=\"\",\"\",VLOOKUP(A754,'Fixture List Individual Files'!$B$14:$F$63,5,FALSE))","v":""},"","",""]
[null,{"$f":"IF(A755=\"\",\"\",VLOOKUP(A755,'Fixture List Individual Files'!$B$14:$F$63,2,FALSE))","v":""},null,{"$f":"IF(A755=\"\",\"\",VLOOKUP(A755,'Fixture List Individual Files'!$B$14:$F$63,3,FALSE))","v":""},"",{"$f":"IF(A755=\"\",\"\",VLOOKUP(A755,'Fixture List Individual Files'!$B$14:$F$63,4,FALSE))","v":""},{"$f":"IF(A755=\"\",\"\",VLOOKUP(A755,'Fixture List Individual Files'!$B$14:$F$63,5,FALSE))","v":""},"","",""]
[null,{"$f":"IF(A756=\"\",\"\",VLOOKUP(A756,'Fixture List Individual Files'!$B$14:$F$63,2,FALSE))","v":""},null,{"$f":"IF(A756=\"\",\"\",VLOOKUP(A756,'Fixture List Individual Files'!$B$14:$F$63,3,FALSE))","v":""},"",{"$f":"IF(A756=\"\",\"\",VLOOKUP(A756,'Fixture List Individual Files'!$B$14:$F$63,4,FALSE))","v":""},{"$f":"IF(A756=\"\",\"\",VLOOKUP(A756,'Fixture List Individual Files'!$B$14:$F$63,5,FALSE))","v":""},"","",""]
[null,{"$f":"IF(A757=\"\",\"\",VLOOKUP(A757,'Fixture List Individual Files'!$B$14:$F$63,2,FALSE))","v":""},null,{"$f":"IF(A757=\"\",\"\",VLOOKUP(A757,'Fixture List Individual Files'!$B$14:$F$63,3,FALSE))","v":""},"",{"$f":"IF(A757=\"\",\"\",VLOOKUP(A757,'Fixture List Individual Files'!$B$14:$F$63,4,FALSE))","v":""},{"$f":"IF(A757=\"\",\"\",VLOOKUP(A757,'Fixture List Individual Files'!$B$14:$F$63,5,FALSE))","v":""},"","",""]
[null,{"$f":"IF(A758=\"\",\"\",VLOOKUP(A758,'Fixture List Individual Files'!$B$14:$F$63,2,FALSE))","v":""},null,{"$f":"IF(A758=\"\",\"\",VLOOKUP(A758,'Fixture List Individual Files'!$B$14:$F$63,3,FALSE))","v":""},"",{"$f":"IF(A758=\"\",\"\",VLOOKUP(A758,'Fixture List Individual Files'!$B$14:$F$63,4,FALSE))","v":""},{"$f":"IF(A758=\"\",\"\",VLOOKUP(A758,'Fixture List Individual Files'!$B$14:$F$63,5,FALSE))","v":""},"","",""]
[null,{"$f":"IF(A759=\"\",\"\",VLOOKUP(A759,'Fixture List Individual Files'!$B$14:$F$63,2,FALSE))","v":""},null,{"$f":"IF(A759=\"\",\"\",VLOOKUP(A759,'Fixture List Individual Files'!$B$14:$F$63,3,FALSE))","v":""},"",{"$f":"IF(A759=\"\",\"\",VLOOKUP(A759,'Fixture List Individual Files'!$B$14:$F$63,4,FALSE))","v":""},{"$f":"IF(A759=\"\",\"\",VLOOKUP(A759,'Fixture List Individual Files'!$B$14:$F$63,5,FALSE))","v":""},"","",""]
[null,{"$f":"IF(A760=\"\",\"\",VLOOKUP(A760,'Fixture List Individual Files'!$B$14:$F$63,2,FALSE))","v":""},null,{"$f":"IF(A760=\"\",\"\",VLOOKUP(A760,'Fixture List Individual Files'!$B$14:$F$63,3,FALSE))","v":""},"",{"$f":"IF(A760=\"\",\"\",VLOOKUP(A760,'Fixture List Individual Files'!$B$14:$F$63,4,FALSE))","v":""},{"$f":"IF(A760=\"\",\"\",VLOOKUP(A760,'Fixture List Individual Files'!$B$14:$F$63,5,FALSE))","v":""},"","",""]
[null,{"$f":"IF(A761=\"\",\"\",VLOOKUP(A761,'Fixture List Individual Files'!$B$14:$F$63,2,FALSE))","v":""},null,{"$f":"IF(A761=\"\",\"\",VLOOKUP(A761,'Fixture List Individual Files'!$B$14:$F$63,3,FALSE))","v":""},"",{"$f":"IF(A761=\"\",\"\",VLOOKUP(A761,'Fixture List Individual Files'!$B$14:$F$63,4,FALSE))","v":""},{"$f":"IF(A761=\"\",\"\",VLOOKUP(A761,'Fixture List Individual Files'!$B$14:$F$63,5,FALSE))","v":""},"","",""]
[null,{"$f":"IF(A762=\"\",\"\",VLOOKUP(A762,'Fixture List Individual Files'!$B$14:$F$63,2,FALSE))","v":""},null,{"$f":"IF(A762=\"\",\"\",VLOOKUP(A762,'Fixture List Individual Files'!$B$14:$F$63,3,FALSE))","v":""},"",{"$f":"IF(A762=\"\",\"\",VLOOKUP(A762,'Fixture List Individual Files'!$B$14:$F$63,4,FALSE))","v":""},{"$f":"IF(A762=\"\",\"\",VLOOKUP(A762,'Fixture List Individual Files'!$B$14:$F$63,5,FALSE))","v":""},"","",""]
[null,{"$f":"IF(A763=\"\",\"\",VLOOKUP(A763,'Fixture List Individual Files'!$B$14:$F$63,2,FALSE))","v":""},null,{"$f":"IF(A763=\"\",\"\",VLOOKUP(A763,'Fixture List Individual Files'!$B$14:$F$63,3,FALSE))","v":""},"",{"$f":"IF(A763=\"\",\"\",VLOOKUP(A763,'Fixture List Individual Files'!$B$14:$F$63,4,FALSE))","v":""},{"$f":"IF(A763=\"\",\"\",VLOOKUP(A763,'Fixture List Individual Files'!$B$14:$F$63,5,FALSE))","v":""},"","",""]
[null,{"$f":"IF(A764=\"\",\"\",VLOOKUP(A764,'Fixture List Individual Files'!$B$14:$F$63,2,FALSE))","v":""},null,{"$f":"IF(A764=\"\",\"\",VLOOKUP(A764,'Fixture List Individual Files'!$B$14:$F$63,3,FALSE))","v":""},"",{"$f":"IF(A764=\"\",\"\",VLOOKUP(A764,'Fixture List Individual Files'!$B$14:$F$63,4,FALSE))","v":""},{"$f":"IF(A764=\"\",\"\",VLOOKUP(A764,'Fixture List Individual Files'!$B$14:$F$63,5,FALSE))","v":""},"","",""]
[null,{"$f":"IF(A765=\"\",\"\",VLOOKUP(A765,'Fixture List Individual Files'!$B$14:$F$63,2,FALSE))","v":""},null,{"$f":"IF(A765=\"\",\"\",VLOOKUP(A765,'Fixture List Individual Files'!$B$14:$F$63,3,FALSE))","v":""},"",{"$f":"IF(A765=\"\",\"\",VLOOKUP(A765,'Fixture List Individual Files'!$B$14:$F$63,4,FALSE))","v":""},{"$f":"IF(A765=\"\",\"\",VLOOKUP(A765,'Fixture List Individual Files'!$B$14:$F$63,5,FALSE))","v":""},"","",""]
[null,{"$f":"IF(A766=\"\",\"\",VLOOKUP(A766,'Fixture List Individual Files'!$B$14:$F$63,2,FALSE))","v":""},null,{"$f":"IF(A766=\"\",\"\",VLOOKUP(A766,'Fixture List Individual Files'!$B$14:$F$63,3,FALSE))","v":""},"",{"$f":"IF(A766=\"\",\"\",VLOOKUP(A766,'Fixture List Individual Files'!$B$14:$F$63,4,FALSE))","v":""},{"$f":"IF(A766=\"\",\"\",VLOOKUP(A766,'Fixture List Individual Files'!$B$14:$F$63,5,FALSE))","v":""},"","",""]
[null,{"$f":"IF(A767=\"\",\"\",VLOOKUP(A767,'Fixture List Individual Files'!$B$14:$F$63,2,FALSE))","v":""},null,{"$f":"IF(A767=\"\",\"\",VLOOKUP(A767,'Fixture List Individual Files'!$B$14:$F$63,3,FALSE))","v":""},"",{"$f":"IF(A767=\"\",\"\",VLOOKUP(A767,'Fixture List Individual Files'!$B$14:$F$63,4,FALSE))","v":""},{"$f":"IF(A767=\"\",\"\",VLOOKUP(A767,'Fixture List Individual Files'!$B$14:$F$63,5,FALSE))","v":""},"","",""]
[null,{"$f":"IF(A768=\"\",\"\",VLOOKUP(A768,'Fixture List Individual Files'!$B$14:$F$63,2,FALSE))","v":""},null,{"$f":"IF(A768=\"\",\"\",VLOOKUP(A768,'Fixture List Individual Files'!$B$14:$F$63,3,FALSE))","v":""},"",{"$f":"IF(A768=\"\",\"\",VLOOKUP(A768,'Fixture List Individual Files'!$B$14:$F$63,4,FALSE))","v":""},{"$f":"IF(A768=\"\",\"\",VLOOKUP(A768,'Fixture List Individual Files'!$B$14:$F$63,5,FALSE))","v":""},"","",""]
[null,{"$f":"IF(A769=\"\",\"\",VLOOKUP(A769,'Fixture List Individual Files'!$B$14:$F$63,2,FALSE))","v":""},null,{"$f":"IF(A769=\"\",\"\",VLOOKUP(A769,'Fixture List Individual Files'!$B$14:$F$63,3,FALSE))","v":""},"",{"$f":"IF(A769=\"\",\"\",VLOOKUP(A769,'Fixture List Individual Files'!$B$14:$F$63,4,FALSE))","v":""},{"$f":"IF(A769=\"\",\"\",VLOOKUP(A769,'Fixture List Individual Files'!$B$14:$F$63,5,FALSE))","v":""},"","",""]
[null,{"$f":"IF(A770=\"\",\"\",VLOOKUP(A770,'Fixture List Individual Files'!$B$14:$F$63,2,FALSE))","v":""},null,{"$f":"IF(A770=\"\",\"\",VLOOKUP(A770,'Fixture List Individual Files'!$B$14:$F$63,3,FALSE))","v":""},"",{"$f":"IF(A770=\"\",\"\",VLOOKUP(A770,'Fixture List Individual Files'!$B$14:$F$63,4,FALSE))","v":""},{"$f":"IF(A770=\"\",\"\",VLOOKUP(A770,'Fixture List Individual Files'!$B$14:$F$63,5,FALSE))","v":""},"","",""]
[null,{"$f":"IF(A771=\"\",\"\",VLOOKUP(A771,'Fixture List Individual Files'!$B$14:$F$63,2,FALSE))","v":""},null,{"$f":"IF(A771=\"\",\"\",VLOOKUP(A771,'Fixture List Individual Files'!$B$14:$F$63,3,FALSE))","v":""},"",{"$f":"IF(A771=\"\",\"\",VLOOKUP(A771,'Fixture List Individual Files'!$B$14:$F$63,4,FALSE))","v":""},{"$f":"IF(A771=\"\",\"\",VLOOKUP(A771,'Fixture List Individual Files'!$B$14:$F$63,5,FALSE))","v":""},"","",""]
[null,{"$f":"IF(A772=\"\",\"\",VLOOKUP(A772,'Fixture List Individual Files'!$B$14:$F$63,2,FALSE))","v":""},null,{"$f":"IF(A772=\"\",\"\",VLOOKUP(A772,'Fixture List Individual Files'!$B$14:$F$63,3,FALSE))","v":""},"",{"$f":"IF(A772=\"\",\"\",VLOOKUP(A772,'Fixture List Individual Files'!$B$14:$F$63,4,FALSE))","v":""},{"$f":"IF(A772=\"\",\"\",VLOOKUP(A772,'Fixture List Individual Files'!$B$14:$F$63,5,FALSE))","v":""},"","",""]
[null,{"$f":"IF(A773=\"\",\"\",VLOOKUP(A773,'Fixture List Individual Files'!$B$14:$F$63,2,FALSE))","v":""},null,{"$f":"IF(A773=\"\",\"\",VLOOKUP(A773,'Fixture List Individual Files'!$B$14:$F$63,3,FALSE))","v":""},"",{"$f":"IF(A773=\"\",\"\",VLOOKUP(A773,'Fixture List Individual Files'!$B$14:$F$63,4,FALSE))","v":""},{"$f":"IF(A773=\"\",\"\",VLOOKUP(A773,'Fixture List Individual Files'!$B$14:$F$63,5,FALSE))","v":""},"","",""]
[null,{"$f":"IF(A774=\"\",\"\",VLOOKUP(A774,'Fixture List Individual Files'!$B$14:$F$63,2,FALSE))","v":""},null,{"$f":"IF(A774=\"\",\"\",VLOOKUP(A774,'Fixture List Individual Files'!$B$14:$F$63,3,FALSE))","v":""},"",{"$f":"IF(A774=\"\",\"\",VLOOKUP(A774,'Fixture List Individual Files'!$B$14:$F$63,4,FALSE))","v":""},{"$f":"IF(A774=\"\",\"\",VLOOKUP(A774,'Fixture List Individual Files'!$B$14:$F$63,5,FALSE))","v":""},"","",""]
[null,{"$f":"IF(A775=\"\",\"\",VLOOKUP(A775,'Fixture List Individual Files'!$B$14:$F$63,2,FALSE))","v":""},null,{"$f":"IF(A775=\"\",\"\",VLOOKUP(A775,'Fixture List Individual Files'!$B$14:$F$63,3,FALSE))","v":""},"",{"$f":"IF(A775=\"\",\"\",VLOOKUP(A775,'Fixture List Individual Files'!$B$14:$F$63,4,FALSE))","v":""},{"$f":"IF(A775=\"\",\"\",VLOOKUP(A775,'Fixture List Individual Files'!$B$14:$F$63,5,FALSE))","v":""},"","",""]
[null,{"$f":"IF(A776=\"\",\"\",VLOOKUP(A776,'Fixture List Individual Files'!$B$14:$F$63,2,FALSE))","v":""},null,{"$f":"IF(A776=\"\",\"\",VLOOKUP(A776,'Fixture List Individual Files'!$B$14:$F$63,3,FALSE))","v":""},"",{"$f":"IF(A776=\"\",\"\",VLOOKUP(A776,'Fixture List Individual Files'!$B$14:$F$63,4,FALSE))","v":""},{"$f":"IF(A776=\"\",\"\",VLOOKUP(A776,'Fixture List Individual Files'!$B$14:$F$63,5,FALSE))","v":""},"","",""]
[null,{"$f":"IF(A777=\"\",\"\",VLOOKUP(A777,'Fixture List Individual Files'!$B$14:$F$63,2,FALSE))","v":""},null,{"$f":"IF(A777=\"\",\"\",VLOOKUP(A777,'Fixture List Individual Files'!$B$14:$F$63,3,FALSE))","v":""},"",{"$f":"IF(A777=\"\",\"\",VLOOKUP(A777,'Fixture List Individual Files'!$B$14:$F$63,4,FALSE))","v":""},{"$f":"IF(A777=\"\",\"\",VLOOKUP(A777,'Fixture List Individual Files'!$B$14:$F$63,5,FALSE))","v":""},"","",""]
[null,{"$f":"IF(A778=\"\",\"\",VLOOKUP(A778,'Fixture List Individual Files'!$B$14:$F$63,2,FALSE))","v":""},null,{"$f":"IF(A778=\"\",\"\",VLOOKUP(A778,'Fixture List Individual Files'!$B$14:$F$63,3,FALSE))","v":""},"",{"$f":"IF(A778=\"\",\"\",VLOOKUP(A778,'Fixture List Individual Files'!$B$14:$F$63,4,FALSE))","v":""},{"$f":"IF(A778=\"\",\"\",VLOOKUP(A778,'Fixture List Individual Files'!$B$14:$F$63,5,FALSE))","v":""},"","",""]
[null,{"$f":"IF(A779=\"\",\"\",VLOOKUP(A779,'Fixture List Individual Files'!$B$14:$F$63,2,FALSE))","v":""},null,{"$f":"IF(A779=\"\",\"\",VLOOKUP(A779,'Fixture List Individual Files'!$B$14:$F$63,3,FALSE))","v":""},"",{"$f":"IF(A779=\"\",\"\",VLOOKUP(A779,'Fixture List Individual Files'!$B$14:$F$63,4,FALSE))","v":""},{"$f":"IF(A779=\"\",\"\",VLOOKUP(A779,'Fixture List Individual Files'!$B$14:$F$63,5,FALSE))","v":""},"","",""]
[null,{"$f":"IF(A780=\"\",\"\",VLOOKUP(A780,'Fixture List Individual Files'!$B$14:$F$63,2,FALSE))","v":""},null,{"$f":"IF(A780=\"\",\"\",VLOOKUP(A780,'Fixture List Individual Files'!$B$14:$F$63,3,FALSE))","v":""},"",{"$f":"IF(A780=\"\",\"\",VLOOKUP(A780,'Fixture List Individual Files'!$B$14:$F$63,4,FALSE))","v":""},{"$f":"IF(A780=\"\",\"\",VLOOKUP(A780,'Fixture List Individual Files'!$B$14:$F$63,5,FALSE))","v":""},"","",""]
[null,{"$f":"IF(A781=\"\",\"\",VLOOKUP(A781,'Fixture List Individual Files'!$B$14:$F$63,2,FALSE))","v":""},null,{"$f":"IF(A781=\"\",\"\",VLOOKUP(A781,'Fixture List Individual Files'!$B$14:$F$63,3,FALSE))","v":""},"",{"$f":"IF(A781=\"\",\"\",VLOOKUP(A781,'Fixture List Individual Files'!$B$14:$F$63,4,FALSE))","v":""},{"$f":"IF(A781=\"\",\"\",VLOOKUP(A781,'Fixture List Individual Files'!$B$14:$F$63,5,FALSE))","v":""},"","",""]
[null,{"$f":"IF(A782=\"\",\"\",VLOOKUP(A782,'Fixture List Individual Files'!$B$14:$F$63,2,FALSE))","v":""},null,{"$f":"IF(A782=\"\",\"\",VLOOKUP(A782,'Fixture List Individual Files'!$B$14:$F$63,3,FALSE))","v":""},"",{"$f":"IF(A782=\"\",\"\",VLOOKUP(A782,'Fixture List Individual Files'!$B$14:$F$63,4,FALSE))","v":""},{"$f":"IF(A782=\"\",\"\",VLOOKUP(A782,'Fixture List Individual Files'!$B$14:$F$63,5,FALSE))","v":""},"","",""]
[null,"Totals:",{"$f":"SUM(C747:C782)","v":0},null,{"$f":"SUM(E747:E782)","v":0},{"$f":"SUMIF(F747:F782,\"Yes\",E747:E782)","v":0},null,{"$f":"SUM(H747:H782)","v":{"v":0,"d":"0.000"}},{"$f":"SUM(I747:I782)","v":0},0]
[]
["Area 19",{"$nulls":4},"NLC area factor:",{"$nulls":3},{"$f":"IF(VLOOKUP(A785,'Start Here!'!$N$46:$Q$70,4,FALSE)=0,VLOOKUP(Facility_Type,Admin_Lists!$A$63:$B$66,2,FALSE),VLOOKUP(A785,'Start Here!'!$N$46:$Q$70,4,FALSE))","v":{"$error":"#N/A"}}]
["Type:","Choose from Drop-down",null,null,{"$f":"IFERROR(VLOOKUP(B786,Admin_Lists!$A$9:$B$49,2,FALSE),\"\")","v":0},"W/sq ft",{"$nulls":3},{"$f":"VLOOKUP(A785,'Start Here!'!$N$46:$O$70,2,FALSE)","v":0}]
[null,{"$f":"\"Area Description: \"&'Sq. Ft. Area Individual Files'!D718","v":"Area Description: "},{"$nulls":3},"Sq Ft: ",{"$f":"'Sq. Ft. Area Individual Files'!C719","v":0}]
["Fixture Mark","Fixture\nName","Fixture\nCount","Fixture Watts","Total Watts \n(Fixt Count \nx Fixt Watts)","NLC Controls (Yes/No)","Space type","NLC Controls Savings"]
[{"$nulls":7},"Peak kW Savings","Annual kWh Savings","LC kWh Savings"]
[null,{"$f":"IF(A790=\"\",\"\",VLOOKUP(A790,'Fixture List Individual Files'!$B$14:$F$63,2,FALSE))","v":""},null,{"$f":"IF(A790=\"\",\"\",VLOOKUP(A790,'Fixture List Individual Files'!$B$14:$F$63,3,FALSE))","v":""},{"$f":"IF(D790=\"\",\"\",C790*D790)","v":""},{"$f":"IF(A790=\"\",\"\",VLOOKUP(A790,'Fixture List Individual Files'!$B$14:$F$63,4,FALSE))","v":""},{"$f":"IF(A790=\"\",\"\",VLOOKUP(A790,'Fixture List Individual Files'!$B$14:$F$63,5,FALSE))","v":""},{"$f":"IF(AND(F790=\"Yes\",Facility_Type=\"Commercial\"),(SFE_Commercial-SFBASE_Commercial)*E790/1000*$J$786,IF(AND(F790=\"Yes\",Facility_Type=\"Industrial\",G790=\"Non-High Bay\"),(SFE_Industrial-SFBASE_Industrial)*E790/1000*$J$786,IF(AND(F790=\"Yes\",Facility_Type=\"Schools & Government\",G790=\"Non-High Bay\"),((SFE_SG-SFBASE_SG)*E790/1000*$J$786),\"\")))","v":""},{"$f":"IF(AND(F790=\"Yes\",Facility_Type=\"Commercial\"),(SFE_Commercial-SFBASE_Commercial)*E790/1000*$J$785,IF(AND(F790=\"Yes\",Facility_Type=\"Industrial\",G790=\"Non-High Bay\"),(SFE_Industrial-SFBASE_Industrial)*E790/1000*$J$785,IF(AND(F790=\"Yes\",Facility_Type=\"Schools & Government\",G790=\"Non-High Bay\"),((SFE_SG-SFBASE_SG)*E790/1000*$J$785),\"\")))","v":""},{"$f":"IFERROR(I790*EUL_for_NLC,\"\")","v":""}]
[null,{"$f":"IF(A791=\"\",\"\",VLOOKUP(A791,'Fixture List Individual Files'!$B$14:$F$63,2,FALSE))","v":""},null,{"$f":"IF(A791=\"\",\"\",VLOOKUP(A791,'Fixture List Individual Files'!$B$14:$F$63,3,FALSE))","v":""},{"$f":"IF(D791=\"\",\"\",C791*D791)","v":""},{"$f":"IF(A791=\"\",\"\",VLOOKUP(A791,'Fixture List Individual Files'!$B$14:$F$63,4,FALSE))","v":""},{"$f":"IF(A791=\"\",\"\",VLOOKUP(A791,'Fixture List Individual Files'!$B$14:$F$63,5,FALSE))","v":""},"","",""]
[null,{"$f":"IF(A792=\"\",\"\",VLOOKUP(A792,'Fixture List Individual Files'!$B$14:$F$63,2,FALSE))","v":""},null,{"$f":"IF(A792=\"\",\"\",VLOOKUP(A792,'Fixture List Individual Files'!$B$14:$F$63,3,FALSE))","v":""},"",{"$f":"IF(A792=\"\",\"\",VLOOKUP(A792,'Fixture List Individual Files'!$B$14:$F$63,4,FALSE))","v":""},{"$f":"IF(A792=\"\",\"\",VLOOKUP(A792,'Fixture List Individual Files'!$B$14:$F$63,5,FALSE))","v":""},"","",""]
[null,{"$f":"IF(A793=\"\",\"\",VLOOKUP(A793,'Fixture List Individual Files'!$B$14:$F$63,2,FALSE))","v":""},null,{"$f":"IF(A793=\"\",\"\",VLOOKUP(A793,'Fixture List Individual Files'!$B$14:$F$63,3,FALSE))","v":""},"",{"$f":"IF(A793=\"\",\"\",VLOOKUP(A793,'Fixture List Individual Files'!$B$14:$F$63,4,FALSE))","v":""},{"$f":"IF(A793=\"\",\"\",VLOOKUP(A793,'Fixture List Individual Files'!$B$14:$F$63,5,FALSE))","v":""},"","",""]
[null,{"$f":"IF(A794=\"\",\"\",VLOOKUP(A794,'Fixture List Individual Files'!$B$14:$F$63,2,FALSE))","v":""},null,{"$f":"IF(A794=\"\",\"\",VLOOKUP(A794,'Fixture List Individual Files'!$B$14:$F$63,3,FALSE))","v":""},"",{"$f":"IF(A794=\"\",\"\",VLOOKUP(A794,'Fixture List Individual Files'!$B$14:$F$63,4,FALSE))","v":""},{"$f":"IF(A794=\"\",\"\",VLOOKUP(A794,'Fixture List Individual Files'!$B$14:$F$63,5,FALSE))","v":""},"","",""]
[null,{"$f":"IF(A795=\"\",\"\",VLOOKUP(A795,'Fixture List Individual Files'!$B$14:$F$63,2,FALSE))","v":""},null,{"$f":"IF(A795=\"\",\"\",VLOOKUP(A795,'Fixture List Individual Files'!$B$14:$F$63,3,FALSE))","v":""},"",{"$f":"IF(A795=\"\",\"\",VLOOKUP(A795,'Fixture List Individual Files'!$B$14:$F$63,4,FALSE))","v":""},{"$f":"IF(A795=\"\",\"\",VLOOKUP(A795,'Fixture List Individual Files'!$B$14:$F$63,5,FALSE))","v":""},"","",""]
[null,{"$f":"IF(A796=\"\",\"\",VLOOKUP(A796,'Fixture List Individual Files'!$B$14:$F$63,2,FALSE))","v":""},null,{"$f":"IF(A796=\"\",\"\",VLOOKUP(A796,'Fixture List Individual Files'!$B$14:$F$63,3,FALSE))","v":""},"",{"$f":"IF(A796=\"\",\"\",VLOOKUP(A796,'Fixture List Individual Files'!$B$14:$F$63,4,FALSE))","v":""},{"$f":"IF(A796=\"\",\"\",VLOOKUP(A796,'Fixture List Individual Files'!$B$14:$F$63,5,FALSE))","v":""},"","",""]
[null,{"$f":"IF(A797=\"\",\"\",VLOOKUP(A797,'Fixture List Individual Files'!$B$14:$F$63,2,FALSE))","v":""},null,{"$f":"IF(A797=\"\",\"\",VLOOKUP(A797,'Fixture List Individual Files'!$B$14:$F$63,3,FALSE))","v":""},"",{"$f":"IF(A797=\"\",\"\",VLOOKUP(A797,'Fixture List Individual Files'!$B$14:$F$63,4,FALSE))","v":""},{"$f":"IF(A797=\"\",\"\",VLOOKUP(A797,'Fixture List Individual Files'!$B$14:$F$63,5,FALSE))","v":""},"","",""]
[null,{"$f":"IF(A798=\"\",\"\",VLOOKUP(A798,'Fixture List Individual Files'!$B$14:$F$63,2,FALSE))","v":""},null,{"$f":"IF(A798=\"\",\"\",VLOOKUP(A798,'Fixture List Individual Files'!$B$14:$F$63,3,FALSE))","v":""},"",{"$f":"IF(A798=\"\",\"\",VLOOKUP(A798,'Fixture List Individual Files'!$B$14:$F$63,4,FALSE))","v":""},{"$f":"IF(A798=\"\",\"\",VLOOKUP(A798,'Fixture List Individual Files'!$B$14:$F$63,5,FALSE))","v":""},"","",""]
[null,{"$f":"IF(A799=\"\",\"\",VLOOKUP(A799,'Fixture List Individual Files'!$B$14:$F$63,2,FALSE))","v":""},null,{"$f":"IF(A799=\"\",\"\",VLOOKUP(A799,'Fixture List Individual Files'!$B$14:$F$63,3,FALSE))","v":""},"",{"$f":"IF(A799=\"\",\"\",VLOOKUP(A799,'Fixture List Individual Files'!$B$14:$F$63,4,FALSE))","v":""},{"$f":"IF(A799=\"\",\"\",VLOOKUP(A799,'Fixture List Individual Files'!$B$14:$F$63,5,FALSE))","v":""},"","",""]
[null,{"$f":"IF(A800=\"\",\"\",VLOOKUP(A800,'Fixture List Individual Files'!$B$14:$F$63,2,FALSE))","v":""},null,{"$f":"IF(A800=\"\",\"\",VLOOKUP(A800,'Fixture List Individual Files'!$B$14:$F$63,3,FALSE))","v":""},"",{"$f":"IF(A800=\"\",\"\",VLOOKUP(A800,'Fixture List Individual Files'!$B$14:$F$63,4,FALSE))","v":""},{"$f":"IF(A800=\"\",\"\",VLOOKUP(A800,'Fixture List Individual Files'!$B$14:$F$63,5,FALSE))","v":""},"","",""]
[null,{"$f":"IF(A801=\"\",\"\",VLOOKUP(A801,'Fixture List Individual Files'!$B$14:$F$63,2,FALSE))","v":""},null,{"$f":"IF(A801=\"\",\"\",VLOOKUP(A801,'Fixture List Individual Files'!$B$14:$F$63,3,FALSE))","v":""},"",{"$f":"IF(A801=\"\",\"\",VLOOKUP(A801,'Fixture List Individual Files'!$B$14:$F$63,4,FALSE))","v":""},{"$f":"IF(A801=\"\",\"\",VLOOKUP(A801,'Fixture List Individual Files'!$B$14:$F$63,5,FALSE))","v":""},"","",""]
[null,{"$f":"IF(A802=\"\",\"\",VLOOKUP(A802,'Fixture List Individual Files'!$B$14:$F$63,2,FALSE))","v":""},null,{"$f":"IF(A802=\"\",\"\",VLOOKUP(A802,'Fixture List Individual Files'!$B$14:$F$63,3,FALSE))","v":""},"",{"$f":"IF(A802=\"\",\"\",VLOOKUP(A802,'Fixture List Individual Files'!$B$14:$F$63,4,FALSE))","v":""},{"$f":"IF(A802=\"\",\"\",VLOOKUP(A802,'Fixture List Individual Files'!$B$14:$F$63,5,FALSE))","v":""},"","",""]
[null,{"$f":"IF(A803=\"\",\"\",VLOOKUP(A803,'Fixture List Individual Files'!$B$14:$F$63,2,FALSE))","v":""},null,{"$f":"IF(A803=\"\",\"\",VLOOKUP(A803,'Fixture List Individual Files'!$B$14:$F$63,3,FALSE))","v":""},"",{"$f":"IF(A803=\"\",\"\",VLOOKUP(A803,'Fixture List Individual Files'!$B$14:$F$63,4,FALSE))","v":""},{"$f":"IF(A803=\"\",\"\",VLOOKUP(A803,'Fixture List Individual Files'!$B$14:$F$63,5,FALSE))","v":""},"","",""]
[null,{"$f":"IF(A804=\"\",\"\",VLOOKUP(A804,'Fixture List Individual Files'!$B$14:$F$63,2,FALSE))","v":""},null,{"$f":"IF(A804=\"\",\"\",VLOOKUP(A804,'Fixture List Individual Files'!$B$14:$F$63,3,FALSE))","v":""},"",{"$f":"IF(A804=\"\",\"\",VLOOKUP(A804,'Fixture List Individual Files'!$B$14:$F$63,4,FALSE))","v":""},{"$f":"IF(A804=\"\",\"\",VLOOKUP(A804,'Fixture List Individual Files'!$B$14:$F$63,5,FALSE))","v":""},"","",""]
[null,{"$f":"IF(A805=\"\",\"\",VLOOKUP(A805,'Fixture List Individual Files'!$B$14:$F$63,2,FALSE))","v":""},null,{"$f":"IF(A805=\"\",\"\",VLOOKUP(A805,'Fixture List Individual Files'!$B$14:$F$63,3,FALSE))","v":""},"",{"$f":"IF(A805=\"\",\"\",VLOOKUP(A805,'Fixture List Individual Files'!$B$14:$F$63,4,FALSE))","v":""},{"$f":"IF(A805=\"\",\"\",VLOOKUP(A805,'Fixture List Individual Files'!$B$14:$F$63,5,FALSE))","v":""},"","",""]
[null,{"$f":"IF(A806=\"\",\"\",VLOOKUP(A806,'Fixture List Individual Files'!$B$14:$F$63,2,FALSE))","v":""},null,{"$f":"IF(A806=\"\",\"\",VLOOKUP(A806,'Fixture List Individual Files'!$B$14:$F$63,3,FALSE))","v":""},"",{"$f":"IF(A806=\"\",\"\",VLOOKUP(A806,'Fixture List Individual Files'!$B$14:$F$63,4,FALSE))","v":""},{"$f":"IF(A806=\"\",\"\",VLOOKUP(A806,'Fixture List Individual Files'!$B$14:$F$63,5,FALSE))","v":""},"","",""]
[null,{"$f":"IF(A807=\"\",\"\",VLOOKUP(A807,'Fixture List Individual Files'!$B$14:$F$63,2,FALSE))","v":""},null,{"$f":"IF(A807=\"\",\"\",VLOOKUP(A807,'Fixture List Individual Files'!$B$14:$F$63,3,FALSE))","v":""},"",{"$f":"IF(A807=\"\",\"\",VLOOKUP(A807,'Fixture List Individual Files'!$B$14:$F$63,4,FALSE))","v":""},{"$f":"IF(A807=\"\",\"\",VLOOKUP(A807,'Fixture List Individual Files'!$B$14:$F$63,5,FALSE))","v":""},"","",""]
[null,{"$f":"IF(A808=\"\",\"\",VLOOKUP(A808,'Fixture List Individual Files'!$B$14:$F$63,2,FALSE))","v":""},null,{"$f":"IF(A808=\"\",\"\",VLOOKUP(A808,'Fixture List Individual Files'!$B$14:$F$63,3,FALSE))","v":""},"",{"$f":"IF(A808=\"\",\"\",VLOOKUP(A808,'Fixture List Individual Files'!$B$14:$F$63,4,FALSE))","v":""},{"$f":"IF(A808=\"\",\"\",VLOOKUP(A808,'Fixture List Individual Files'!$B$14:$F$63,5,FALSE))","v":""},"","",""]
[null,{"$f":"IF(A809=\"\",\"\",VLOOKUP(A809,'Fixture List Individual Files'!$B$14:$F$63,2,FALSE))","v":""},null,{"$f":"IF(A809=\"\",\"\",VLOOKUP(A809,'Fixture List Individual Files'!$B$14:$F$63,3,FALSE))","v":""},"",{"$f":"IF(A809=\"\",\"\",VLOOKUP(A809,'Fixture List Individual Files'!$B$14:$F$63,4,FALSE))","v":""},{"$f":"IF(A809=\"\",\"\",VLOOKUP(A809,'Fixture List Individual Files'!$B$14:$F$63,5,FALSE))","v":""},"","",""]
[null,{"$f":"IF(A810=\"\",\"\",VLOOKUP(A810,'Fixture List Individual Files'!$B$14:$F$63,2,FALSE))","v":""},null,{"$f":"IF(A810=\"\",\"\",VLOOKUP(A810,'Fixture List Individual Files'!$B$14:$F$63,3,FALSE))","v":""},"",{"$f":"IF(A810=\"\",\"\",VLOOKUP(A810,'Fixture List Individual Files'!$B$14:$F$63,4,FALSE))","v":""},{"$f":"IF(A810=\"\",\"\",VLOOKUP(A810,'Fixture List Individual Files'!$B$14:$F$63,5,FALSE))","v":""},"","",""]
[null,{"$f":"IF(A811=\"\",\"\",VLOOKUP(A811,'Fixture List Individual Files'!$B$14:$F$63,2,FALSE))","v":""},null,{"$f":"IF(A811=\"\",\"\",VLOOKUP(A811,'Fixture List Individual Files'!$B$14:$F$63,3,FALSE))","v":""},"",{"$f":"IF(A811=\"\",\"\",VLOOKUP(A811,'Fixture List Individual Files'!$B$14:$F$63,4,FALSE))","v":""},{"$f":"IF(A811=\"\",\"\",VLOOKUP(A811,'Fixture List Individual Files'!$B$14:$F$63,5,FALSE))","v":""},"","",""]
[null,{"$f":"IF(A812=\"\",\"\",VLOOKUP(A812,'Fixture List Individual Files'!$B$14:$F$63,2,FALSE))","v":""},null,{"$f":"IF(A812=\"\",\"\",VLOOKUP(A812,'Fixture List Individual Files'!$B$14:$F$63,3,FALSE))","v":""},"",{"$f":"IF(A812=\"\",\"\",VLOOKUP(A812,'Fixture List Individual Files'!$B$14:$F$63,4,FALSE))","v":""},{"$f":"IF(A812=\"\",\"\",VLOOKUP(A812,'Fixture List Individual Files'!$B$14:$F$63,5,FALSE))","v":""},"","",""]
[null,{"$f":"IF(A813=\"\",\"\",VLOOKUP(A813,'Fixture List Individual Files'!$B$14:$F$63,2,FALSE))","v":""},null,{"$f":"IF(A813=\"\",\"\",VLOOKUP(A813,'Fixture List Individual Files'!$B$14:$F$63,3,FALSE))","v":""},"",{"$f":"IF(A813=\"\",\"\",VLOOKUP(A813,'Fixture List Individual Files'!$B$14:$F$63,4,FALSE))","v":""},{"$f":"IF(A813=\"\",\"\",VLOOKUP(A813,'Fixture List Individual Files'!$B$14:$F$63,5,FALSE))","v":""},"","",""]
[null,{"$f":"IF(A814=\"\",\"\",VLOOKUP(A814,'Fixture List Individual Files'!$B$14:$F$63,2,FALSE))","v":""},null,{"$f":"IF(A814=\"\",\"\",VLOOKUP(A814,'Fixture List Individual Files'!$B$14:$F$63,3,FALSE))","v":""},"",{"$f":"IF(A814=\"\",\"\",VLOOKUP(A814,'Fixture List Individual Files'!$B$14:$F$63,4,FALSE))","v":""},{"$f":"IF(A814=\"\",\"\",VLOOKUP(A814,'Fixture List Individual Files'!$B$14:$F$63,5,FALSE))","v":""},"","",""]
[null,{"$f":"IF(A815=\"\",\"\",VLOOKUP(A815,'Fixture List Individual Files'!$B$14:$F$63,2,FALSE))","v":""},null,{"$f":"IF(A815=\"\",\"\",VLOOKUP(A815,'Fixture List Individual Files'!$B$14:$F$63,3,FALSE))","v":""},"",{"$f":"IF(A815=\"\",\"\",VLOOKUP(A815,'Fixture List Individual Files'!$B$14:$F$63,4,FALSE))","v":""},{"$f":"IF(A815=\"\",\"\",VLOOKUP(A815,'Fixture List Individual Files'!$B$14:$F$63,5,FALSE))","v":""},"","",""]
[null,{"$f":"IF(A816=\"\",\"\",VLOOKUP(A816,'Fixture List Individual Files'!$B$14:$F$63,2,FALSE))","v":""},null,{"$f":"IF(A816=\"\",\"\",VLOOKUP(A816,'Fixture List Individual Files'!$B$14:$F$63,3,FALSE))","v":""},"",{"$f":"IF(A816=\"\",\"\",VLOOKUP(A816,'Fixture List Individual Files'!$B$14:$F$63,4,FALSE))","v":""},{"$f":"IF(A816=\"\",\"\",VLOOKUP(A816,'Fixture List Individual Files'!$B$14:$F$63,5,FALSE))","v":""},"","",""]
[null,{"$f":"IF(A817=\"\",\"\",VLOOKUP(A817,'Fixture List Individual Files'!$B$14:$F$63,2,FALSE))","v":""},null,{"$f":"IF(A817=\"\",\"\",VLOOKUP(A817,'Fixture List Individual Files'!$B$14:$F$63,3,FALSE))","v":""},"",{"$f":"IF(A817=\"\",\"\",VLOOKUP(A817,'Fixture List Individual Files'!$B$14:$F$63,4,FALSE))","v":""},{"$f":"IF(A817=\"\",\"\",VLOOKUP(A817,'Fixture List Individual Files'!$B$14:$F$63,5,FALSE))","v":""},"","",""]
[null,{"$f":"IF(A818=\"\",\"\",VLOOKUP(A818,'Fixture List Individual Files'!$B$14:$F$63,2,FALSE))","v":""},null,{"$f":"IF(A818=\"\",\"\",VLOOKUP(A818,'Fixture List Individual Files'!$B$14:$F$63,3,FALSE))","v":""},"",{"$f":"IF(A818=\"\",\"\",VLOOKUP(A818,'Fixture List Individual Files'!$B$14:$F$63,4,FALSE))","v":""},{"$f":"IF(A818=\"\",\"\",VLOOKUP(A818,'Fixture List Individual Files'!$B$14:$F$63,5,FALSE))","v":""},"","",""]
[null,{"$f":"IF(A819=\"\",\"\",VLOOKUP(A819,'Fixture List Individual Files'!$B$14:$F$63,2,FALSE))","v":""},null,{"$f":"IF(A819=\"\",\"\",VLOOKUP(A819,'Fixture List Individual Files'!$B$14:$F$63,3,FALSE))","v":""},"",{"$f":"IF(A819=\"\",\"\",VLOOKUP(A819,'Fixture List Individual Files'!$B$14:$F$63,4,FALSE))","v":""},{"$f":"IF(A819=\"\",\"\",VLOOKUP(A819,'Fixture List Individual Files'!$B$14:$F$63,5,FALSE))","v":""},"","",""]
[null,{"$f":"IF(A820=\"\",\"\",VLOOKUP(A820,'Fixture List Individual Files'!$B$14:$F$63,2,FALSE))","v":""},null,{"$f":"IF(A820=\"\",\"\",VLOOKUP(A820,'Fixture List Individual Files'!$B$14:$F$63,3,FALSE))","v":""},"",{"$f":"IF(A820=\"\",\"\",VLOOKUP(A820,'Fixture List Individual Files'!$B$14:$F$63,4,FALSE))","v":""},{"$f":"IF(A820=\"\",\"\",VLOOKUP(A820,'Fixture List Individual Files'!$B$14:$F$63,5,FALSE))","v":""},"","",""]
[null,{"$f":"IF(A821=\"\",\"\",VLOOKUP(A821,'Fixture List Individual Files'!$B$14:$F$63,2,FALSE))","v":""},null,{"$f":"IF(A821=\"\",\"\",VLOOKUP(A821,'Fixture List Individual Files'!$B$14:$F$63,3,FALSE))","v":""},"",{"$f":"IF(A821=\"\",\"\",VLOOKUP(A821,'Fixture List Individual Files'!$B$14:$F$63,4,FALSE))","v":""},{"$f":"IF(A821=\"\",\"\",VLOOKUP(A821,'Fixture List Individual Files'!$B$14:$F$63,5,FALSE))","v":""},"","",""]
[null,{"$f":"IF(A822=\"\",\"\",VLOOKUP(A822,'Fixture List Individual Files'!$B$14:$F$63,2,FALSE))","v":""},null,{"$f":"IF(A822=\"\",\"\",VLOOKUP(A822,'Fixture List Individual Files'!$B$14:$F$63,3,FALSE))","v":""},"",{"$f":"IF(A822=\"\",\"\",VLOOKUP(A822,'Fixture List Individual Files'!$B$14:$F$63,4,FALSE))","v":""},{"$f":"IF(A822=\"\",\"\",VLOOKUP(A822,'Fixture List Individual Files'!$B$14:$F$63,5,FALSE))","v":""},"","",""]
[null,{"$f":"IF(A823=\"\",\"\",VLOOKUP(A823,'Fixture List Individual Files'!$B$14:$F$63,2,FALSE))","v":""},null,{"$f":"IF(A823=\"\",\"\",VLOOKUP(A823,'Fixture List Individual Files'!$B$14:$F$63,3,FALSE))","v":""},"",{"$f":"IF(A823=\"\",\"\",VLOOKUP(A823,'Fixture List Individual Files'!$B$14:$F$63,4,FALSE))","v":""},{"$f":"IF(A823=\"\",\"\",VLOOKUP(A823,'Fixture List Individual Files'!$B$14:$F$63,5,FALSE))","v":""},"","",""]
[null,{"$f":"IF(A824=\"\",\"\",VLOOKUP(A824,'Fixture List Individual Files'!$B$14:$F$63,2,FALSE))","v":""},null,{"$f":"IF(A824=\"\",\"\",VLOOKUP(A824,'Fixture List Individual Files'!$B$14:$F$63,3,FALSE))","v":""},"",{"$f":"IF(A824=\"\",\"\",VLOOKUP(A824,'Fixture List Individual Files'!$B$14:$F$63,4,FALSE))","v":""},{"$f":"IF(A824=\"\",\"\",VLOOKUP(A824,'Fixture List Individual Files'!$B$14:$F$63,5,FALSE))","v":""},"","",""]
[null,{"$f":"IF(A825=\"\",\"\",VLOOKUP(A825,'Fixture List Individual Files'!$B$14:$F$63,2,FALSE))","v":""},null,{"$f":"IF(A825=\"\",\"\",VLOOKUP(A825,'Fixture List Individual Files'!$B$14:$F$63,3,FALSE))","v":""},"",{"$f":"IF(A825=\"\",\"\",VLOOKUP(A825,'Fixture List Individual Files'!$B$14:$F$63,4,FALSE))","v":""},{"$f":"IF(A825=\"\",\"\",VLOOKUP(A825,'Fixture List Individual Files'!$B$14:$F$63,5,FALSE))","v":""},"","",""]
[null,"Totals:",{"$f":"SUM(C790:C825)","v":0},null,{"$f":"SUM(E790:E825)","v":0},{"$f":"SUMIF(F790:F825,\"Yes\",E790:E825)","v":0},null,{"$f":"SUM(H790:H825)","v":{"v":0,"d":"0.000"}},{"$f":"SUM(I790:I825)","v":0},0]
[]
["Area 20",{"$nulls":4},"NLC area factor:",{"$nulls":3},{"$f":"IF(VLOOKUP(A828,'Start Here!'!$N$46:$Q$70,4,FALSE)=0,VLOOKUP(Facility_Type,Admin_Lists!$A$63:$B$66,2,FALSE),VLOOKUP(A828,'Start Here!'!$N$46:$Q$70,4,FALSE))","v":{"$error":"#N/A"}}]
["Type:","Choose from Drop-down",null,null,{"$f":"IFERROR(VLOOKUP(B829,Admin_Lists!$A$9:$B$49,2,FALSE),\"\")","v":0},"W/sq ft",{"$nulls":3},{"$f":"VLOOKUP(A828,'Start Here!'!$N$46:$O$70,2,FALSE)","v":0}]
[null,{"$f":"\"Area Description: \"&'Sq. Ft. Area Individual Files'!D722","v":"Area Description: "},{"$nulls":3},"Sq Ft: ",{"$f":"'Sq. Ft. Area Individual Files'!C723","v":0}]
["Fixture Mark","Fixture\nName","Fixture\nCount","Fixture Watts","Total Watts \n(Fixt Count \nx Fixt Watts)","NLC Controls (Yes/No)","Space type","NLC Controls Savings"]
[{"$nulls":7},"Peak kW Savings","Annual kWh Savings","LC kWh Savings"]
[null,{"$f":"IF(A833=\"\",\"\",VLOOKUP(A833,'Fixture List Individual Files'!$B$14:$F$63,2,FALSE))","v":""},null,{"$f":"IF(A833=\"\",\"\",VLOOKUP(A833,'Fixture List Individual Files'!$B$14:$F$63,3,FALSE))","v":""},{"$f":"IF(D833=\"\",\"\",C833*D833)","v":""},{"$f":"IF(A833=\"\",\"\",VLOOKUP(A833,'Fixture List Individual Files'!$B$14:$F$63,4,FALSE))","v":""},{"$f":"IF(A833=\"\",\"\",VLOOKUP(A833,'Fixture List Individual Files'!$B$14:$F$63,5,FALSE))","v":""},{"$f":"IF(AND(F833=\"Yes\",Facility_Type=\"Commercial\"),(SFE_Commercial-SFBASE_Commercial)*E833/1000*$J$829,IF(AND(F833=\"Yes\",Facility_Type=\"Industrial\",G833=\"Non-High Bay\"),(SFE_Industrial-SFBASE_Industrial)*E833/1000*$J$829,IF(AND(F833=\"Yes\",Facility_Type=\"Schools & Government\",G833=\"Non-High Bay\"),((SFE_SG-SFBASE_SG)*E833/1000*$J$829),\"\")))","v":""},{"$f":"IF(AND(F833=\"Yes\",Facility_Type=\"Commercial\"),(SFE_Commercial-SFBASE_Commercial)*E833/1000*$J$828,IF(AND(F833=\"Yes\",Facility_Type=\"Industrial\",G833=\"Non-High Bay\"),(SFE_Industrial-SFBASE_Industrial)*E833/1000*$J$828,IF(AND(F833=\"Yes\",Facility_Type=\"Schools & Government\",G833=\"Non-High Bay\"),((SFE_SG-SFBASE_SG)*E833/1000*$J$828),\"\")))","v":""},{"$f":"IFERROR(I833*EUL_for_NLC,\"\")","v":""}]
[null,{"$f":"IF(A834=\"\",\"\",VLOOKUP(A834,'Fixture List Individual Files'!$B$14:$F$63,2,FALSE))","v":""},null,{"$f":"IF(A834=\"\",\"\",VLOOKUP(A834,'Fixture List Individual Files'!$B$14:$F$63,3,FALSE))","v":""},{"$f":"IF(D834=\"\",\"\",C834*D834)","v":""},{"$f":"IF(A834=\"\",\"\",VLOOKUP(A834,'Fixture List Individual Files'!$B$14:$F$63,4,FALSE))","v":""},{"$f":"IF(A834=\"\",\"\",VLOOKUP(A834,'Fixture List Individual Files'!$B$14:$F$63,5,FALSE))","v":""},"","",""]
[null,{"$f":"IF(A835=\"\",\"\",VLOOKUP(A835,'Fixture List Individual Files'!$B$14:$F$63,2,FALSE))","v":""},null,{"$f":"IF(A835=\"\",\"\",VLOOKUP(A835,'Fixture List Individual Files'!$B$14:$F$63,3,FALSE))","v":""},"",{"$f":"IF(A835=\"\",\"\",VLOOKUP(A835,'Fixture List Individual Files'!$B$14:$F$63,4,FALSE))","v":""},{"$f":"IF(A835=\"\",\"\",VLOOKUP(A835,'Fixture List Individual Files'!$B$14:$F$63,5,FALSE))","v":""},"","",""]
[null,{"$f":"IF(A836=\"\",\"\",VLOOKUP(A836,'Fixture List Individual Files'!$B$14:$F$63,2,FALSE))","v":""},null,{"$f":"IF(A836=\"\",\"\",VLOOKUP(A836,'Fixture List Individual Files'!$B$14:$F$63,3,FALSE))","v":""},"",{"$f":"IF(A836=\"\",\"\",VLOOKUP(A836,'Fixture List Individual Files'!$B$14:$F$63,4,FALSE))","v":""},{"$f":"IF(A836=\"\",\"\",VLOOKUP(A836,'Fixture List Individual Files'!$B$14:$F$63,5,FALSE))","v":""},"","",""]
[null,{"$f":"IF(A837=\"\",\"\",VLOOKUP(A837,'Fixture List Individual Files'!$B$14:$F$63,2,FALSE))","v":""},null,{"$f":"IF(A837=\"\",\"\",VLOOKUP(A837,'Fixture List Individual Files'!$B$14:$F$63,3,FALSE))","v":""},"",{"$f":"IF(A837=\"\",\"\",VLOOKUP(A837,'Fixture List Individual Files'!$B$14:$F$63,4,FALSE))","v":""},{"$f":"IF(A837=\"\",\"\",VLOOKUP(A837,'Fixture List Individual Files'!$B$14:$F$63,5,FALSE))","v":""},"","",""]
[null,{"$f":"IF(A838=\"\",\"\",VLOOKUP(A838,'Fixture List Individual Files'!$B$14:$F$63,2,FALSE))","v":""},null,{"$f":"IF(A838=\"\",\"\",VLOOKUP(A838,'Fixture List Individual Files'!$B$14:$F$63,3,FALSE))","v":""},"",{"$f":"IF(A838=\"\",\"\",VLOOKUP(A838,'Fixture List Individual Files'!$B$14:$F$63,4,FALSE))","v":""},{"$f":"IF(A838=\"\",\"\",VLOOKUP(A838,'Fixture List Individual Files'!$B$14:$F$63,5,FALSE))","v":""},"","",""]
[null,{"$f":"IF(A839=\"\",\"\",VLOOKUP(A839,'Fixture List Individual Files'!$B$14:$F$63,2,FALSE))","v":""},null,{"$f":"IF(A839=\"\",\"\",VLOOKUP(A839,'Fixture List Individual Files'!$B$14:$F$63,3,FALSE))","v":""},"",{"$f":"IF(A839=\"\",\"\",VLOOKUP(A839,'Fixture List Individual Files'!$B$14:$F$63,4,FALSE))","v":""},{"$f":"IF(A839=\"\",\"\",VLOOKUP(A839,'Fixture List Individual Files'!$B$14:$F$63,5,FALSE))","v":""},"","",""]
[null,{"$f":"IF(A840=\"\",\"\",VLOOKUP(A840,'Fixture List Individual Files'!$B$14:$F$63,2,FALSE))","v":""},null,{"$f":"IF(A840=\"\",\"\",VLOOKUP(A840,'Fixture List Individual Files'!$B$14:$F$63,3,FALSE))","v":""},"",{"$f":"IF(A840=\"\",\"\",VLOOKUP(A840,'Fixture List Individual Files'!$B$14:$F$63,4,FALSE))","v":""},{"$f":"IF(A840=\"\",\"\",VLOOKUP(A840,'Fixture List Individual Files'!$B$14:$F$63,5,FALSE))","v":""},"","",""]
[null,{"$f":"IF(A841=\"\",\"\",VLOOKUP(A841,'Fixture List Individual Files'!$B$14:$F$63,2,FALSE))","v":""},null,{"$f":"IF(A841=\"\",\"\",VLOOKUP(A841,'Fixture List Individual Files'!$B$14:$F$63,3,FALSE))","v":""},"",{"$f":"IF(A841=\"\",\"\",VLOOKUP(A841,'Fixture List Individual Files'!$B$14:$F$63,4,FALSE))","v":""},{"$f":"IF(A841=\"\",\"\",VLOOKUP(A841,'Fixture List Individual Files'!$B$14:$F$63,5,FALSE))","v":""},"","",""]
[null,{"$f":"IF(A842=\"\",\"\",VLOOKUP(A842,'Fixture List Individual Files'!$B$14:$F$63,2,FALSE))","v":""},null,{"$f":"IF(A842=\"\",\"\",VLOOKUP(A842,'Fixture List Individual Files'!$B$14:$F$63,3,FALSE))","v":""},"",{"$f":"IF(A842=\"\",\"\",VLOOKUP(A842,'Fixture List Individual Files'!$B$14:$F$63,4,FALSE))","v":""},{"$f":"IF(A842=\"\",\"\",VLOOKUP(A842,'Fixture List Individual Files'!$B$14:$F$63,5,FALSE))","v":""},"","",""]
[null,{"$f":"IF(A843=\"\",\"\",VLOOKUP(A843,'Fixture List Individual Files'!$B$14:$F$63,2,FALSE))","v":""},null,{"$f":"IF(A843=\"\",\"\",VLOOKUP(A843,'Fixture List Individual Files'!$B$14:$F$63,3,FALSE))","v":""},"",{"$f":"IF(A843=\"\",\"\",VLOOKUP(A843,'Fixture List Individual Files'!$B$14:$F$63,4,FALSE))","v":""},{"$f":"IF(A843=\"\",\"\",VLOOKUP(A843,'Fixture List Individual Files'!$B$14:$F$63,5,FALSE))","v":""},"","",""]
[null,{"$f":"IF(A844=\"\",\"\",VLOOKUP(A844,'Fixture List Individual Files'!$B$14:$F$63,2,FALSE))","v":""},null,{"$f":"IF(A844=\"\",\"\",VLOOKUP(A844,'Fixture List Individual Files'!$B$14:$F$63,3,FALSE))","v":""},"",{"$f":"IF(A844=\"\",\"\",VLOOKUP(A844,'Fixture List Individual Files'!$B$14:$F$63,4,FALSE))","v":""},{"$f":"IF(A844=\"\",\"\",VLOOKUP(A844,'Fixture List Individual Files'!$B$14:$F$63,5,FALSE))","v":""},"","",""]
[null,{"$f":"IF(A845=\"\",\"\",VLOOKUP(A845,'Fixture List Individual Files'!$B$14:$F$63,2,FALSE))","v":""},null,{"$f":"IF(A845=\"\",\"\",VLOOKUP(A845,'Fixture List Individual Files'!$B$14:$F$63,3,FALSE))","v":""},"",{"$f":"IF(A845=\"\",\"\",VLOOKUP(A845,'Fixture List Individual Files'!$B$14:$F$63,4,FALSE))","v":""},{"$f":"IF(A845=\"\",\"\",VLOOKUP(A845,'Fixture List Individual Files'!$B$14:$F$63,5,FALSE))","v":""},"","",""]
[null,{"$f":"IF(A846=\"\",\"\",VLOOKUP(A846,'Fixture List Individual Files'!$B$14:$F$63,2,FALSE))","v":""},null,{"$f":"IF(A846=\"\",\"\",VLOOKUP(A846,'Fixture List Individual Files'!$B$14:$F$63,3,FALSE))","v":""},"",{"$f":"IF(A846=\"\",\"\",VLOOKUP(A846,'Fixture List Individual Files'!$B$14:$F$63,4,FALSE))","v":""},{"$f":"IF(A846=\"\",\"\",VLOOKUP(A846,'Fixture List Individual Files'!$B$14:$F$63,5,FALSE))","v":""},"","",""]
[null,{"$f":"IF(A847=\"\",\"\",VLOOKUP(A847,'Fixture List Individual Files'!$B$14:$F$63,2,FALSE))","v":""},null,{"$f":"IF(A847=\"\",\"\",VLOOKUP(A847,'Fixture List Individual Files'!$B$14:$F$63,3,FALSE))","v":""},"",{"$f":"IF(A847=\"\",\"\",VLOOKUP(A847,'Fixture List Individual Files'!$B$14:$F$63,4,FALSE))","v":""},{"$f":"IF(A847=\"\",\"\",VLOOKUP(A847,'Fixture List Individual Files'!$B$14:$F$63,5,FALSE))","v":""},"","",""]
[null,{"$f":"IF(A848=\"\",\"\",VLOOKUP(A848,'Fixture List Individual Files'!$B$14:$F$63,2,FALSE))","v":""},null,{"$f":"IF(A848=\"\",\"\",VLOOKUP(A848,'Fixture List Individual Files'!$B$14:$F$63,3,FALSE))","v":""},"",{"$f":"IF(A848=\"\",\"\",VLOOKUP(A848,'Fixture List Individual Files'!$B$14:$F$63,4,FALSE))","v":""},{"$f":"IF(A848=\"\",\"\",VLOOKUP(A848,'Fixture List Individual Files'!$B$14:$F$63,5,FALSE))","v":""},"","",""]
[null,{"$f":"IF(A849=\"\",\"\",VLOOKUP(A849,'Fixture List Individual Files'!$B$14:$F$63,2,FALSE))","v":""},null,{"$f":"IF(A849=\"\",\"\",VLOOKUP(A849,'Fixture List Individual Files'!$B$14:$F$63,3,FALSE))","v":""},"",{"$f":"IF(A849=\"\",\"\",VLOOKUP(A849,'Fixture List Individual Files'!$B$14:$F$63,4,FALSE))","v":""},{"$f":"IF(A849=\"\",\"\",VLOOKUP(A849,'Fixture List Individual Files'!$B$14:$F$63,5,FALSE))","v":""},"","",""]
[null,{"$f":"IF(A850=\"\",\"\",VLOOKUP(A850,'Fixture List Individual Files'!$B$14:$F$63,2,FALSE))","v":""},null,{"$f":"IF(A850=\"\",\"\",VLOOKUP(A850,'Fixture List Individual Files'!$B$14:$F$63,3,FALSE))","v":""},"",{"$f":"IF(A850=\"\",\"\",VLOOKUP(A850,'Fixture List Individual Files'!$B$14:$F$63,4,FALSE))","v":""},{"$f":"IF(A850=\"\",\"\",VLOOKUP(A850,'Fixture List Individual Files'!$B$14:$F$63,5,FALSE))","v":""},"","",""]
[null,{"$f":"IF(A851=\"\",\"\",VLOOKUP(A851,'Fixture List Individual Files'!$B$14:$F$63,2,FALSE))","v":""},null,{"$f":"IF(A851=\"\",\"\",VLOOKUP(A851,'Fixture List Individual Files'!$B$14:$F$63,3,FALSE))","v":""},"",{"$f":"IF(A851=\"\",\"\",VLOOKUP(A851,'Fixture List Individual Files'!$B$14:$F$63,4,FALSE))","v":""},{"$f":"IF(A851=\"\",\"\",VLOOKUP(A851,'Fixture List Individual Files'!$B$14:$F$63,5,FALSE))","v":""},"","",""]
[null,{"$f":"IF(A852=\"\",\"\",VLOOKUP(A852,'Fixture List Individual Files'!$B$14:$F$63,2,FALSE))","v":""},null,{"$f":"IF(A852=\"\",\"\",VLOOKUP(A852,'Fixture List Individual Files'!$B$14:$F$63,3,FALSE))","v":""},"",{"$f":"IF(A852=\"\",\"\",VLOOKUP(A852,'Fixture List Individual Files'!$B$14:$F$63,4,FALSE))","v":""},{"$f":"IF(A852=\"\",\"\",VLOOKUP(A852,'Fixture List Individual Files'!$B$14:$F$63,5,FALSE))","v":""},"","",""]
[null,{"$f":"IF(A853=\"\",\"\",VLOOKUP(A853,'Fixture List Individual Files'!$B$14:$F$63,2,FALSE))","v":""},null,{"$f":"IF(A853=\"\",\"\",VLOOKUP(A853,'Fixture List Individual Files'!$B$14:$F$63,3,FALSE))","v":""},"",{"$f":"IF(A853=\"\",\"\",VLOOKUP(A853,'Fixture List Individual Files'!$B$14:$F$63,4,FALSE))","v":""},{"$f":"IF(A853=\"\",\"\",VLOOKUP(A853,'Fixture List Individual Files'!$B$14:$F$63,5,FALSE))","v":""},"","",""]
[null,{"$f":"IF(A854=\"\",\"\",VLOOKUP(A854,'Fixture List Individual Files'!$B$14:$F$63,2,FALSE))","v":""},null,{"$f":"IF(A854=\"\",\"\",VLOOKUP(A854,'Fixture List Individual Files'!$B$14:$F$63,3,FALSE))","v":""},"",{"$f":"IF(A854=\"\",\"\",VLOOKUP(A854,'Fixture List Individual Files'!$B$14:$F$63,4,FALSE))","v":""},{"$f":"IF(A854=\"\",\"\",VLOOKUP(A854,'Fixture List Individual Files'!$B$14:$F$63,5,FALSE))","v":""},"","",""]
[null,{"$f":"IF(A855=\"\",\"\",VLOOKUP(A855,'Fixture List Individual Files'!$B$14:$F$63,2,FALSE))","v":""},null,{"$f":"IF(A855=\"\",\"\",VLOOKUP(A855,'Fixture List Individual Files'!$B$14:$F$63,3,FALSE))","v":""},"",{"$f":"IF(A855=\"\",\"\",VLOOKUP(A855,'Fixture List Individual Files'!$B$14:$F$63,4,FALSE))","v":""},{"$f":"IF(A855=\"\",\"\",VLOOKUP(A855,'Fixture List Individual Files'!$B$14:$F$63,5,FALSE))","v":""},"","",""]
[null,{"$f":"IF(A856=\"\",\"\",VLOOKUP(A856,'Fixture List Individual Files'!$B$14:$F$63,2,FALSE))","v":""},null,{"$f":"IF(A856=\"\",\"\",VLOOKUP(A856,'Fixture List Individual Files'!$B$14:$F$63,3,FALSE))","v":""},"",{"$f":"IF(A856=\"\",\"\",VLOOKUP(A856,'Fixture List Individual Files'!$B$14:$F$63,4,FALSE))","v":""},{"$f":"IF(A856=\"\",\"\",VLOOKUP(A856,'Fixture List Individual Files'!$B$14:$F$63,5,FALSE))","v":""},"","",""]
[null,{"$f":"IF(A857=\"\",\"\",VLOOKUP(A857,'Fixture List Individual Files'!$B$14:$F$63,2,FALSE))","v":""},null,{"$f":"IF(A857=\"\",\"\",VLOOKUP(A857,'Fixture List Individual Files'!$B$14:$F$63,3,FALSE))","v":""},"",{"$f":"IF(A857=\"\",\"\",VLOOKUP(A857,'Fixture List Individual Files'!$B$14:$F$63,4,FALSE))","v":""},{"$f":"IF(A857=\"\",\"\",VLOOKUP(A857,'Fixture List Individual Files'!$B$14:$F$63,5,FALSE))","v":""},"","",""]
[null,{"$f":"IF(A858=\"\",\"\",VLOOKUP(A858,'Fixture List Individual Files'!$B$14:$F$63,2,FALSE))","v":""},null,{"$f":"IF(A858=\"\",\"\",VLOOKUP(A858,'Fixture List Individual Files'!$B$14:$F$63,3,FALSE))","v":""},"",{"$f":"IF(A858=\"\",\"\",VLOOKUP(A858,'Fixture List Individual Files'!$B$14:$F$63,4,FALSE))","v":""},{"$f":"IF(A858=\"\",\"\",VLOOKUP(A858,'Fixture List Individual Files'!$B$14:$F$63,5,FALSE))","v":""},"","",""]
[null,{"$f":"IF(A859=\"\",\"\",VLOOKUP(A859,'Fixture List Individual Files'!$B$14:$F$63,2,FALSE))","v":""},null,{"$f":"IF(A859=\"\",\"\",VLOOKUP(A859,'Fixture List Individual Files'!$B$14:$F$63,3,FALSE))","v":""},"",{"$f":"IF(A859=\"\",\"\",VLOOKUP(A859,'Fixture List Individual Files'!$B$14:$F$63,4,FALSE))","v":""},{"$f":"IF(A859=\"\",\"\",VLOOKUP(A859,'Fixture List Individual Files'!$B$14:$F$63,5,FALSE))","v":""},"","",""]
[null,{"$f":"IF(A860=\"\",\"\",VLOOKUP(A860,'Fixture List Individual Files'!$B$14:$F$63,2,FALSE))","v":""},null,{"$f":"IF(A860=\"\",\"\",VLOOKUP(A860,'Fixture List Individual Files'!$B$14:$F$63,3,FALSE))","v":""},"",{"$f":"IF(A860=\"\",\"\",VLOOKUP(A860,'Fixture List Individual Files'!$B$14:$F$63,4,FALSE))","v":""},{"$f":"IF(A860=\"\",\"\",VLOOKUP(A860,'Fixture List Individual Files'!$B$14:$F$63,5,FALSE))","v":""},"","",""]
[null,{"$f":"IF(A861=\"\",\"\",VLOOKUP(A861,'Fixture List Individual Files'!$B$14:$F$63,2,FALSE))","v":""},null,{"$f":"IF(A861=\"\",\"\",VLOOKUP(A861,'Fixture List Individual Files'!$B$14:$F$63,3,FALSE))","v":""},"",{"$f":"IF(A861=\"\",\"\",VLOOKUP(A861,'Fixture List Individual Files'!$B$14:$F$63,4,FALSE))","v":""},{"$f":"IF(A861=\"\",\"\",VLOOKUP(A861,'Fixture List Individual Files'!$B$14:$F$63,5,FALSE))","v":""},"","",""]
[null,{"$f":"IF(A862=\"\",\"\",VLOOKUP(A862,'Fixture List Individual Files'!$B$14:$F$63,2,FALSE))","v":""},null,{"$f":"IF(A862=\"\",\"\",VLOOKUP(A862,'Fixture List Individual Files'!$B$14:$F$63,3,FALSE))","v":""},"",{"$f":"IF(A862=\"\",\"\",VLOOKUP(A862,'Fixture List Individual Files'!$B$14:$F$63,4,FALSE))","v":""},{"$f":"IF(A862=\"\",\"\",VLOOKUP(A862,'Fixture List Individual Files'!$B$14:$F$63,5,FALSE))","v":""},"","",""]
[null,{"$f":"IF(A863=\"\",\"\",VLOOKUP(A863,'Fixture List Individual Files'!$B$14:$F$63,2,FALSE))","v":""},null,{"$f":"IF(A863=\"\",\"\",VLOOKUP(A863,'Fixture List Individual Files'!$B$14:$F$63,3,FALSE))","v":""},"",{"$f":"IF(A863=\"\",\"\",VLOOKUP(A863,'Fixture List Individual Files'!$B$14:$F$63,4,FALSE))","v":""},{"$f":"IF(A863=\"\",\"\",VLOOKUP(A863,'Fixture List Individual Files'!$B$14:$F$63,5,FALSE))","v":""},"","",""]
[null,{"$f":"IF(A864=\"\",\"\",VLOOKUP(A864,'Fixture List Individual Files'!$B$14:$F$63,2,FALSE))","v":""},null,{"$f":"IF(A864=\"\",\"\",VLOOKUP(A864,'Fixture List Individual Files'!$B$14:$F$63,3,FALSE))","v":""},"",{"$f":"IF(A864=\"\",\"\",VLOOKUP(A864,'Fixture List Individual Files'!$B$14:$F$63,4,FALSE))","v":""},{"$f":"IF(A864=\"\",\"\",VLOOKUP(A864,'Fixture List Individual Files'!$B$14:$F$63,5,FALSE))","v":""},"","",""]
[null,{"$f":"IF(A865=\"\",\"\",VLOOKUP(A865,'Fixture List Individual Files'!$B$14:$F$63,2,FALSE))","v":""},null,{"$f":"IF(A865=\"\",\"\",VLOOKUP(A865,'Fixture List Individual Files'!$B$14:$F$63,3,FALSE))","v":""},"",{"$f":"IF(A865=\"\",\"\",VLOOKUP(A865,'Fixture List Individual Files'!$B$14:$F$63,4,FALSE))","v":""},{"$f":"IF(A865=\"\",\"\",VLOOKUP(A865,'Fixture List Individual Files'!$B$14:$F$63,5,FALSE))","v":""},"","",""]
[null,{"$f":"IF(A866=\"\",\"\",VLOOKUP(A866,'Fixture List Individual Files'!$B$14:$F$63,2,FALSE))","v":""},null,{"$f":"IF(A866=\"\",\"\",VLOOKUP(A866,'Fixture List Individual Files'!$B$14:$F$63,3,FALSE))","v":""},"",{"$f":"IF(A866=\"\",\"\",VLOOKUP(A866,'Fixture List Individual Files'!$B$14:$F$63,4,FALSE))","v":""},{"$f":"IF(A866=\"\",\"\",VLOOKUP(A866,'Fixture List Individual Files'!$B$14:$F$63,5,FALSE))","v":""},"","",""]
[null,{"$f":"IF(A867=\"\",\"\",VLOOKUP(A867,'Fixture List Individual Files'!$B$14:$F$63,2,FALSE))","v":""},null,{"$f":"IF(A867=\"\",\"\",VLOOKUP(A867,'Fixture List Individual Files'!$B$14:$F$63,3,FALSE))","v":""},"",{"$f":"IF(A867=\"\",\"\",VLOOKUP(A867,'Fixture List Individual Files'!$B$14:$F$63,4,FALSE))","v":""},{"$f":"IF(A867=\"\",\"\",VLOOKUP(A867,'Fixture List Individual Files'!$B$14:$F$63,5,FALSE))","v":""},"","",""]
[null,{"$f":"IF(A868=\"\",\"\",VLOOKUP(A868,'Fixture List Individual Files'!$B$14:$F$63,2,FALSE))","v":""},null,{"$f":"IF(A868=\"\",\"\",VLOOKUP(A868,'Fixture List Individual Files'!$B$14:$F$63,3,FALSE))","v":""},"",{"$f":"IF(A868=\"\",\"\",VLOOKUP(A868,'Fixture List Individual Files'!$B$14:$F$63,4,FALSE))","v":""},{"$f":"IF(A868=\"\",\"\",VLOOKUP(A868,'Fixture List Individual Files'!$B$14:$F$63,5,FALSE))","v":""},"","",""]
[null,"Totals:",{"$f":"SUM(C833:C868)","v":0},null,{"$f":"SUM(E833:E868)","v":0},{"$f":"SUMIF(F833:F868,\"Yes\",E833:E868)","v":0},null,{"$f":"SUM(H833:H868)","v":{"v":0,"d":"0.000"}},{"$f":"SUM(I833:I868)","v":0},0]
[]
["Area 21",{"$nulls":4},"NLC area factor:",{"$nulls":3},{"$f":"IF(VLOOKUP(A871,'Start Here!'!$N$46:$Q$70,4,FALSE)=0,VLOOKUP(Facility_Type,Admin_Lists!$A$63:$B$66,2,FALSE),VLOOKUP(A871,'Start Here!'!$N$46:$Q$70,4,FALSE))","v":{"$error":"#N/A"}}]
["Type:","Choose from Drop-down",null,null,{"$f":"IFERROR(VLOOKUP(B872,Admin_Lists!$A$9:$B$49,2,FALSE),\"\")","v":0},"W/sq ft",{"$nulls":3},{"$f":"VLOOKUP(A871,'Start Here!'!$N$46:$O$70,2,FALSE)","v":0}]
[null,{"$f":"\"Area Description: \"&'Sq. Ft. Area Individual Files'!D916","v":"Area Description: "},{"$nulls":3},"Sq Ft: ",{"$f":"'Sq. Ft. Area Individual Files'!C917","v":0}]
["Fixture Mark","Fixture\nName","Fixture\nCount","Fixture Watts","Total Watts \n(Fixt Count \nx Fixt Watts)","NLC Controls (Yes/No)","Space type","NLC Controls Savings"]
[{"$nulls":7},"Peak kW Savings","Annual kWh Savings","LC kWh Savings"]
[null,{"$f":"IF(A876=\"\",\"\",VLOOKUP(A876,'Fixture List Individual Files'!$B$14:$F$63,2,FALSE))","v":""},null,{"$f":"IF(A876=\"\",\"\",VLOOKUP(A876,'Fixture List Individual Files'!$B$14:$F$63,3,FALSE))","v":""},{"$f":"IF(D876=\"\",\"\",C876*D876)","v":""},{"$f":"IF(A876=\"\",\"\",VLOOKUP(A876,'Fixture List Individual Files'!$B$14:$F$63,4,FALSE))","v":""},{"$f":"IF(A876=\"\",\"\",VLOOKUP(A876,'Fixture List Individual Files'!$B$14:$F$63,5,FALSE))","v":""},{"$f":"IF(AND(F876=\"Yes\",Facility_Type=\"Commercial\"),(SFE_Commercial-SFBASE_Commercial)*E876/1000*$J$872,IF(AND(F876=\"Yes\",Facility_Type=\"Industrial\",G876=\"Non-High Bay\"),(SFE_Industrial-SFBASE_Industrial)*E876/1000*$J$872,IF(AND(F876=\"Yes\",Facility_Type=\"Schools & Government\",G876=\"Non-High Bay\"),((SFE_SG-SFBASE_SG)*E876/1000*$J$872),\"\")))","v":""},{"$f":"IF(AND(F876=\"Yes\",Facility_Type=\"Commercial\"),(SFE_Commercial-SFBASE_Commercial)*E876/1000*$J$871,IF(AND(F876=\"Yes\",Facility_Type=\"Industrial\",G876=\"Non-High Bay\"),(SFE_Industrial-SFBASE_Industrial)*E876/1000*$J$871,IF(AND(F876=\"Yes\",Facility_Type=\"Schools & Government\",G876=\"Non-High Bay\"),((SFE_SG-SFBASE_SG)*E876/1000*$J$871),\"\")))","v":""},{"$f":"IFERROR(I876*EUL_for_NLC,\"\")","v":""}]
[null,{"$f":"IF(A877=\"\",\"\",VLOOKUP(A877,'Fixture List Individual Files'!$B$14:$F$63,2,FALSE))","v":""},null,{"$f":"IF(A877=\"\",\"\",VLOOKUP(A877,'Fixture List Individual Files'!$B$14:$F$63,3,FALSE))","v":""},{"$f":"IF(D877=\"\",\"\",C877*D877)","v":""},{"$f":"IF(A877=\"\",\"\",VLOOKUP(A877,'Fixture List Individual Files'!$B$14:$F$63,4,FALSE))","v":""},{"$f":"IF(A877=\"\",\"\",VLOOKUP(A877,'Fixture List Individual Files'!$B$14:$F$63,5,FALSE))","v":""},"","",{"$f":"IFERROR(I877*EUL_for_NLC,\"\")","v":""}]
[null,{"$f":"IF(A878=\"\",\"\",VLOOKUP(A878,'Fixture List Individual Files'!$B$14:$F$63,2,FALSE))","v":""},null,{"$f":"IF(A878=\"\",\"\",VLOOKUP(A878,'Fixture List Individual Files'!$B$14:$F$63,3,FALSE))","v":""},"",{"$f":"IF(A878=\"\",\"\",VLOOKUP(A878,'Fixture List Individual Files'!$B$14:$F$63,4,FALSE))","v":""},{"$f":"IF(A878=\"\",\"\",VLOOKUP(A878,'Fixture List Individual Files'!$B$14:$F$63,5,FALSE))","v":""},"","",""]
[null,{"$f":"IF(A879=\"\",\"\",VLOOKUP(A879,'Fixture List Individual Files'!$B$14:$F$63,2,FALSE))","v":""},null,{"$f":"IF(A879=\"\",\"\",VLOOKUP(A879,'Fixture List Individual Files'!$B$14:$F$63,3,FALSE))","v":""},"",{"$f":"IF(A879=\"\",\"\",VLOOKUP(A879,'Fixture List Individual Files'!$B$14:$F$63,4,FALSE))","v":""},{"$f":"IF(A879=\"\",\"\",VLOOKUP(A879,'Fixture List Individual Files'!$B$14:$F$63,5,FALSE))","v":""},"","",""]
[null,{"$f":"IF(A880=\"\",\"\",VLOOKUP(A880,'Fixture List Individual Files'!$B$14:$F$63,2,FALSE))","v":""},null,{"$f":"IF(A880=\"\",\"\",VLOOKUP(A880,'Fixture List Individual Files'!$B$14:$F$63,3,FALSE))","v":""},"",{"$f":"IF(A880=\"\",\"\",VLOOKUP(A880,'Fixture List Individual Files'!$B$14:$F$63,4,FALSE))","v":""},{"$f":"IF(A880=\"\",\"\",VLOOKUP(A880,'Fixture List Individual Files'!$B$14:$F$63,5,FALSE))","v":""},"","",""]
[null,{"$f":"IF(A881=\"\",\"\",VLOOKUP(A881,'Fixture List Individual Files'!$B$14:$F$63,2,FALSE))","v":""},null,{"$f":"IF(A881=\"\",\"\",VLOOKUP(A881,'Fixture List Individual Files'!$B$14:$F$63,3,FALSE))","v":""},"",{"$f":"IF(A881=\"\",\"\",VLOOKUP(A881,'Fixture List Individual Files'!$B$14:$F$63,4,FALSE))","v":""},{"$f":"IF(A881=\"\",\"\",VLOOKUP(A881,'Fixture List Individual Files'!$B$14:$F$63,5,FALSE))","v":""},"","",""]
[null,{"$f":"IF(A882=\"\",\"\",VLOOKUP(A882,'Fixture List Individual Files'!$B$14:$F$63,2,FALSE))","v":""},null,{"$f":"IF(A882=\"\",\"\",VLOOKUP(A882,'Fixture List Individual Files'!$B$14:$F$63,3,FALSE))","v":""},"",{"$f":"IF(A882=\"\",\"\",VLOOKUP(A882,'Fixture List Individual Files'!$B$14:$F$63,4,FALSE))","v":""},{"$f":"IF(A882=\"\",\"\",VLOOKUP(A882,'Fixture List Individual Files'!$B$14:$F$63,5,FALSE))","v":""},"","",""]
[null,{"$f":"IF(A883=\"\",\"\",VLOOKUP(A883,'Fixture List Individual Files'!$B$14:$F$63,2,FALSE))","v":""},null,{"$f":"IF(A883=\"\",\"\",VLOOKUP(A883,'Fixture List Individual Files'!$B$14:$F$63,3,FALSE))","v":""},"",{"$f":"IF(A883=\"\",\"\",VLOOKUP(A883,'Fixture List Individual Files'!$B$14:$F$63,4,FALSE))","v":""},{"$f":"IF(A883=\"\",\"\",VLOOKUP(A883,'Fixture List Individual Files'!$B$14:$F$63,5,FALSE))","v":""},"","",""]
[null,{"$f":"IF(A884=\"\",\"\",VLOOKUP(A884,'Fixture List Individual Files'!$B$14:$F$63,2,FALSE))","v":""},null,{"$f":"IF(A884=\"\",\"\",VLOOKUP(A884,'Fixture List Individual Files'!$B$14:$F$63,3,FALSE))","v":""},"",{"$f":"IF(A884=\"\",\"\",VLOOKUP(A884,'Fixture List Individual Files'!$B$14:$F$63,4,FALSE))","v":""},{"$f":"IF(A884=\"\",\"\",VLOOKUP(A884,'Fixture List Individual Files'!$B$14:$F$63,5,FALSE))","v":""},"","",""]
[null,{"$f":"IF(A885=\"\",\"\",VLOOKUP(A885,'Fixture List Individual Files'!$B$14:$F$63,2,FALSE))","v":""},null,{"$f":"IF(A885=\"\",\"\",VLOOKUP(A885,'Fixture List Individual Files'!$B$14:$F$63,3,FALSE))","v":""},"",{"$f":"IF(A885=\"\",\"\",VLOOKUP(A885,'Fixture List Individual Files'!$B$14:$F$63,4,FALSE))","v":""},{"$f":"IF(A885=\"\",\"\",VLOOKUP(A885,'Fixture List Individual Files'!$B$14:$F$63,5,FALSE))","v":""},"","",""]
[null,{"$f":"IF(A886=\"\",\"\",VLOOKUP(A886,'Fixture List Individual Files'!$B$14:$F$63,2,FALSE))","v":""},null,{"$f":"IF(A886=\"\",\"\",VLOOKUP(A886,'Fixture List Individual Files'!$B$14:$F$63,3,FALSE))","v":""},"",{"$f":"IF(A886=\"\",\"\",VLOOKUP(A886,'Fixture List Individual Files'!$B$14:$F$63,4,FALSE))","v":""},{"$f":"IF(A886=\"\",\"\",VLOOKUP(A886,'Fixture List Individual Files'!$B$14:$F$63,5,FALSE))","v":""},"","",""]
[null,{"$f":"IF(A887=\"\",\"\",VLOOKUP(A887,'Fixture List Individual Files'!$B$14:$F$63,2,FALSE))","v":""},null,{"$f":"IF(A887=\"\",\"\",VLOOKUP(A887,'Fixture List Individual Files'!$B$14:$F$63,3,FALSE))","v":""},"",{"$f":"IF(A887=\"\",\"\",VLOOKUP(A887,'Fixture List Individual Files'!$B$14:$F$63,4,FALSE))","v":""},{"$f":"IF(A887=\"\",\"\",VLOOKUP(A887,'Fixture List Individual Files'!$B$14:$F$63,5,FALSE))","v":""},"","",""]
[null,{"$f":"IF(A888=\"\",\"\",VLOOKUP(A888,'Fixture List Individual Files'!$B$14:$F$63,2,FALSE))","v":""},null,{"$f":"IF(A888=\"\",\"\",VLOOKUP(A888,'Fixture List Individual Files'!$B$14:$F$63,3,FALSE))","v":""},"",{"$f":"IF(A888=\"\",\"\",VLOOKUP(A888,'Fixture List Individual Files'!$B$14:$F$63,4,FALSE))","v":""},{"$f":"IF(A888=\"\",\"\",VLOOKUP(A888,'Fixture List Individual Files'!$B$14:$F$63,5,FALSE))","v":""},"","",""]
[null,{"$f":"IF(A889=\"\",\"\",VLOOKUP(A889,'Fixture List Individual Files'!$B$14:$F$63,2,FALSE))","v":""},null,{"$f":"IF(A889=\"\",\"\",VLOOKUP(A889,'Fixture List Individual Files'!$B$14:$F$63,3,FALSE))","v":""},"",{"$f":"IF(A889=\"\",\"\",VLOOKUP(A889,'Fixture List Individual Files'!$B$14:$F$63,4,FALSE))","v":""},{"$f":"IF(A889=\"\",\"\",VLOOKUP(A889,'Fixture List Individual Files'!$B$14:$F$63,5,FALSE))","v":""},"","",""]
[null,{"$f":"IF(A890=\"\",\"\",VLOOKUP(A890,'Fixture List Individual Files'!$B$14:$F$63,2,FALSE))","v":""},null,{"$f":"IF(A890=\"\",\"\",VLOOKUP(A890,'Fixture List Individual Files'!$B$14:$F$63,3,FALSE))","v":""},"",{"$f":"IF(A890=\"\",\"\",VLOOKUP(A890,'Fixture List Individual Files'!$B$14:$F$63,4,FALSE))","v":""},{"$f":"IF(A890=\"\",\"\",VLOOKUP(A890,'Fixture List Individual Files'!$B$14:$F$63,5,FALSE))","v":""},"","",""]
[null,{"$f":"IF(A891=\"\",\"\",VLOOKUP(A891,'Fixture List Individual Files'!$B$14:$F$63,2,FALSE))","v":""},null,{"$f":"IF(A891=\"\",\"\",VLOOKUP(A891,'Fixture List Individual Files'!$B$14:$F$63,3,FALSE))","v":""},"",{"$f":"IF(A891=\"\",\"\",VLOOKUP(A891,'Fixture List Individual Files'!$B$14:$F$63,4,FALSE))","v":""},{"$f":"IF(A891=\"\",\"\",VLOOKUP(A891,'Fixture List Individual Files'!$B$14:$F$63,5,FALSE))","v":""},"","",""]
[null,{"$f":"IF(A892=\"\",\"\",VLOOKUP(A892,'Fixture List Individual Files'!$B$14:$F$63,2,FALSE))","v":""},null,{"$f":"IF(A892=\"\",\"\",VLOOKUP(A892,'Fixture List Individual Files'!$B$14:$F$63,3,FALSE))","v":""},"",{"$f":"IF(A892=\"\",\"\",VLOOKUP(A892,'Fixture List Individual Files'!$B$14:$F$63,4,FALSE))","v":""},{"$f":"IF(A892=\"\",\"\",VLOOKUP(A892,'Fixture List Individual Files'!$B$14:$F$63,5,FALSE))","v":""},"","",""]
[null,{"$f":"IF(A893=\"\",\"\",VLOOKUP(A893,'Fixture List Individual Files'!$B$14:$F$63,2,FALSE))","v":""},null,{"$f":"IF(A893=\"\",\"\",VLOOKUP(A893,'Fixture List Individual Files'!$B$14:$F$63,3,FALSE))","v":""},"",{"$f":"IF(A893=\"\",\"\",VLOOKUP(A893,'Fixture List Individual Files'!$B$14:$F$63,4,FALSE))","v":""},{"$f":"IF(A893=\"\",\"\",VLOOKUP(A893,'Fixture List Individual Files'!$B$14:$F$63,5,FALSE))","v":""},"","",""]
[null,{"$f":"IF(A894=\"\",\"\",VLOOKUP(A894,'Fixture List Individual Files'!$B$14:$F$63,2,FALSE))","v":""},null,{"$f":"IF(A894=\"\",\"\",VLOOKUP(A894,'Fixture List Individual Files'!$B$14:$F$63,3,FALSE))","v":""},"",{"$f":"IF(A894=\"\",\"\",VLOOKUP(A894,'Fixture List Individual Files'!$B$14:$F$63,4,FALSE))","v":""},{"$f":"IF(A894=\"\",\"\",VLOOKUP(A894,'Fixture List Individual Files'!$B$14:$F$63,5,FALSE))","v":""},"","",""]
[null,{"$f":"IF(A895=\"\",\"\",VLOOKUP(A895,'Fixture List Individual Files'!$B$14:$F$63,2,FALSE))","v":""},null,{"$f":"IF(A895=\"\",\"\",VLOOKUP(A895,'Fixture List Individual Files'!$B$14:$F$63,3,FALSE))","v":""},"",{"$f":"IF(A895=\"\",\"\",VLOOKUP(A895,'Fixture List Individual Files'!$B$14:$F$63,4,FALSE))","v":""},{"$f":"IF(A895=\"\",\"\",VLOOKUP(A895,'Fixture List Individual Files'!$B$14:$F$63,5,FALSE))","v":""},"","",""]
[null,{"$f":"IF(A896=\"\",\"\",VLOOKUP(A896,'Fixture List Individual Files'!$B$14:$F$63,2,FALSE))","v":""},null,{"$f":"IF(A896=\"\",\"\",VLOOKUP(A896,'Fixture List Individual Files'!$B$14:$F$63,3,FALSE))","v":""},"",{"$f":"IF(A896=\"\",\"\",VLOOKUP(A896,'Fixture List Individual Files'!$B$14:$F$63,4,FALSE))","v":""},{"$f":"IF(A896=\"\",\"\",VLOOKUP(A896,'Fixture List Individual Files'!$B$14:$F$63,5,FALSE))","v":""},"","",""]
[null,{"$f":"IF(A897=\"\",\"\",VLOOKUP(A897,'Fixture List Individual Files'!$B$14:$F$63,2,FALSE))","v":""},null,{"$f":"IF(A897=\"\",\"\",VLOOKUP(A897,'Fixture List Individual Files'!$B$14:$F$63,3,FALSE))","v":""},"",{"$f":"IF(A897=\"\",\"\",VLOOKUP(A897,'Fixture List Individual Files'!$B$14:$F$63,4,FALSE))","v":""},{"$f":"IF(A897=\"\",\"\",VLOOKUP(A897,'Fixture List Individual Files'!$B$14:$F$63,5,FALSE))","v":""},"","",""]
[null,{"$f":"IF(A898=\"\",\"\",VLOOKUP(A898,'Fixture List Individual Files'!$B$14:$F$63,2,FALSE))","v":""},null,{"$f":"IF(A898=\"\",\"\",VLOOKUP(A898,'Fixture List Individual Files'!$B$14:$F$63,3,FALSE))","v":""},"",{"$f":"IF(A898=\"\",\"\",VLOOKUP(A898,'Fixture List Individual Files'!$B$14:$F$63,4,FALSE))","v":""},{"$f":"IF(A898=\"\",\"\",VLOOKUP(A898,'Fixture List Individual Files'!$B$14:$F$63,5,FALSE))","v":""},"","",""]
[null,{"$f":"IF(A899=\"\",\"\",VLOOKUP(A899,'Fixture List Individual Files'!$B$14:$F$63,2,FALSE))","v":""},null,{"$f":"IF(A899=\"\",\"\",VLOOKUP(A899,'Fixture List Individual Files'!$B$14:$F$63,3,FALSE))","v":""},"",{"$f":"IF(A899=\"\",\"\",VLOOKUP(A899,'Fixture List Individual Files'!$B$14:$F$63,4,FALSE))","v":""},{"$f":"IF(A899=\"\",\"\",VLOOKUP(A899,'Fixture List Individual Files'!$B$14:$F$63,5,FALSE))","v":""},"","",""]
[null,{"$f":"IF(A900=\"\",\"\",VLOOKUP(A900,'Fixture List Individual Files'!$B$14:$F$63,2,FALSE))","v":""},null,{"$f":"IF(A900=\"\",\"\",VLOOKUP(A900,'Fixture List Individual Files'!$B$14:$F$63,3,FALSE))","v":""},"",{"$f":"IF(A900=\"\",\"\",VLOOKUP(A900,'Fixture List Individual Files'!$B$14:$F$63,4,FALSE))","v":""},{"$f":"IF(A900=\"\",\"\",VLOOKUP(A900,'Fixture List Individual Files'!$B$14:$F$63,5,FALSE))","v":""},"","",""]
[null,{"$f":"IF(A901=\"\",\"\",VLOOKUP(A901,'Fixture List Individual Files'!$B$14:$F$63,2,FALSE))","v":""},null,{"$f":"IF(A901=\"\",\"\",VLOOKUP(A901,'Fixture List Individual Files'!$B$14:$F$63,3,FALSE))","v":""},"",{"$f":"IF(A901=\"\",\"\",VLOOKUP(A901,'Fixture List Individual Files'!$B$14:$F$63,4,FALSE))","v":""},{"$f":"IF(A901=\"\",\"\",VLOOKUP(A901,'Fixture List Individual Files'!$B$14:$F$63,5,FALSE))","v":""},"","",""]
[null,{"$f":"IF(A902=\"\",\"\",VLOOKUP(A902,'Fixture List Individual Files'!$B$14:$F$63,2,FALSE))","v":""},null,{"$f":"IF(A902=\"\",\"\",VLOOKUP(A902,'Fixture List Individual Files'!$B$14:$F$63,3,FALSE))","v":""},"",{"$f":"IF(A902=\"\",\"\",VLOOKUP(A902,'Fixture List Individual Files'!$B$14:$F$63,4,FALSE))","v":""},{"$f":"IF(A902=\"\",\"\",VLOOKUP(A902,'Fixture List Individual Files'!$B$14:$F$63,5,FALSE))","v":""},"","",""]
[null,{"$f":"IF(A903=\"\",\"\",VLOOKUP(A903,'Fixture List Individual Files'!$B$14:$F$63,2,FALSE))","v":""},null,{"$f":"IF(A903=\"\",\"\",VLOOKUP(A903,'Fixture List Individual Files'!$B$14:$F$63,3,FALSE))","v":""},"",{"$f":"IF(A903=\"\",\"\",VLOOKUP(A903,'Fixture List Individual Files'!$B$14:$F$63,4,FALSE))","v":""},{"$f":"IF(A903=\"\",\"\",VLOOKUP(A903,'Fixture List Individual Files'!$B$14:$F$63,5,FALSE))","v":""},"","",""]
[null,{"$f":"IF(A904=\"\",\"\",VLOOKUP(A904,'Fixture List Individual Files'!$B$14:$F$63,2,FALSE))","v":""},null,{"$f":"IF(A904=\"\",\"\",VLOOKUP(A904,'Fixture List Individual Files'!$B$14:$F$63,3,FALSE))","v":""},"",{"$f":"IF(A904=\"\",\"\",VLOOKUP(A904,'Fixture List Individual Files'!$B$14:$F$63,4,FALSE))","v":""},{"$f":"IF(A904=\"\",\"\",VLOOKUP(A904,'Fixture List Individual Files'!$B$14:$F$63,5,FALSE))","v":""},"","",""]
[null,{"$f":"IF(A905=\"\",\"\",VLOOKUP(A905,'Fixture List Individual Files'!$B$14:$F$63,2,FALSE))","v":""},null,{"$f":"IF(A905=\"\",\"\",VLOOKUP(A905,'Fixture List Individual Files'!$B$14:$F$63,3,FALSE))","v":""},"",{"$f":"IF(A905=\"\",\"\",VLOOKUP(A905,'Fixture List Individual Files'!$B$14:$F$63,4,FALSE))","v":""},{"$f":"IF(A905=\"\",\"\",VLOOKUP(A905,'Fixture List Individual Files'!$B$14:$F$63,5,FALSE))","v":""},"","",""]
[null,{"$f":"IF(A906=\"\",\"\",VLOOKUP(A906,'Fixture List Individual Files'!$B$14:$F$63,2,FALSE))","v":""},null,{"$f":"IF(A906=\"\",\"\",VLOOKUP(A906,'Fixture List Individual Files'!$B$14:$F$63,3,FALSE))","v":""},"",{"$f":"IF(A906=\"\",\"\",VLOOKUP(A906,'Fixture List Individual Files'!$B$14:$F$63,4,FALSE))","v":""},{"$f":"IF(A906=\"\",\"\",VLOOKUP(A906,'Fixture List Individual Files'!$B$14:$F$63,5,FALSE))","v":""},"","",""]
[null,{"$f":"IF(A907=\"\",\"\",VLOOKUP(A907,'Fixture List Individual Files'!$B$14:$F$63,2,FALSE))","v":""},null,{"$f":"IF(A907=\"\",\"\",VLOOKUP(A907,'Fixture List Individual Files'!$B$14:$F$63,3,FALSE))","v":""},"",{"$f":"IF(A907=\"\",\"\",VLOOKUP(A907,'Fixture List Individual Files'!$B$14:$F$63,4,FALSE))","v":""},{"$f":"IF(A907=\"\",\"\",VLOOKUP(A907,'Fixture List Individual Files'!$B$14:$F$63,5,FALSE))","v":""},"","",""]
[null,{"$f":"IF(A908=\"\",\"\",VLOOKUP(A908,'Fixture List Individual Files'!$B$14:$F$63,2,FALSE))","v":""},null,{"$f":"IF(A908=\"\",\"\",VLOOKUP(A908,'Fixture List Individual Files'!$B$14:$F$63,3,FALSE))","v":""},"",{"$f":"IF(A908=\"\",\"\",VLOOKUP(A908,'Fixture List Individual Files'!$B$14:$F$63,4,FALSE))","v":""},{"$f":"IF(A908=\"\",\"\",VLOOKUP(A908,'Fixture List Individual Files'!$B$14:$F$63,5,FALSE))","v":""},"","",""]
[null,{"$f":"IF(A909=\"\",\"\",VLOOKUP(A909,'Fixture List Individual Files'!$B$14:$F$63,2,FALSE))","v":""},null,{"$f":"IF(A909=\"\",\"\",VLOOKUP(A909,'Fixture List Individual Files'!$B$14:$F$63,3,FALSE))","v":""},"",{"$f":"IF(A909=\"\",\"\",VLOOKUP(A909,'Fixture List Individual Files'!$B$14:$F$63,4,FALSE))","v":""},{"$f":"IF(A909=\"\",\"\",VLOOKUP(A909,'Fixture List Individual Files'!$B$14:$F$63,5,FALSE))","v":""},"","",""]
[null,{"$f":"IF(A910=\"\",\"\",VLOOKUP(A910,'Fixture List Individual Files'!$B$14:$F$63,2,FALSE))","v":""},null,{"$f":"IF(A910=\"\",\"\",VLOOKUP(A910,'Fixture List Individual Files'!$B$14:$F$63,3,FALSE))","v":""},"",{"$f":"IF(A910=\"\",\"\",VLOOKUP(A910,'Fixture List Individual Files'!$B$14:$F$63,4,FALSE))","v":""},{"$f":"IF(A910=\"\",\"\",VLOOKUP(A910,'Fixture List Individual Files'!$B$14:$F$63,5,FALSE))","v":""},"","",""]
[null,{"$f":"IF(A911=\"\",\"\",VLOOKUP(A911,'Fixture List Individual Files'!$B$14:$F$63,2,FALSE))","v":""},null,{"$f":"IF(A911=\"\",\"\",VLOOKUP(A911,'Fixture List Individual Files'!$B$14:$F$63,3,FALSE))","v":""},"",{"$f":"IF(A911=\"\",\"\",VLOOKUP(A911,'Fixture List Individual Files'!$B$14:$F$63,4,FALSE))","v":""},{"$f":"IF(A911=\"\",\"\",VLOOKUP(A911,'Fixture List Individual Files'!$B$14:$F$63,5,FALSE))","v":""},"","",""]
[null,"Totals:",{"$f":"SUM(C876:C911)","v":0},null,{"$f":"SUM(E876:E911)","v":0},{"$f":"SUMIF(F876:F911,\"Yes\",E876:E911)","v":0},null,{"$f":"SUM(H876:H911)","v":{"v":0,"d":"0.000"}},{"$f":"SUM(I876:I911)","v":0},0]
[]
["Area 22",{"$nulls":4},"NLC area factor:",{"$nulls":3},{"$f":"IF(VLOOKUP(A914,'Start Here!'!$N$46:$Q$70,4,FALSE)=0,VLOOKUP(Facility_Type,Admin_Lists!$A$63:$B$66,2,FALSE),VLOOKUP(A914,'Start Here!'!$N$46:$Q$70,4,FALSE))","v":{"$error":"#N/A"}}]
["Type:","Choose from Drop-down",null,null,{"$f":"IFERROR(VLOOKUP(B915,Admin_Lists!$A$9:$B$49,2,FALSE),\"\")","v":0},"W/sq ft",{"$nulls":3},{"$f":"VLOOKUP(A914,'Start Here!'!$N$46:$O$70,2,FALSE)","v":0}]
[null,{"$f":"\"Area Description: \"&'Sq. Ft. Area Individual Files'!D920","v":"Area Description: "},{"$nulls":3},"Sq Ft: ",{"$f":"'Sq. Ft. Area Individual Files'!C921","v":0}]
["Fixture Mark","Fixture\nName","Fixture\nCount","Fixture Watts","Total Watts \n(Fixt Count \nx Fixt Watts)","NLC Controls (Yes/No)","Space type","NLC Controls Savings"]
[{"$nulls":7},"Peak kW Savings","Annual kWh Savings","LC kWh Savings"]
[null,{"$f":"IF(A919=\"\",\"\",VLOOKUP(A919,'Fixture List Individual Files'!$B$14:$F$63,2,FALSE))","v":""},null,{"$f":"IF(A919=\"\",\"\",VLOOKUP(A919,'Fixture List Individual Files'!$B$14:$F$63,3,FALSE))","v":""},{"$f":"IF(D919=\"\",\"\",C919*D919)","v":""},{"$f":"IF(A919=\"\",\"\",VLOOKUP(A919,'Fixture List Individual Files'!$B$14:$F$63,4,FALSE))","v":""},{"$f":"IF(A919=\"\",\"\",VLOOKUP(A919,'Fixture List Individual Files'!$B$14:$F$63,5,FALSE))","v":""},{"$f":"IF(AND(F919=\"Yes\",Facility_Type=\"Commercial\"),(SFE_Commercial-SFBASE_Commercial)*E919/1000*$J$915,IF(AND(F919=\"Yes\",Facility_Type=\"Industrial\",G919=\"Non-High Bay\"),(SFE_Industrial-SFBASE_Industrial)*E919/1000*$J$915,IF(AND(F919=\"Yes\",Facility_Type=\"Schools & Government\",G919=\"Non-High Bay\"),((SFE_SG-SFBASE_SG)*E919/1000*$J$915),\"\")))","v":""},{"$f":"IF(AND(F919=\"Yes\",Facility_Type=\"Commercial\"),(SFE_Commercial-SFBASE_Commercial)*E919/1000*$J$914,IF(AND(F919=\"Yes\",Facility_Type=\"Industrial\",G919=\"Non-High Bay\"),(SFE_Industrial-SFBASE_Industrial)*E919/1000*$J$914,IF(AND(F919=\"Yes\",Facility_Type=\"Schools & Government\",G919=\"Non-High Bay\"),((SFE_SG-SFBASE_SG)*E919/1000*$J$914),\"\")))","v":""},{"$f":"IFERROR(I919*EUL_for_NLC,\"\")","v":""}]
[null,{"$f":"IF(A920=\"\",\"\",VLOOKUP(A920,'Fixture List Individual Files'!$B$14:$F$63,2,FALSE))","v":""},null,{"$f":"IF(A920=\"\",\"\",VLOOKUP(A920,'Fixture List Individual Files'!$B$14:$F$63,3,FALSE))","v":""},{"$f":"IF(D920=\"\",\"\",C920*D920)","v":""},{"$f":"IF(A920=\"\",\"\",VLOOKUP(A920,'Fixture List Individual Files'!$B$14:$F$63,4,FALSE))","v":""},{"$f":"IF(A920=\"\",\"\",VLOOKUP(A920,'Fixture List Individual Files'!$B$14:$F$63,5,FALSE))","v":""},"","",""]
[null,{"$f":"IF(A921=\"\",\"\",VLOOKUP(A921,'Fixture List Individual Files'!$B$14:$F$63,2,FALSE))","v":""},null,{"$f":"IF(A921=\"\",\"\",VLOOKUP(A921,'Fixture List Individual Files'!$B$14:$F$63,3,FALSE))","v":""},"",{"$f":"IF(A921=\"\",\"\",VLOOKUP(A921,'Fixture List Individual Files'!$B$14:$F$63,4,FALSE))","v":""},{"$f":"IF(A921=\"\",\"\",VLOOKUP(A921,'Fixture List Individual Files'!$B$14:$F$63,5,FALSE))","v":""},"","",""]
[null,{"$f":"IF(A922=\"\",\"\",VLOOKUP(A922,'Fixture List Individual Files'!$B$14:$F$63,2,FALSE))","v":""},null,{"$f":"IF(A922=\"\",\"\",VLOOKUP(A922,'Fixture List Individual Files'!$B$14:$F$63,3,FALSE))","v":""},"",{"$f":"IF(A922=\"\",\"\",VLOOKUP(A922,'Fixture List Individual Files'!$B$14:$F$63,4,FALSE))","v":""},{"$f":"IF(A922=\"\",\"\",VLOOKUP(A922,'Fixture List Individual Files'!$B$14:$F$63,5,FALSE))","v":""},"","",""]
[null,{"$f":"IF(A923=\"\",\"\",VLOOKUP(A923,'Fixture List Individual Files'!$B$14:$F$63,2,FALSE))","v":""},null,{"$f":"IF(A923=\"\",\"\",VLOOKUP(A923,'Fixture List Individual Files'!$B$14:$F$63,3,FALSE))","v":""},"",{"$f":"IF(A923=\"\",\"\",VLOOKUP(A923,'Fixture List Individual Files'!$B$14:$F$63,4,FALSE))","v":""},{"$f":"IF(A923=\"\",\"\",VLOOKUP(A923,'Fixture List Individual Files'!$B$14:$F$63,5,FALSE))","v":""},"","",""]
[null,{"$f":"IF(A924=\"\",\"\",VLOOKUP(A924,'Fixture List Individual Files'!$B$14:$F$63,2,FALSE))","v":""},null,{"$f":"IF(A924=\"\",\"\",VLOOKUP(A924,'Fixture List Individual Files'!$B$14:$F$63,3,FALSE))","v":""},"",{"$f":"IF(A924=\"\",\"\",VLOOKUP(A924,'Fixture List Individual Files'!$B$14:$F$63,4,FALSE))","v":""},{"$f":"IF(A924=\"\",\"\",VLOOKUP(A924,'Fixture List Individual Files'!$B$14:$F$63,5,FALSE))","v":""},"","",""]
[null,{"$f":"IF(A925=\"\",\"\",VLOOKUP(A925,'Fixture List Individual Files'!$B$14:$F$63,2,FALSE))","v":""},null,{"$f":"IF(A925=\"\",\"\",VLOOKUP(A925,'Fixture List Individual Files'!$B$14:$F$63,3,FALSE))","v":""},"",{"$f":"IF(A925=\"\",\"\",VLOOKUP(A925,'Fixture List Individual Files'!$B$14:$F$63,4,FALSE))","v":""},{"$f":"IF(A925=\"\",\"\",VLOOKUP(A925,'Fixture List Individual Files'!$B$14:$F$63,5,FALSE))","v":""},"","",""]
[null,{"$f":"IF(A926=\"\",\"\",VLOOKUP(A926,'Fixture List Individual Files'!$B$14:$F$63,2,FALSE))","v":""},null,{"$f":"IF(A926=\"\",\"\",VLOOKUP(A926,'Fixture List Individual Files'!$B$14:$F$63,3,FALSE))","v":""},"",{"$f":"IF(A926=\"\",\"\",VLOOKUP(A926,'Fixture List Individual Files'!$B$14:$F$63,4,FALSE))","v":""},{"$f":"IF(A926=\"\",\"\",VLOOKUP(A926,'Fixture List Individual Files'!$B$14:$F$63,5,FALSE))","v":""},"","",""]
[null,{"$f":"IF(A927=\"\",\"\",VLOOKUP(A927,'Fixture List Individual Files'!$B$14:$F$63,2,FALSE))","v":""},null,{"$f":"IF(A927=\"\",\"\",VLOOKUP(A927,'Fixture List Individual Files'!$B$14:$F$63,3,FALSE))","v":""},"",{"$f":"IF(A927=\"\",\"\",VLOOKUP(A927,'Fixture List Individual Files'!$B$14:$F$63,4,FALSE))","v":""},{"$f":"IF(A927=\"\",\"\",VLOOKUP(A927,'Fixture List Individual Files'!$B$14:$F$63,5,FALSE))","v":""},"","",""]
[null,{"$f":"IF(A928=\"\",\"\",VLOOKUP(A928,'Fixture List Individual Files'!$B$14:$F$63,2,FALSE))","v":""},null,{"$f":"IF(A928=\"\",\"\",VLOOKUP(A928,'Fixture List Individual Files'!$B$14:$F$63,3,FALSE))","v":""},"",{"$f":"IF(A928=\"\",\"\",VLOOKUP(A928,'Fixture List Individual Files'!$B$14:$F$63,4,FALSE))","v":""},{"$f":"IF(A928=\"\",\"\",VLOOKUP(A928,'Fixture List Individual Files'!$B$14:$F$63,5,FALSE))","v":""},"","",""]
[null,{"$f":"IF(A929=\"\",\"\",VLOOKUP(A929,'Fixture List Individual Files'!$B$14:$F$63,2,FALSE))","v":""},null,{"$f":"IF(A929=\"\",\"\",VLOOKUP(A929,'Fixture List Individual Files'!$B$14:$F$63,3,FALSE))","v":""},"",{"$f":"IF(A929=\"\",\"\",VLOOKUP(A929,'Fixture List Individual Files'!$B$14:$F$63,4,FALSE))","v":""},{"$f":"IF(A929=\"\",\"\",VLOOKUP(A929,'Fixture List Individual Files'!$B$14:$F$63,5,FALSE))","v":""},"","",""]
[null,{"$f":"IF(A930=\"\",\"\",VLOOKUP(A930,'Fixture List Individual Files'!$B$14:$F$63,2,FALSE))","v":""},null,{"$f":"IF(A930=\"\",\"\",VLOOKUP(A930,'Fixture List Individual Files'!$B$14:$F$63,3,FALSE))","v":""},"",{"$f":"IF(A930=\"\",\"\",VLOOKUP(A930,'Fixture List Individual Files'!$B$14:$F$63,4,FALSE))","v":""},{"$f":"IF(A930=\"\",\"\",VLOOKUP(A930,'Fixture List Individual Files'!$B$14:$F$63,5,FALSE))","v":""},"","",""]
[null,{"$f":"IF(A931=\"\",\"\",VLOOKUP(A931,'Fixture List Individual Files'!$B$14:$F$63,2,FALSE))","v":""},null,{"$f":"IF(A931=\"\",\"\",VLOOKUP(A931,'Fixture List Individual Files'!$B$14:$F$63,3,FALSE))","v":""},"",{"$f":"IF(A931=\"\",\"\",VLOOKUP(A931,'Fixture List Individual Files'!$B$14:$F$63,4,FALSE))","v":""},{"$f":"IF(A931=\"\",\"\",VLOOKUP(A931,'Fixture List Individual Files'!$B$14:$F$63,5,FALSE))","v":""},"","",""]
[null,{"$f":"IF(A932=\"\",\"\",VLOOKUP(A932,'Fixture List Individual Files'!$B$14:$F$63,2,FALSE))","v":""},null,{"$f":"IF(A932=\"\",\"\",VLOOKUP(A932,'Fixture List Individual Files'!$B$14:$F$63,3,FALSE))","v":""},"",{"$f":"IF(A932=\"\",\"\",VLOOKUP(A932,'Fixture List Individual Files'!$B$14:$F$63,4,FALSE))","v":""},{"$f":"IF(A932=\"\",\"\",VLOOKUP(A932,'Fixture List Individual Files'!$B$14:$F$63,5,FALSE))","v":""},"","",""]
[null,{"$f":"IF(A933=\"\",\"\",VLOOKUP(A933,'Fixture List Individual Files'!$B$14:$F$63,2,FALSE))","v":""},null,{"$f":"IF(A933=\"\",\"\",VLOOKUP(A933,'Fixture List Individual Files'!$B$14:$F$63,3,FALSE))","v":""},"",{"$f":"IF(A933=\"\",\"\",VLOOKUP(A933,'Fixture List Individual Files'!$B$14:$F$63,4,FALSE))","v":""},{"$f":"IF(A933=\"\",\"\",VLOOKUP(A933,'Fixture List Individual Files'!$B$14:$F$63,5,FALSE))","v":""},"","",""]
[null,{"$f":"IF(A934=\"\",\"\",VLOOKUP(A934,'Fixture List Individual Files'!$B$14:$F$63,2,FALSE))","v":""},null,{"$f":"IF(A934=\"\",\"\",VLOOKUP(A934,'Fixture List Individual Files'!$B$14:$F$63,3,FALSE))","v":""},"",{"$f":"IF(A934=\"\",\"\",VLOOKUP(A934,'Fixture List Individual Files'!$B$14:$F$63,4,FALSE))","v":""},{"$f":"IF(A934=\"\",\"\",VLOOKUP(A934,'Fixture List Individual Files'!$B$14:$F$63,5,FALSE))","v":""},"","",""]
[null,{"$f":"IF(A935=\"\",\"\",VLOOKUP(A935,'Fixture List Individual Files'!$B$14:$F$63,2,FALSE))","v":""},null,{"$f":"IF(A935=\"\",\"\",VLOOKUP(A935,'Fixture List Individual Files'!$B$14:$F$63,3,FALSE))","v":""},"",{"$f":"IF(A935=\"\",\"\",VLOOKUP(A935,'Fixture List Individual Files'!$B$14:$F$63,4,FALSE))","v":""},{"$f":"IF(A935=\"\",\"\",VLOOKUP(A935,'Fixture List Individual Files'!$B$14:$F$63,5,FALSE))","v":""},"","",""]
[null,{"$f":"IF(A936=\"\",\"\",VLOOKUP(A936,'Fixture List Individual Files'!$B$14:$F$63,2,FALSE))","v":""},null,{"$f":"IF(A936=\"\",\"\",VLOOKUP(A936,'Fixture List Individual Files'!$B$14:$F$63,3,FALSE))","v":""},"",{"$f":"IF(A936=\"\",\"\",VLOOKUP(A936,'Fixture List Individual Files'!$B$14:$F$63,4,FALSE))","v":""},{"$f":"IF(A936=\"\",\"\",VLOOKUP(A936,'Fixture List Individual Files'!$B$14:$F$63,5,FALSE))","v":""},"","",""]
[null,{"$f":"IF(A937=\"\",\"\",VLOOKUP(A937,'Fixture List Individual Files'!$B$14:$F$63,2,FALSE))","v":""},null,{"$f":"IF(A937=\"\",\"\",VLOOKUP(A937,'Fixture List Individual Files'!$B$14:$F$63,3,FALSE))","v":""},"",{"$f":"IF(A937=\"\",\"\",VLOOKUP(A937,'Fixture List Individual Files'!$B$14:$F$63,4,FALSE))","v":""},{"$f":"IF(A937=\"\",\"\",VLOOKUP(A937,'Fixture List Individual Files'!$B$14:$F$63,5,FALSE))","v":""},"","",""]
[null,{"$f":"IF(A938=\"\",\"\",VLOOKUP(A938,'Fixture List Individual Files'!$B$14:$F$63,2,FALSE))","v":""},null,{"$f":"IF(A938=\"\",\"\",VLOOKUP(A938,'Fixture List Individual Files'!$B$14:$F$63,3,FALSE))","v":""},"",{"$f":"IF(A938=\"\",\"\",VLOOKUP(A938,'Fixture List Individual Files'!$B$14:$F$63,4,FALSE))","v":""},{"$f":"IF(A938=\"\",\"\",VLOOKUP(A938,'Fixture List Individual Files'!$B$14:$F$63,5,FALSE))","v":""},"","",""]
[null,{"$f":"IF(A939=\"\",\"\",VLOOKUP(A939,'Fixture List Individual Files'!$B$14:$F$63,2,FALSE))","v":""},null,{"$f":"IF(A939=\"\",\"\",VLOOKUP(A939,'Fixture List Individual Files'!$B$14:$F$63,3,FALSE))","v":""},"",{"$f":"IF(A939=\"\",\"\",VLOOKUP(A939,'Fixture List Individual Files'!$B$14:$F$63,4,FALSE))","v":""},{"$f":"IF(A939=\"\",\"\",VLOOKUP(A939,'Fixture List Individual Files'!$B$14:$F$63,5,FALSE))","v":""},"","",""]
[null,{"$f":"IF(A940=\"\",\"\",VLOOKUP(A940,'Fixture List Individual Files'!$B$14:$F$63,2,FALSE))","v":""},null,{"$f":"IF(A940=\"\",\"\",VLOOKUP(A940,'Fixture List Individual Files'!$B$14:$F$63,3,FALSE))","v":""},"",{"$f":"IF(A940=\"\",\"\",VLOOKUP(A940,'Fixture List Individual Files'!$B$14:$F$63,4,FALSE))","v":""},{"$f":"IF(A940=\"\",\"\",VLOOKUP(A940,'Fixture List Individual Files'!$B$14:$F$63,5,FALSE))","v":""},"","",""]
[null,{"$f":"IF(A941=\"\",\"\",VLOOKUP(A941,'Fixture List Individual Files'!$B$14:$F$63,2,FALSE))","v":""},null,{"$f":"IF(A941=\"\",\"\",VLOOKUP(A941,'Fixture List Individual Files'!$B$14:$F$63,3,FALSE))","v":""},"",{"$f":"IF(A941=\"\",\"\",VLOOKUP(A941,'Fixture List Individual Files'!$B$14:$F$63,4,FALSE))","v":""},{"$f":"IF(A941=\"\",\"\",VLOOKUP(A941,'Fixture List Individual Files'!$B$14:$F$63,5,FALSE))","v":""},"","",""]
[null,{"$f":"IF(A942=\"\",\"\",VLOOKUP(A942,'Fixture List Individual Files'!$B$14:$F$63,2,FALSE))","v":""},null,{"$f":"IF(A942=\"\",\"\",VLOOKUP(A942,'Fixture List Individual Files'!$B$14:$F$63,3,FALSE))","v":""},"",{"$f":"IF(A942=\"\",\"\",VLOOKUP(A942,'Fixture List Individual Files'!$B$14:$F$63,4,FALSE))","v":""},{"$f":"IF(A942=\"\",\"\",VLOOKUP(A942,'Fixture List Individual Files'!$B$14:$F$63,5,FALSE))","v":""},"","",""]
[null,{"$f":"IF(A943=\"\",\"\",VLOOKUP(A943,'Fixture List Individual Files'!$B$14:$F$63,2,FALSE))","v":""},null,{"$f":"IF(A943=\"\",\"\",VLOOKUP(A943,'Fixture List Individual Files'!$B$14:$F$63,3,FALSE))","v":""},"",{"$f":"IF(A943=\"\",\"\",VLOOKUP(A943,'Fixture List Individual Files'!$B$14:$F$63,4,FALSE))","v":""},{"$f":"IF(A943=\"\",\"\",VLOOKUP(A943,'Fixture List Individual Files'!$B$14:$F$63,5,FALSE))","v":""},"","",""]
[null,{"$f":"IF(A944=\"\",\"\",VLOOKUP(A944,'Fixture List Individual Files'!$B$14:$F$63,2,FALSE))","v":""},null,{"$f":"IF(A944=\"\",\"\",VLOOKUP(A944,'Fixture List Individual Files'!$B$14:$F$63,3,FALSE))","v":""},"",{"$f":"IF(A944=\"\",\"\",VLOOKUP(A944,'Fixture List Individual Files'!$B$14:$F$63,4,FALSE))","v":""},{"$f":"IF(A944=\"\",\"\",VLOOKUP(A944,'Fixture List Individual Files'!$B$14:$F$63,5,FALSE))","v":""},"","",""]
[null,{"$f":"IF(A945=\"\",\"\",VLOOKUP(A945,'Fixture List Individual Files'!$B$14:$F$63,2,FALSE))","v":""},null,{"$f":"IF(A945=\"\",\"\",VLOOKUP(A945,'Fixture List Individual Files'!$B$14:$F$63,3,FALSE))","v":""},"",{"$f":"IF(A945=\"\",\"\",VLOOKUP(A945,'Fixture List Individual Files'!$B$14:$F$63,4,FALSE))","v":""},{"$f":"IF(A945=\"\",\"\",VLOOKUP(A945,'Fixture List Individual Files'!$B$14:$F$63,5,FALSE))","v":""},"","",""]
[null,{"$f":"IF(A946=\"\",\"\",VLOOKUP(A946,'Fixture List Individual Files'!$B$14:$F$63,2,FALSE))","v":""},null,{"$f":"IF(A946=\"\",\"\",VLOOKUP(A946,'Fixture List Individual Files'!$B$14:$F$63,3,FALSE))","v":""},"",{"$f":"IF(A946=\"\",\"\",VLOOKUP(A946,'Fixture List Individual Files'!$B$14:$F$63,4,FALSE))","v":""},{"$f":"IF(A946=\"\",\"\",VLOOKUP(A946,'Fixture List Individual Files'!$B$14:$F$63,5,FALSE))","v":""},"","",""]
[null,{"$f":"IF(A947=\"\",\"\",VLOOKUP(A947,'Fixture List Individual Files'!$B$14:$F$63,2,FALSE))","v":""},null,{"$f":"IF(A947=\"\",\"\",VLOOKUP(A947,'Fixture List Individual Files'!$B$14:$F$63,3,FALSE))","v":""},"",{"$f":"IF(A947=\"\",\"\",VLOOKUP(A947,'Fixture List Individual Files'!$B$14:$F$63,4,FALSE))","v":""},{"$f":"IF(A947=\"\",\"\",VLOOKUP(A947,'Fixture List Individual Files'!$B$14:$F$63,5,FALSE))","v":""},"","",""]
[null,{"$f":"IF(A948=\"\",\"\",VLOOKUP(A948,'Fixture List Individual Files'!$B$14:$F$63,2,FALSE))","v":""},null,{"$f":"IF(A948=\"\",\"\",VLOOKUP(A948,'Fixture List Individual Files'!$B$14:$F$63,3,FALSE))","v":""},"",{"$f":"IF(A948=\"\",\"\",VLOOKUP(A948,'Fixture List Individual Files'!$B$14:$F$63,4,FALSE))","v":""},{"$f":"IF(A948=\"\",\"\",VLOOKUP(A948,'Fixture List Individual Files'!$B$14:$F$63,5,FALSE))","v":""},"","",""]
[null,{"$f":"IF(A949=\"\",\"\",VLOOKUP(A949,'Fixture List Individual Files'!$B$14:$F$63,2,FALSE))","v":""},null,{"$f":"IF(A949=\"\",\"\",VLOOKUP(A949,'Fixture List Individual Files'!$B$14:$F$63,3,FALSE))","v":""},"",{"$f":"IF(A949=\"\",\"\",VLOOKUP(A949,'Fixture List Individual Files'!$B$14:$F$63,4,FALSE))","v":""},{"$f":"IF(A949=\"\",\"\",VLOOKUP(A949,'Fixture List Individual Files'!$B$14:$F$63,5,FALSE))","v":""},"","",""]
[null,{"$f":"IF(A950=\"\",\"\",VLOOKUP(A950,'Fixture List Individual Files'!$B$14:$F$63,2,FALSE))","v":""},null,{"$f":"IF(A950=\"\",\"\",VLOOKUP(A950,'Fixture List Individual Files'!$B$14:$F$63,3,FALSE))","v":""},"",{"$f":"IF(A950=\"\",\"\",VLOOKUP(A950,'Fixture List Individual Files'!$B$14:$F$63,4,FALSE))","v":""},{"$f":"IF(A950=\"\",\"\",VLOOKUP(A950,'Fixture List Individual Files'!$B$14:$F$63,5,FALSE))","v":""},"","",""]
[null,{"$f":"IF(A951=\"\",\"\",VLOOKUP(A951,'Fixture List Individual Files'!$B$14:$F$63,2,FALSE))","v":""},null,{"$f":"IF(A951=\"\",\"\",VLOOKUP(A951,'Fixture List Individual Files'!$B$14:$F$63,3,FALSE))","v":""},"",{"$f":"IF(A951=\"\",\"\",VLOOKUP(A951,'Fixture List Individual Files'!$B$14:$F$63,4,FALSE))","v":""},{"$f":"IF(A951=\"\",\"\",VLOOKUP(A951,'Fixture List Individual Files'!$B$14:$F$63,5,FALSE))","v":""},"","",""]
[null,{"$f":"IF(A952=\"\",\"\",VLOOKUP(A952,'Fixture List Individual Files'!$B$14:$F$63,2,FALSE))","v":""},null,{"$f":"IF(A952=\"\",\"\",VLOOKUP(A952,'Fixture List Individual Files'!$B$14:$F$63,3,FALSE))","v":""},"",{"$f":"IF(A952=\"\",\"\",VLOOKUP(A952,'Fixture List Individual Files'!$B$14:$F$63,4,FALSE))","v":""},{"$f":"IF(A952=\"\",\"\",VLOOKUP(A952,'Fixture List Individual Files'!$B$14:$F$63,5,FALSE))","v":""},"","",""]
[null,{"$f":"IF(A953=\"\",\"\",VLOOKUP(A953,'Fixture List Individual Files'!$B$14:$F$63,2,FALSE))","v":""},null,{"$f":"IF(A953=\"\",\"\",VLOOKUP(A953,'Fixture List Individual Files'!$B$14:$F$63,3,FALSE))","v":""},"",{"$f":"IF(A953=\"\",\"\",VLOOKUP(A953,'Fixture List Individual Files'!$B$14:$F$63,4,FALSE))","v":""},{"$f":"IF(A953=\"\",\"\",VLOOKUP(A953,'Fixture List Individual Files'!$B$14:$F$63,5,FALSE))","v":""},"","",""]
[null,{"$f":"IF(A954=\"\",\"\",VLOOKUP(A954,'Fixture List Individual Files'!$B$14:$F$63,2,FALSE))","v":""},null,{"$f":"IF(A954=\"\",\"\",VLOOKUP(A954,'Fixture List Individual Files'!$B$14:$F$63,3,FALSE))","v":""},"",{"$f":"IF(A954=\"\",\"\",VLOOKUP(A954,'Fixture List Individual Files'!$B$14:$F$63,4,FALSE))","v":""},{"$f":"IF(A954=\"\",\"\",VLOOKUP(A954,'Fixture List Individual Files'!$B$14:$F$63,5,FALSE))","v":""},"","",""]
[null,"Totals:",{"$f":"SUM(C919:C954)","v":0},null,{"$f":"SUM(E919:E954)","v":0},{"$f":"SUMIF(F919:F954,\"Yes\",E919:E954)","v":0},null,{"$f":"SUM(H919:H954)","v":{"v":0,"d":"0.000"}},{"$f":"SUM(I919:I954)","v":0},0]
[]
["Area 23",{"$nulls":4},"NLC area factor:",{"$nulls":3},{"$f":"IF(VLOOKUP(A957,'Start Here!'!$N$46:$Q$70,4,FALSE)=0,VLOOKUP(Facility_Type,Admin_Lists!$A$63:$B$66,2,FALSE),VLOOKUP(A957,'Start Here!'!$N$46:$Q$70,4,FALSE))","v":{"$error":"#N/A"}}]
["Type:","Choose from Drop-down",null,null,{"$f":"IFERROR(VLOOKUP(B958,Admin_Lists!$A$9:$B$49,2,FALSE),\"\")","v":0},"W/sq ft",{"$nulls":3},{"$f":"VLOOKUP(A957,'Start Here!'!$N$46:$O$70,2,FALSE)","v":0}]
[null,{"$f":"\"Area Description: \"&'Sq. Ft. Area Individual Files'!D924","v":"Area Description: "},{"$nulls":3},"Sq Ft: ",{"$f":"'Sq. Ft. Area Individual Files'!C925","v":0}]
["Fixture Mark","Fixture\nName","Fixture\nCount","Fixture Watts","Total Watts \n(Fixt Count \nx Fixt Watts)","NLC Controls (Yes/No)","Space type","NLC Controls Savings"]
[{"$nulls":7},"Peak kW Savings","Annual kWh Savings","LC kWh Savings"]
[null,{"$f":"IF(A962=\"\",\"\",VLOOKUP(A962,'Fixture List Individual Files'!$B$14:$F$63,2,FALSE))","v":""},null,{"$f":"IF(A962=\"\",\"\",VLOOKUP(A962,'Fixture List Individual Files'!$B$14:$F$63,3,FALSE))","v":""},{"$f":"IF(D962=\"\",\"\",C962*D962)","v":""},{"$f":"IF(A962=\"\",\"\",VLOOKUP(A962,'Fixture List Individual Files'!$B$14:$F$63,4,FALSE))","v":""},{"$f":"IF(A962=\"\",\"\",VLOOKUP(A962,'Fixture List Individual Files'!$B$14:$F$63,5,FALSE))","v":""},{"$f":"IF(AND(F962=\"Yes\",Facility_Type=\"Commercial\"),(SFE_Commercial-SFBASE_Commercial)*E962/1000*$J$958,IF(AND(F962=\"Yes\",Facility_Type=\"Industrial\",G962=\"Non-High Bay\"),(SFE_Industrial-SFBASE_Industrial)*E962/1000*$J$958,IF(AND(F962=\"Yes\",Facility_Type=\"Schools & Government\",G962=\"Non-High Bay\"),((SFE_SG-SFBASE_SG)*E962/1000*$J$958),\"\")))","v":""},{"$f":"IF(AND(F962=\"Yes\",Facility_Type=\"Commercial\"),(SFE_Commercial-SFBASE_Commercial)*E962/1000*$J$957,IF(AND(F962=\"Yes\",Facility_Type=\"Industrial\",G962=\"Non-High Bay\"),(SFE_Industrial-SFBASE_Industrial)*E962/1000*$J$957,IF(AND(F962=\"Yes\",Facility_Type=\"Schools & Government\",G962=\"Non-High Bay\"),((SFE_SG-SFBASE_SG)*E962/1000*$J$957),\"\")))","v":""},{"$f":"IFERROR(I962*EUL_for_NLC,\"\")","v":""}]
[null,{"$f":"IF(A963=\"\",\"\",VLOOKUP(A963,'Fixture List Individual Files'!$B$14:$F$63,2,FALSE))","v":""},null,{"$f":"IF(A963=\"\",\"\",VLOOKUP(A963,'Fixture List Individual Files'!$B$14:$F$63,3,FALSE))","v":""},{"$f":"IF(D963=\"\",\"\",C963*D963)","v":""},{"$f":"IF(A963=\"\",\"\",VLOOKUP(A963,'Fixture List Individual Files'!$B$14:$F$63,4,FALSE))","v":""},{"$f":"IF(A963=\"\",\"\",VLOOKUP(A963,'Fixture List Individual Files'!$B$14:$F$63,5,FALSE))","v":""},"","",""]
[null,{"$f":"IF(A964=\"\",\"\",VLOOKUP(A964,'Fixture List Individual Files'!$B$14:$F$63,2,FALSE))","v":""},null,{"$f":"IF(A964=\"\",\"\",VLOOKUP(A964,'Fixture List Individual Files'!$B$14:$F$63,3,FALSE))","v":""},"",{"$f":"IF(A964=\"\",\"\",VLOOKUP(A964,'Fixture List Individual Files'!$B$14:$F$63,4,FALSE))","v":""},{"$f":"IF(A964=\"\",\"\",VLOOKUP(A964,'Fixture List Individual Files'!$B$14:$F$63,5,FALSE))","v":""},"","",""]
[null,{"$f":"IF(A965=\"\",\"\",VLOOKUP(A965,'Fixture List Individual Files'!$B$14:$F$63,2,FALSE))","v":""},null,{"$f":"IF(A965=\"\",\"\",VLOOKUP(A965,'Fixture List Individual Files'!$B$14:$F$63,3,FALSE))","v":""},"",{"$f":"IF(A965=\"\",\"\",VLOOKUP(A965,'Fixture List Individual Files'!$B$14:$F$63,4,FALSE))","v":""},{"$f":"IF(A965=\"\",\"\",VLOOKUP(A965,'Fixture List Individual Files'!$B$14:$F$63,5,FALSE))","v":""},"","",""]
[null,{"$f":"IF(A966=\"\",\"\",VLOOKUP(A966,'Fixture List Individual Files'!$B$14:$F$63,2,FALSE))","v":""},null,{"$f":"IF(A966=\"\",\"\",VLOOKUP(A966,'Fixture List Individual Files'!$B$14:$F$63,3,FALSE))","v":""},"",{"$f":"IF(A966=\"\",\"\",VLOOKUP(A966,'Fixture List Individual Files'!$B$14:$F$63,4,FALSE))","v":""},{"$f":"IF(A966=\"\",\"\",VLOOKUP(A966,'Fixture List Individual Files'!$B$14:$F$63,5,FALSE))","v":""},"","",""]
[null,{"$f":"IF(A967=\"\",\"\",VLOOKUP(A967,'Fixture List Individual Files'!$B$14:$F$63,2,FALSE))","v":""},null,{"$f":"IF(A967=\"\",\"\",VLOOKUP(A967,'Fixture List Individual Files'!$B$14:$F$63,3,FALSE))","v":""},"",{"$f":"IF(A967=\"\",\"\",VLOOKUP(A967,'Fixture List Individual Files'!$B$14:$F$63,4,FALSE))","v":""},{"$f":"IF(A967=\"\",\"\",VLOOKUP(A967,'Fixture List Individual Files'!$B$14:$F$63,5,FALSE))","v":""},"","",""]
[null,{"$f":"IF(A968=\"\",\"\",VLOOKUP(A968,'Fixture List Individual Files'!$B$14:$F$63,2,FALSE))","v":""},null,{"$f":"IF(A968=\"\",\"\",VLOOKUP(A968,'Fixture List Individual Files'!$B$14:$F$63,3,FALSE))","v":""},"",{"$f":"IF(A968=\"\",\"\",VLOOKUP(A968,'Fixture List Individual Files'!$B$14:$F$63,4,FALSE))","v":""},{"$f":"IF(A968=\"\",\"\",VLOOKUP(A968,'Fixture List Individual Files'!$B$14:$F$63,5,FALSE))","v":""},"","",""]
[null,{"$f":"IF(A969=\"\",\"\",VLOOKUP(A969,'Fixture List Individual Files'!$B$14:$F$63,2,FALSE))","v":""},null,{"$f":"IF(A969=\"\",\"\",VLOOKUP(A969,'Fixture List Individual Files'!$B$14:$F$63,3,FALSE))","v":""},"",{"$f":"IF(A969=\"\",\"\",VLOOKUP(A969,'Fixture List Individual Files'!$B$14:$F$63,4,FALSE))","v":""},{"$f":"IF(A969=\"\",\"\",VLOOKUP(A969,'Fixture List Individual Files'!$B$14:$F$63,5,FALSE))","v":""},"","",""]
[null,{"$f":"IF(A970=\"\",\"\",VLOOKUP(A970,'Fixture List Individual Files'!$B$14:$F$63,2,FALSE))","v":""},null,{"$f":"IF(A970=\"\",\"\",VLOOKUP(A970,'Fixture List Individual Files'!$B$14:$F$63,3,FALSE))","v":""},"",{"$f":"IF(A970=\"\",\"\",VLOOKUP(A970,'Fixture List Individual Files'!$B$14:$F$63,4,FALSE))","v":""},{"$f":"IF(A970=\"\",\"\",VLOOKUP(A970,'Fixture List Individual Files'!$B$14:$F$63,5,FALSE))","v":""},"","",""]
[null,{"$f":"IF(A971=\"\",\"\",VLOOKUP(A971,'Fixture List Individual Files'!$B$14:$F$63,2,FALSE))","v":""},null,{"$f":"IF(A971=\"\",\"\",VLOOKUP(A971,'Fixture List Individual Files'!$B$14:$F$63,3,FALSE))","v":""},"",{"$f":"IF(A971=\"\",\"\",VLOOKUP(A971,'Fixture List Individual Files'!$B$14:$F$63,4,FALSE))","v":""},{"$f":"IF(A971=\"\",\"\",VLOOKUP(A971,'Fixture List Individual Files'!$B$14:$F$63,5,FALSE))","v":""},"","",""]
[null,{"$f":"IF(A972=\"\",\"\",VLOOKUP(A972,'Fixture List Individual Files'!$B$14:$F$63,2,FALSE))","v":""},null,{"$f":"IF(A972=\"\",\"\",VLOOKUP(A972,'Fixture List Individual Files'!$B$14:$F$63,3,FALSE))","v":""},"",{"$f":"IF(A972=\"\",\"\",VLOOKUP(A972,'Fixture List Individual Files'!$B$14:$F$63,4,FALSE))","v":""},{"$f":"IF(A972=\"\",\"\",VLOOKUP(A972,'Fixture List Individual Files'!$B$14:$F$63,5,FALSE))","v":""},"","",""]
[null,{"$f":"IF(A973=\"\",\"\",VLOOKUP(A973,'Fixture List Individual Files'!$B$14:$F$63,2,FALSE))","v":""},null,{"$f":"IF(A973=\"\",\"\",VLOOKUP(A973,'Fixture List Individual Files'!$B$14:$F$63,3,FALSE))","v":""},"",{"$f":"IF(A973=\"\",\"\",VLOOKUP(A973,'Fixture List Individual Files'!$B$14:$F$63,4,FALSE))","v":""},{"$f":"IF(A973=\"\",\"\",VLOOKUP(A973,'Fixture List Individual Files'!$B$14:$F$63,5,FALSE))","v":""},"","",""]
[null,{"$f":"IF(A974=\"\",\"\",VLOOKUP(A974,'Fixture List Individual Files'!$B$14:$F$63,2,FALSE))","v":""},null,{"$f":"IF(A974=\"\",\"\",VLOOKUP(A974,'Fixture List Individual Files'!$B$14:$F$63,3,FALSE))","v":""},"",{"$f":"IF(A974=\"\",\"\",VLOOKUP(A974,'Fixture List Individual Files'!$B$14:$F$63,4,FALSE))","v":""},{"$f":"IF(A974=\"\",\"\",VLOOKUP(A974,'Fixture List Individual Files'!$B$14:$F$63,5,FALSE))","v":""},"","",""]
[null,{"$f":"IF(A975=\"\",\"\",VLOOKUP(A975,'Fixture List Individual Files'!$B$14:$F$63,2,FALSE))","v":""},null,{"$f":"IF(A975=\"\",\"\",VLOOKUP(A975,'Fixture List Individual Files'!$B$14:$F$63,3,FALSE))","v":""},"",{"$f":"IF(A975=\"\",\"\",VLOOKUP(A975,'Fixture List Individual Files'!$B$14:$F$63,4,FALSE))","v":""},{"$f":"IF(A975=\"\",\"\",VLOOKUP(A975,'Fixture List Individual Files'!$B$14:$F$63,5,FALSE))","v":""},"","",""]
[null,{"$f":"IF(A976=\"\",\"\",VLOOKUP(A976,'Fixture List Individual Files'!$B$14:$F$63,2,FALSE))","v":""},null,{"$f":"IF(A976=\"\",\"\",VLOOKUP(A976,'Fixture List Individual Files'!$B$14:$F$63,3,FALSE))","v":""},"",{"$f":"IF(A976=\"\",\"\",VLOOKUP(A976,'Fixture List Individual Files'!$B$14:$F$63,4,FALSE))","v":""},{"$f":"IF(A976=\"\",\"\",VLOOKUP(A976,'Fixture List Individual Files'!$B$14:$F$63,5,FALSE))","v":""},"","",""]
[null,{"$f":"IF(A977=\"\",\"\",VLOOKUP(A977,'Fixture List Individual Files'!$B$14:$F$63,2,FALSE))","v":""},null,{"$f":"IF(A977=\"\",\"\",VLOOKUP(A977,'Fixture List Individual Files'!$B$14:$F$63,3,FALSE))","v":""},"",{"$f":"IF(A977=\"\",\"\",VLOOKUP(A977,'Fixture List Individual Files'!$B$14:$F$63,4,FALSE))","v":""},{"$f":"IF(A977=\"\",\"\",VLOOKUP(A977,'Fixture List Individual Files'!$B$14:$F$63,5,FALSE))","v":""},"","",""]
[null,{"$f":"IF(A978=\"\",\"\",VLOOKUP(A978,'Fixture List Individual Files'!$B$14:$F$63,2,FALSE))","v":""},null,{"$f":"IF(A978=\"\",\"\",VLOOKUP(A978,'Fixture List Individual Files'!$B$14:$F$63,3,FALSE))","v":""},"",{"$f":"IF(A978=\"\",\"\",VLOOKUP(A978,'Fixture List Individual Files'!$B$14:$F$63,4,FALSE))","v":""},{"$f":"IF(A978=\"\",\"\",VLOOKUP(A978,'Fixture List Individual Files'!$B$14:$F$63,5,FALSE))","v":""},"","",""]
[null,{"$f":"IF(A979=\"\",\"\",VLOOKUP(A979,'Fixture List Individual Files'!$B$14:$F$63,2,FALSE))","v":""},null,{"$f":"IF(A979=\"\",\"\",VLOOKUP(A979,'Fixture List Individual Files'!$B$14:$F$63,3,FALSE))","v":""},"",{"$f":"IF(A979=\"\",\"\",VLOOKUP(A979,'Fixture List Individual Files'!$B$14:$F$63,4,FALSE))","v":""},{"$f":"IF(A979=\"\",\"\",VLOOKUP(A979,'Fixture List Individual Files'!$B$14:$F$63,5,FALSE))","v":""},"","",""]
[null,{"$f":"IF(A980=\"\",\"\",VLOOKUP(A980,'Fixture List Individual Files'!$B$14:$F$63,2,FALSE))","v":""},null,{"$f":"IF(A980=\"\",\"\",VLOOKUP(A980,'Fixture List Individual Files'!$B$14:$F$63,3,FALSE))","v":""},"",{"$f":"IF(A980=\"\",\"\",VLOOKUP(A980,'Fixture List Individual Files'!$B$14:$F$63,4,FALSE))","v":""},{"$f":"IF(A980=\"\",\"\",VLOOKUP(A980,'Fixture List Individual Files'!$B$14:$F$63,5,FALSE))","v":""},"","",""]
[null,{"$f":"IF(A981=\"\",\"\",VLOOKUP(A981,'Fixture List Individual Files'!$B$14:$F$63,2,FALSE))","v":""},null,{"$f":"IF(A981=\"\",\"\",VLOOKUP(A981,'Fixture List Individual Files'!$B$14:$F$63,3,FALSE))","v":""},"",{"$f":"IF(A981=\"\",\"\",VLOOKUP(A981,'Fixture List Individual Files'!$B$14:$F$63,4,FALSE))","v":""},{"$f":"IF(A981=\"\",\"\",VLOOKUP(A981,'Fixture List Individual Files'!$B$14:$F$63,5,FALSE))","v":""},"","",""]
[null,{"$f":"IF(A982=\"\",\"\",VLOOKUP(A982,'Fixture List Individual Files'!$B$14:$F$63,2,FALSE))","v":""},null,{"$f":"IF(A982=\"\",\"\",VLOOKUP(A982,'Fixture List Individual Files'!$B$14:$F$63,3,FALSE))","v":""},"",{"$f":"IF(A982=\"\",\"\",VLOOKUP(A982,'Fixture List Individual Files'!$B$14:$F$63,4,FALSE))","v":""},{"$f":"IF(A982=\"\",\"\",VLOOKUP(A982,'Fixture List Individual Files'!$B$14:$F$63,5,FALSE))","v":""},"","",""]
[null,{"$f":"IF(A983=\"\",\"\",VLOOKUP(A983,'Fixture List Individual Files'!$B$14:$F$63,2,FALSE))","v":""},null,{"$f":"IF(A983=\"\",\"\",VLOOKUP(A983,'Fixture List Individual Files'!$B$14:$F$63,3,FALSE))","v":""},"",{"$f":"IF(A983=\"\",\"\",VLOOKUP(A983,'Fixture List Individual Files'!$B$14:$F$63,4,FALSE))","v":""},{"$f":"IF(A983=\"\",\"\",VLOOKUP(A983,'Fixture List Individual Files'!$B$14:$F$63,5,FALSE))","v":""},"","",""]
[null,{"$f":"IF(A984=\"\",\"\",VLOOKUP(A984,'Fixture List Individual Files'!$B$14:$F$63,2,FALSE))","v":""},null,{"$f":"IF(A984=\"\",\"\",VLOOKUP(A984,'Fixture List Individual Files'!$B$14:$F$63,3,FALSE))","v":""},"",{"$f":"IF(A984=\"\",\"\",VLOOKUP(A984,'Fixture List Individual Files'!$B$14:$F$63,4,FALSE))","v":""},{"$f":"IF(A984=\"\",\"\",VLOOKUP(A984,'Fixture List Individual Files'!$B$14:$F$63,5,FALSE))","v":""},"","",""]
[null,{"$f":"IF(A985=\"\",\"\",VLOOKUP(A985,'Fixture List Individual Files'!$B$14:$F$63,2,FALSE))","v":""},null,{"$f":"IF(A985=\"\",\"\",VLOOKUP(A985,'Fixture List Individual Files'!$B$14:$F$63,3,FALSE))","v":""},"",{"$f":"IF(A985=\"\",\"\",VLOOKUP(A985,'Fixture List Individual Files'!$B$14:$F$63,4,FALSE))","v":""},{"$f":"IF(A985=\"\",\"\",VLOOKUP(A985,'Fixture List Individual Files'!$B$14:$F$63,5,FALSE))","v":""},"","",""]
[null,{"$f":"IF(A986=\"\",\"\",VLOOKUP(A986,'Fixture List Individual Files'!$B$14:$F$63,2,FALSE))","v":""},null,{"$f":"IF(A986=\"\",\"\",VLOOKUP(A986,'Fixture List Individual Files'!$B$14:$F$63,3,FALSE))","v":""},"",{"$f":"IF(A986=\"\",\"\",VLOOKUP(A986,'Fixture List Individual Files'!$B$14:$F$63,4,FALSE))","v":""},{"$f":"IF(A986=\"\",\"\",VLOOKUP(A986,'Fixture List Individual Files'!$B$14:$F$63,5,FALSE))","v":""},"","",""]
[null,{"$f":"IF(A987=\"\",\"\",VLOOKUP(A987,'Fixture List Individual Files'!$B$14:$F$63,2,FALSE))","v":""},null,{"$f":"IF(A987=\"\",\"\",VLOOKUP(A987,'Fixture List Individual Files'!$B$14:$F$63,3,FALSE))","v":""},"",{"$f":"IF(A987=\"\",\"\",VLOOKUP(A987,'Fixture List Individual Files'!$B$14:$F$63,4,FALSE))","v":""},{"$f":"IF(A987=\"\",\"\",VLOOKUP(A987,'Fixture List Individual Files'!$B$14:$F$63,5,FALSE))","v":""},"","",""]
[null,{"$f":"IF(A988=\"\",\"\",VLOOKUP(A988,'Fixture List Individual Files'!$B$14:$F$63,2,FALSE))","v":""},null,{"$f":"IF(A988=\"\",\"\",VLOOKUP(A988,'Fixture List Individual Files'!$B$14:$F$63,3,FALSE))","v":""},"",{"$f":"IF(A988=\"\",\"\",VLOOKUP(A988,'Fixture List Individual Files'!$B$14:$F$63,4,FALSE))","v":""},{"$f":"IF(A988=\"\",\"\",VLOOKUP(A988,'Fixture List Individual Files'!$B$14:$F$63,5,FALSE))","v":""},"","",""]
[null,{"$f":"IF(A989=\"\",\"\",VLOOKUP(A989,'Fixture List Individual Files'!$B$14:$F$63,2,FALSE))","v":""},null,{"$f":"IF(A989=\"\",\"\",VLOOKUP(A989,'Fixture List Individual Files'!$B$14:$F$63,3,FALSE))","v":""},"",{"$f":"IF(A989=\"\",\"\",VLOOKUP(A989,'Fixture List Individual Files'!$B$14:$F$63,4,FALSE))","v":""},{"$f":"IF(A989=\"\",\"\",VLOOKUP(A989,'Fixture List Individual Files'!$B$14:$F$63,5,FALSE))","v":""},"","",""]
[null,{"$f":"IF(A990=\"\",\"\",VLOOKUP(A990,'Fixture List Individual Files'!$B$14:$F$63,2,FALSE))","v":""},null,{"$f":"IF(A990=\"\",\"\",VLOOKUP(A990,'Fixture List Individual Files'!$B$14:$F$63,3,FALSE))","v":""},"",{"$f":"IF(A990=\"\",\"\",VLOOKUP(A990,'Fixture List Individual Files'!$B$14:$F$63,4,FALSE))","v":""},{"$f":"IF(A990=\"\",\"\",VLOOKUP(A990,'Fixture List Individual Files'!$B$14:$F$63,5,FALSE))","v":""},"","",""]
[null,{"$f":"IF(A991=\"\",\"\",VLOOKUP(A991,'Fixture List Individual Files'!$B$14:$F$63,2,FALSE))","v":""},null,{"$f":"IF(A991=\"\",\"\",VLOOKUP(A991,'Fixture List Individual Files'!$B$14:$F$63,3,FALSE))","v":""},"",{"$f":"IF(A991=\"\",\"\",VLOOKUP(A991,'Fixture List Individual Files'!$B$14:$F$63,4,FALSE))","v":""},{"$f":"IF(A991=\"\",\"\",VLOOKUP(A991,'Fixture List Individual Files'!$B$14:$F$63,5,FALSE))","v":""},"","",""]
[null,{"$f":"IF(A992=\"\",\"\",VLOOKUP(A992,'Fixture List Individual Files'!$B$14:$F$63,2,FALSE))","v":""},null,{"$f":"IF(A992=\"\",\"\",VLOOKUP(A992,'Fixture List Individual Files'!$B$14:$F$63,3,FALSE))","v":""},"",{"$f":"IF(A992=\"\",\"\",VLOOKUP(A992,'Fixture List Individual Files'!$B$14:$F$63,4,FALSE))","v":""},{"$f":"IF(A992=\"\",\"\",VLOOKUP(A992,'Fixture List Individual Files'!$B$14:$F$63,5,FALSE))","v":""},"","",""]
[null,{"$f":"IF(A993=\"\",\"\",VLOOKUP(A993,'Fixture List Individual Files'!$B$14:$F$63,2,FALSE))","v":""},null,{"$f":"IF(A993=\"\",\"\",VLOOKUP(A993,'Fixture List Individual Files'!$B$14:$F$63,3,FALSE))","v":""},"",{"$f":"IF(A993=\"\",\"\",VLOOKUP(A993,'Fixture List Individual Files'!$B$14:$F$63,4,FALSE))","v":""},{"$f":"IF(A993=\"\",\"\",VLOOKUP(A993,'Fixture List Individual Files'!$B$14:$F$63,5,FALSE))","v":""},"","",""]
[null,{"$f":"IF(A994=\"\",\"\",VLOOKUP(A994,'Fixture List Individual Files'!$B$14:$F$63,2,FALSE))","v":""},null,{"$f":"IF(A994=\"\",\"\",VLOOKUP(A994,'Fixture List Individual Files'!$B$14:$F$63,3,FALSE))","v":""},"",{"$f":"IF(A994=\"\",\"\",VLOOKUP(A994,'Fixture List Individual Files'!$B$14:$F$63,4,FALSE))","v":""},{"$f":"IF(A994=\"\",\"\",VLOOKUP(A994,'Fixture List Individual Files'!$B$14:$F$63,5,FALSE))","v":""},"","",""]
[null,{"$f":"IF(A995=\"\",\"\",VLOOKUP(A995,'Fixture List Individual Files'!$B$14:$F$63,2,FALSE))","v":""},null,{"$f":"IF(A995=\"\",\"\",VLOOKUP(A995,'Fixture List Individual Files'!$B$14:$F$63,3,FALSE))","v":""},"",{"$f":"IF(A995=\"\",\"\",VLOOKUP(A995,'Fixture List Individual Files'!$B$14:$F$63,4,FALSE))","v":""},{"$f":"IF(A995=\"\",\"\",VLOOKUP(A995,'Fixture List Individual Files'!$B$14:$F$63,5,FALSE))","v":""},"","",""]
[null,{"$f":"IF(A996=\"\",\"\",VLOOKUP(A996,'Fixture List Individual Files'!$B$14:$F$63,2,FALSE))","v":""},null,{"$f":"IF(A996=\"\",\"\",VLOOKUP(A996,'Fixture List Individual Files'!$B$14:$F$63,3,FALSE))","v":""},"",{"$f":"IF(A996=\"\",\"\",VLOOKUP(A996,'Fixture List Individual Files'!$B$14:$F$63,4,FALSE))","v":""},{"$f":"IF(A996=\"\",\"\",VLOOKUP(A996,'Fixture List Individual Files'!$B$14:$F$63,5,FALSE))","v":""},"","",""]
[null,{"$f":"IF(A997=\"\",\"\",VLOOKUP(A997,'Fixture List Individual Files'!$B$14:$F$63,2,FALSE))","v":""},null,{"$f":"IF(A997=\"\",\"\",VLOOKUP(A997,'Fixture List Individual Files'!$B$14:$F$63,3,FALSE))","v":""},"",{"$f":"IF(A997=\"\",\"\",VLOOKUP(A997,'Fixture List Individual Files'!$B$14:$F$63,4,FALSE))","v":""},{"$f":"IF(A997=\"\",\"\",VLOOKUP(A997,'Fixture List Individual Files'!$B$14:$F$63,5,FALSE))","v":""},"","",""]
[null,"Totals:",{"$f":"SUM(C962:C997)","v":0},null,{"$f":"SUM(E962:E997)","v":0},{"$f":"SUMIF(F962:F997,\"Yes\",E962:E997)","v":0},null,{"$f":"SUM(H962:H997)","v":{"v":0,"d":"0.000"}},{"$f":"SUM(I962:I997)","v":0},0]
[]
["Area 24",{"$nulls":4},"NLC area factor:",{"$nulls":3},{"$f":"IF(VLOOKUP(A1000,'Start Here!'!$N$46:$Q$70,4,FALSE)=0,VLOOKUP(Facility_Type,Admin_Lists!$A$63:$B$66,2,FALSE),VLOOKUP(A1000,'Start Here!'!$N$46:$Q$70,4,FALSE))","v":{"$error":"#N/A"}}]
["Type:","Choose from Drop-down",null,null,{"$f":"IFERROR(VLOOKUP(B1001,Admin_Lists!$A$9:$B$49,2,FALSE),\"\")","v":0},"W/sq ft",{"$nulls":3},{"$f":"VLOOKUP(A1000,'Start Here!'!$N$46:$O$70,2,FALSE)","v":0}]
[null,{"$f":"\"Area Description: \"&'Sq. Ft. Area Individual Files'!D928","v":"Area Description: "},{"$nulls":3},"Sq Ft: ",{"$f":"'Sq. Ft. Area Individual Files'!C929","v":0}]
["Fixture Mark","Fixture\nName","Fixture\nCount","Fixture Watts","Total Watts \n(Fixt Count \nx Fixt Watts)","NLC Controls (Yes/No)","Space type","NLC Controls Savings"]
[{"$nulls":7},"Peak kW Savings","Annual kWh Savings","LC kWh Savings"]
[null,{"$f":"IF(A1005=\"\",\"\",VLOOKUP(A1005,'Fixture List Individual Files'!$B$14:$F$63,2,FALSE))","v":""},null,{"$f":"IF(A1005=\"\",\"\",VLOOKUP(A1005,'Fixture List Individual Files'!$B$14:$F$63,3,FALSE))","v":""},{"$f":"IF(D1005=\"\",\"\",C1005*D1005)","v":""},{"$f":"IF(A1005=\"\",\"\",VLOOKUP(A1005,'Fixture List Individual Files'!$B$14:$F$63,4,FALSE))","v":""},{"$f":"IF(A1005=\"\",\"\",VLOOKUP(A1005,'Fixture List Individual Files'!$B$14:$F$63,5,FALSE))","v":""},{"$f":"IF(AND(F1005=\"Yes\",Facility_Type=\"Commercial\"),(SFE_Commercial-SFBASE_Commercial)*E1005/1000*$J$1001,IF(AND(F1005=\"Yes\",Facility_Type=\"Industrial\",G1005=\"Non-High Bay\"),(SFE_Industrial-SFBASE_Industrial)*E1005/1000*$J$1001,IF(AND(F1005=\"Yes\",Facility_Type=\"Schools & Government\",G1005=\"Non-High Bay\"),((SFE_SG-SFBASE_SG)*E1005/1000*$J$1001),\"\")))","v":""},{"$f":"IF(AND(F1005=\"Yes\",Facility_Type=\"Commercial\"),(SFE_Commercial-SFBASE_Commercial)*E1005/1000*$J$1000,IF(AND(F1005=\"Yes\",Facility_Type=\"Industrial\",G1005=\"Non-High Bay\"),(SFE_Industrial-SFBASE_Industrial)*E1005/1000*$J$1000,IF(AND(F1005=\"Yes\",Facility_Type=\"Schools & Government\",G1005=\"Non-High Bay\"),((SFE_SG-SFBASE_SG)*E1005/1000*$J$1000),\"\")))","v":""},{"$f":"IFERROR(I1005*EUL_for_NLC,\"\")","v":""}]
[null,{"$f":"IF(A1006=\"\",\"\",VLOOKUP(A1006,'Fixture List Individual Files'!$B$14:$F$63,2,FALSE))","v":""},null,{"$f":"IF(A1006=\"\",\"\",VLOOKUP(A1006,'Fixture List Individual Files'!$B$14:$F$63,3,FALSE))","v":""},{"$f":"IF(D1006=\"\",\"\",C1006*D1006)","v":""},{"$f":"IF(A1006=\"\",\"\",VLOOKUP(A1006,'Fixture List Individual Files'!$B$14:$F$63,4,FALSE))","v":""},{"$f":"IF(A1006=\"\",\"\",VLOOKUP(A1006,'Fixture List Individual Files'!$B$14:$F$63,5,FALSE))","v":""},"","",""]
[null,{"$f":"IF(A1007=\"\",\"\",VLOOKUP(A1007,'Fixture List Individual Files'!$B$14:$F$63,2,FALSE))","v":""},null,{"$f":"IF(A1007=\"\",\"\",VLOOKUP(A1007,'Fixture List Individual Files'!$B$14:$F$63,3,FALSE))","v":""},"",{"$f":"IF(A1007=\"\",\"\",VLOOKUP(A1007,'Fixture List Individual Files'!$B$14:$F$63,4,FALSE))","v":""},{"$f":"IF(A1007=\"\",\"\",VLOOKUP(A1007,'Fixture List Individual Files'!$B$14:$F$63,5,FALSE))","v":""},"","",""]
[null,{"$f":"IF(A1008=\"\",\"\",VLOOKUP(A1008,'Fixture List Individual Files'!$B$14:$F$63,2,FALSE))","v":""},null,{"$f":"IF(A1008=\"\",\"\",VLOOKUP(A1008,'Fixture List Individual Files'!$B$14:$F$63,3,FALSE))","v":""},"",{"$f":"IF(A1008=\"\",\"\",VLOOKUP(A1008,'Fixture List Individual Files'!$B$14:$F$63,4,FALSE))","v":""},{"$f":"IF(A1008=\"\",\"\",VLOOKUP(A1008,'Fixture List Individual Files'!$B$14:$F$63,5,FALSE))","v":""},"","",""]
[null,{"$f":"IF(A1009=\"\",\"\",VLOOKUP(A1009,'Fixture List Individual Files'!$B$14:$F$63,2,FALSE))","v":""},null,{"$f":"IF(A1009=\"\",\"\",VLOOKUP(A1009,'Fixture List Individual Files'!$B$14:$F$63,3,FALSE))","v":""},"",{"$f":"IF(A1009=\"\",\"\",VLOOKUP(A1009,'Fixture List Individual Files'!$B$14:$F$63,4,FALSE))","v":""},{"$f":"IF(A1009=\"\",\"\",VLOOKUP(A1009,'Fixture List Individual Files'!$B$14:$F$63,5,FALSE))","v":""},"","",""]
[null,{"$f":"IF(A1010=\"\",\"\",VLOOKUP(A1010,'Fixture List Individual Files'!$B$14:$F$63,2,FALSE))","v":""},null,{"$f":"IF(A1010=\"\",\"\",VLOOKUP(A1010,'Fixture List Individual Files'!$B$14:$F$63,3,FALSE))","v":""},"",{"$f":"IF(A1010=\"\",\"\",VLOOKUP(A1010,'Fixture List Individual Files'!$B$14:$F$63,4,FALSE))","v":""},{"$f":"IF(A1010=\"\",\"\",VLOOKUP(A1010,'Fixture List Individual Files'!$B$14:$F$63,5,FALSE))","v":""},"","",""]
[null,{"$f":"IF(A1011=\"\",\"\",VLOOKUP(A1011,'Fixture List Individual Files'!$B$14:$F$63,2,FALSE))","v":""},null,{"$f":"IF(A1011=\"\",\"\",VLOOKUP(A1011,'Fixture List Individual Files'!$B$14:$F$63,3,FALSE))","v":""},"",{"$f":"IF(A1011=\"\",\"\",VLOOKUP(A1011,'Fixture List Individual Files'!$B$14:$F$63,4,FALSE))","v":""},{"$f":"IF(A1011=\"\",\"\",VLOOKUP(A1011,'Fixture List Individual Files'!$B$14:$F$63,5,FALSE))","v":""},"","",""]
[null,{"$f":"IF(A1012=\"\",\"\",VLOOKUP(A1012,'Fixture List Individual Files'!$B$14:$F$63,2,FALSE))","v":""},null,{"$f":"IF(A1012=\"\",\"\",VLOOKUP(A1012,'Fixture List Individual Files'!$B$14:$F$63,3,FALSE))","v":""},"",{"$f":"IF(A1012=\"\",\"\",VLOOKUP(A1012,'Fixture List Individual Files'!$B$14:$F$63,4,FALSE))","v":""},{"$f":"IF(A1012=\"\",\"\",VLOOKUP(A1012,'Fixture List Individual Files'!$B$14:$F$63,5,FALSE))","v":""},"","",""]
[null,{"$f":"IF(A1013=\"\",\"\",VLOOKUP(A1013,'Fixture List Individual Files'!$B$14:$F$63,2,FALSE))","v":""},null,{"$f":"IF(A1013=\"\",\"\",VLOOKUP(A1013,'Fixture List Individual Files'!$B$14:$F$63,3,FALSE))","v":""},"",{"$f":"IF(A1013=\"\",\"\",VLOOKUP(A1013,'Fixture List Individual Files'!$B$14:$F$63,4,FALSE))","v":""},{"$f":"IF(A1013=\"\",\"\",VLOOKUP(A1013,'Fixture List Individual Files'!$B$14:$F$63,5,FALSE))","v":""},"","",""]
[null,{"$f":"IF(A1014=\"\",\"\",VLOOKUP(A1014,'Fixture List Individual Files'!$B$14:$F$63,2,FALSE))","v":""},null,{"$f":"IF(A1014=\"\",\"\",VLOOKUP(A1014,'Fixture List Individual Files'!$B$14:$F$63,3,FALSE))","v":""},"",{"$f":"IF(A1014=\"\",\"\",VLOOKUP(A1014,'Fixture List Individual Files'!$B$14:$F$63,4,FALSE))","v":""},{"$f":"IF(A1014=\"\",\"\",VLOOKUP(A1014,'Fixture List Individual Files'!$B$14:$F$63,5,FALSE))","v":""},"","",""]
[null,{"$f":"IF(A1015=\"\",\"\",VLOOKUP(A1015,'Fixture List Individual Files'!$B$14:$F$63,2,FALSE))","v":""},null,{"$f":"IF(A1015=\"\",\"\",VLOOKUP(A1015,'Fixture List Individual Files'!$B$14:$F$63,3,FALSE))","v":""},"",{"$f":"IF(A1015=\"\",\"\",VLOOKUP(A1015,'Fixture List Individual Files'!$B$14:$F$63,4,FALSE))","v":""},{"$f":"IF(A1015=\"\",\"\",VLOOKUP(A1015,'Fixture List Individual Files'!$B$14:$F$63,5,FALSE))","v":""},"","",""]
[null,{"$f":"IF(A1016=\"\",\"\",VLOOKUP(A1016,'Fixture List Individual Files'!$B$14:$F$63,2,FALSE))","v":""},null,{"$f":"IF(A1016=\"\",\"\",VLOOKUP(A1016,'Fixture List Individual Files'!$B$14:$F$63,3,FALSE))","v":""},"",{"$f":"IF(A1016=\"\",\"\",VLOOKUP(A1016,'Fixture List Individual Files'!$B$14:$F$63,4,FALSE))","v":""},{"$f":"IF(A1016=\"\",\"\",VLOOKUP(A1016,'Fixture List Individual Files'!$B$14:$F$63,5,FALSE))","v":""},"","",""]
[null,{"$f":"IF(A1017=\"\",\"\",VLOOKUP(A1017,'Fixture List Individual Files'!$B$14:$F$63,2,FALSE))","v":""},null,{"$f":"IF(A1017=\"\",\"\",VLOOKUP(A1017,'Fixture List Individual Files'!$B$14:$F$63,3,FALSE))","v":""},"",{"$f":"IF(A1017=\"\",\"\",VLOOKUP(A1017,'Fixture List Individual Files'!$B$14:$F$63,4,FALSE))","v":""},{"$f":"IF(A1017=\"\",\"\",VLOOKUP(A1017,'Fixture List Individual Files'!$B$14:$F$63,5,FALSE))","v":""},"","",""]
[null,{"$f":"IF(A1018=\"\",\"\",VLOOKUP(A1018,'Fixture List Individual Files'!$B$14:$F$63,2,FALSE))","v":""},null,{"$f":"IF(A1018=\"\",\"\",VLOOKUP(A1018,'Fixture List Individual Files'!$B$14:$F$63,3,FALSE))","v":""},"",{"$f":"IF(A1018=\"\",\"\",VLOOKUP(A1018,'Fixture List Individual Files'!$B$14:$F$63,4,FALSE))","v":""},{"$f":"IF(A1018=\"\",\"\",VLOOKUP(A1018,'Fixture List Individual Files'!$B$14:$F$63,5,FALSE))","v":""},"","",""]
[null,{"$f":"IF(A1019=\"\",\"\",VLOOKUP(A1019,'Fixture List Individual Files'!$B$14:$F$63,2,FALSE))","v":""},null,{"$f":"IF(A1019=\"\",\"\",VLOOKUP(A1019,'Fixture List Individual Files'!$B$14:$F$63,3,FALSE))","v":""},"",{"$f":"IF(A1019=\"\",\"\",VLOOKUP(A1019,'Fixture List Individual Files'!$B$14:$F$63,4,FALSE))","v":""},{"$f":"IF(A1019=\"\",\"\",VLOOKUP(A1019,'Fixture List Individual Files'!$B$14:$F$63,5,FALSE))","v":""},"","",""]
[null,{"$f":"IF(A1020=\"\",\"\",VLOOKUP(A1020,'Fixture List Individual Files'!$B$14:$F$63,2,FALSE))","v":""},null,{"$f":"IF(A1020=\"\",\"\",VLOOKUP(A1020,'Fixture List Individual Files'!$B$14:$F$63,3,FALSE))","v":""},"",{"$f":"IF(A1020=\"\",\"\",VLOOKUP(A1020,'Fixture List Individual Files'!$B$14:$F$63,4,FALSE))","v":""},{"$f":"IF(A1020=\"\",\"\",VLOOKUP(A1020,'Fixture List Individual Files'!$B$14:$F$63,5,FALSE))","v":""},"","",""]
[null,{"$f":"IF(A1021=\"\",\"\",VLOOKUP(A1021,'Fixture List Individual Files'!$B$14:$F$63,2,FALSE))","v":""},null,{"$f":"IF(A1021=\"\",\"\",VLOOKUP(A1021,'Fixture List Individual Files'!$B$14:$F$63,3,FALSE))","v":""},"",{"$f":"IF(A1021=\"\",\"\",VLOOKUP(A1021,'Fixture List Individual Files'!$B$14:$F$63,4,FALSE))","v":""},{"$f":"IF(A1021=\"\",\"\",VLOOKUP(A1021,'Fixture List Individual Files'!$B$14:$F$63,5,FALSE))","v":""},"","",""]
[null,{"$f":"IF(A1022=\"\",\"\",VLOOKUP(A1022,'Fixture List Individual Files'!$B$14:$F$63,2,FALSE))","v":""},null,{"$f":"IF(A1022=\"\",\"\",VLOOKUP(A1022,'Fixture List Individual Files'!$B$14:$F$63,3,FALSE))","v":""},"",{"$f":"IF(A1022=\"\",\"\",VLOOKUP(A1022,'Fixture List Individual Files'!$B$14:$F$63,4,FALSE))","v":""},{"$f":"IF(A1022=\"\",\"\",VLOOKUP(A1022,'Fixture List Individual Files'!$B$14:$F$63,5,FALSE))","v":""},"","",""]
[null,{"$f":"IF(A1023=\"\",\"\",VLOOKUP(A1023,'Fixture List Individual Files'!$B$14:$F$63,2,FALSE))","v":""},null,{"$f":"IF(A1023=\"\",\"\",VLOOKUP(A1023,'Fixture List Individual Files'!$B$14:$F$63,3,FALSE))","v":""},"",{"$f":"IF(A1023=\"\",\"\",VLOOKUP(A1023,'Fixture List Individual Files'!$B$14:$F$63,4,FALSE))","v":""},{"$f":"IF(A1023=\"\",\"\",VLOOKUP(A1023,'Fixture List Individual Files'!$B$14:$F$63,5,FALSE))","v":""},"","",""]
[null,{"$f":"IF(A1024=\"\",\"\",VLOOKUP(A1024,'Fixture List Individual Files'!$B$14:$F$63,2,FALSE))","v":""},null,{"$f":"IF(A1024=\"\",\"\",VLOOKUP(A1024,'Fixture List Individual Files'!$B$14:$F$63,3,FALSE))","v":""},"",{"$f":"IF(A1024=\"\",\"\",VLOOKUP(A1024,'Fixture List Individual Files'!$B$14:$F$63,4,FALSE))","v":""},{"$f":"IF(A1024=\"\",\"\",VLOOKUP(A1024,'Fixture List Individual Files'!$B$14:$F$63,5,FALSE))","v":""},"","",""]
[null,{"$f":"IF(A1025=\"\",\"\",VLOOKUP(A1025,'Fixture List Individual Files'!$B$14:$F$63,2,FALSE))","v":""},null,{"$f":"IF(A1025=\"\",\"\",VLOOKUP(A1025,'Fixture List Individual Files'!$B$14:$F$63,3,FALSE))","v":""},"",{"$f":"IF(A1025=\"\",\"\",VLOOKUP(A1025,'Fixture List Individual Files'!$B$14:$F$63,4,FALSE))","v":""},{"$f":"IF(A1025=\"\",\"\",VLOOKUP(A1025,'Fixture List Individual Files'!$B$14:$F$63,5,FALSE))","v":""},"","",""]
[null,{"$f":"IF(A1026=\"\",\"\",VLOOKUP(A1026,'Fixture List Individual Files'!$B$14:$F$63,2,FALSE))","v":""},null,{"$f":"IF(A1026=\"\",\"\",VLOOKUP(A1026,'Fixture List Individual Files'!$B$14:$F$63,3,FALSE))","v":""},"",{"$f":"IF(A1026=\"\",\"\",VLOOKUP(A1026,'Fixture List Individual Files'!$B$14:$F$63,4,FALSE))","v":""},{"$f":"IF(A1026=\"\",\"\",VLOOKUP(A1026,'Fixture List Individual Files'!$B$14:$F$63,5,FALSE))","v":""},"","",""]
[null,{"$f":"IF(A1027=\"\",\"\",VLOOKUP(A1027,'Fixture List Individual Files'!$B$14:$F$63,2,FALSE))","v":""},null,{"$f":"IF(A1027=\"\",\"\",VLOOKUP(A1027,'Fixture List Individual Files'!$B$14:$F$63,3,FALSE))","v":""},"",{"$f":"IF(A1027=\"\",\"\",VLOOKUP(A1027,'Fixture List Individual Files'!$B$14:$F$63,4,FALSE))","v":""},{"$f":"IF(A1027=\"\",\"\",VLOOKUP(A1027,'Fixture List Individual Files'!$B$14:$F$63,5,FALSE))","v":""},"","",""]
[null,{"$f":"IF(A1028=\"\",\"\",VLOOKUP(A1028,'Fixture List Individual Files'!$B$14:$F$63,2,FALSE))","v":""},null,{"$f":"IF(A1028=\"\",\"\",VLOOKUP(A1028,'Fixture List Individual Files'!$B$14:$F$63,3,FALSE))","v":""},"",{"$f":"IF(A1028=\"\",\"\",VLOOKUP(A1028,'Fixture List Individual Files'!$B$14:$F$63,4,FALSE))","v":""},{"$f":"IF(A1028=\"\",\"\",VLOOKUP(A1028,'Fixture List Individual Files'!$B$14:$F$63,5,FALSE))","v":""},"","",""]
[null,{"$f":"IF(A1029=\"\",\"\",VLOOKUP(A1029,'Fixture List Individual Files'!$B$14:$F$63,2,FALSE))","v":""},null,{"$f":"IF(A1029=\"\",\"\",VLOOKUP(A1029,'Fixture List Individual Files'!$B$14:$F$63,3,FALSE))","v":""},"",{"$f":"IF(A1029=\"\",\"\",VLOOKUP(A1029,'Fixture List Individual Files'!$B$14:$F$63,4,FALSE))","v":""},{"$f":"IF(A1029=\"\",\"\",VLOOKUP(A1029,'Fixture List Individual Files'!$B$14:$F$63,5,FALSE))","v":""},"","",""]
[null,{"$f":"IF(A1030=\"\",\"\",VLOOKUP(A1030,'Fixture List Individual Files'!$B$14:$F$63,2,FALSE))","v":""},null,{"$f":"IF(A1030=\"\",\"\",VLOOKUP(A1030,'Fixture List Individual Files'!$B$14:$F$63,3,FALSE))","v":""},"",{"$f":"IF(A1030=\"\",\"\",VLOOKUP(A1030,'Fixture List Individual Files'!$B$14:$F$63,4,FALSE))","v":""},{"$f":"IF(A1030=\"\",\"\",VLOOKUP(A1030,'Fixture List Individual Files'!$B$14:$F$63,5,FALSE))","v":""},"","",""]
[null,{"$f":"IF(A1031=\"\",\"\",VLOOKUP(A1031,'Fixture List Individual Files'!$B$14:$F$63,2,FALSE))","v":""},null,{"$f":"IF(A1031=\"\",\"\",VLOOKUP(A1031,'Fixture List Individual Files'!$B$14:$F$63,3,FALSE))","v":""},"",{"$f":"IF(A1031=\"\",\"\",VLOOKUP(A1031,'Fixture List Individual Files'!$B$14:$F$63,4,FALSE))","v":""},{"$f":"IF(A1031=\"\",\"\",VLOOKUP(A1031,'Fixture List Individual Files'!$B$14:$F$63,5,FALSE))","v":""},"","",""]
[null,{"$f":"IF(A1032=\"\",\"\",VLOOKUP(A1032,'Fixture List Individual Files'!$B$14:$F$63,2,FALSE))","v":""},null,{"$f":"IF(A1032=\"\",\"\",VLOOKUP(A1032,'Fixture List Individual Files'!$B$14:$F$63,3,FALSE))","v":""},"",{"$f":"IF(A1032=\"\",\"\",VLOOKUP(A1032,'Fixture List Individual Files'!$B$14:$F$63,4,FALSE))","v":""},{"$f":"IF(A1032=\"\",\"\",VLOOKUP(A1032,'Fixture List Individual Files'!$B$14:$F$63,5,FALSE))","v":""},"","",""]
[null,{"$f":"IF(A1033=\"\",\"\",VLOOKUP(A1033,'Fixture List Individual Files'!$B$14:$F$63,2,FALSE))","v":""},null,{"$f":"IF(A1033=\"\",\"\",VLOOKUP(A1033,'Fixture List Individual Files'!$B$14:$F$63,3,FALSE))","v":""},"",{"$f":"IF(A1033=\"\",\"\",VLOOKUP(A1033,'Fixture List Individual Files'!$B$14:$F$63,4,FALSE))","v":""},{"$f":"IF(A1033=\"\",\"\",VLOOKUP(A1033,'Fixture List Individual Files'!$B$14:$F$63,5,FALSE))","v":""},"","",""]
[null,{"$f":"IF(A1034=\"\",\"\",VLOOKUP(A1034,'Fixture List Individual Files'!$B$14:$F$63,2,FALSE))","v":""},null,{"$f":"IF(A1034=\"\",\"\",VLOOKUP(A1034,'Fixture List Individual Files'!$B$14:$F$63,3,FALSE))","v":""},"",{"$f":"IF(A1034=\"\",\"\",VLOOKUP(A1034,'Fixture List Individual Files'!$B$14:$F$63,4,FALSE))","v":""},{"$f":"IF(A1034=\"\",\"\",VLOOKUP(A1034,'Fixture List Individual Files'!$B$14:$F$63,5,FALSE))","v":""},"","",""]
[null,{"$f":"IF(A1035=\"\",\"\",VLOOKUP(A1035,'Fixture List Individual Files'!$B$14:$F$63,2,FALSE))","v":""},null,{"$f":"IF(A1035=\"\",\"\",VLOOKUP(A1035,'Fixture List Individual Files'!$B$14:$F$63,3,FALSE))","v":""},"",{"$f":"IF(A1035=\"\",\"\",VLOOKUP(A1035,'Fixture List Individual Files'!$B$14:$F$63,4,FALSE))","v":""},{"$f":"IF(A1035=\"\",\"\",VLOOKUP(A1035,'Fixture List Individual Files'!$B$14:$F$63,5,FALSE))","v":""},"","",""]
[null,{"$f":"IF(A1036=\"\",\"\",VLOOKUP(A1036,'Fixture List Individual Files'!$B$14:$F$63,2,FALSE))","v":""},null,{"$f":"IF(A1036=\"\",\"\",VLOOKUP(A1036,'Fixture List Individual Files'!$B$14:$F$63,3,FALSE))","v":""},"",{"$f":"IF(A1036=\"\",\"\",VLOOKUP(A1036,'Fixture List Individual Files'!$B$14:$F$63,4,FALSE))","v":""},{"$f":"IF(A1036=\"\",\"\",VLOOKUP(A1036,'Fixture List Individual Files'!$B$14:$F$63,5,FALSE))","v":""},"","",""]
[null,{"$f":"IF(A1037=\"\",\"\",VLOOKUP(A1037,'Fixture List Individual Files'!$B$14:$F$63,2,FALSE))","v":""},null,{"$f":"IF(A1037=\"\",\"\",VLOOKUP(A1037,'Fixture List Individual Files'!$B$14:$F$63,3,FALSE))","v":""},"",{"$f":"IF(A1037=\"\",\"\",VLOOKUP(A1037,'Fixture List Individual Files'!$B$14:$F$63,4,FALSE))","v":""},{"$f":"IF(A1037=\"\",\"\",VLOOKUP(A1037,'Fixture List Individual Files'!$B$14:$F$63,5,FALSE))","v":""},"","",""]
[null,{"$f":"IF(A1038=\"\",\"\",VLOOKUP(A1038,'Fixture List Individual Files'!$B$14:$F$63,2,FALSE))","v":""},null,{"$f":"IF(A1038=\"\",\"\",VLOOKUP(A1038,'Fixture List Individual Files'!$B$14:$F$63,3,FALSE))","v":""},"",{"$f":"IF(A1038=\"\",\"\",VLOOKUP(A1038,'Fixture List Individual Files'!$B$14:$F$63,4,FALSE))","v":""},{"$f":"IF(A1038=\"\",\"\",VLOOKUP(A1038,'Fixture List Individual Files'!$B$14:$F$63,5,FALSE))","v":""},"","",""]
[null,{"$f":"IF(A1039=\"\",\"\",VLOOKUP(A1039,'Fixture List Individual Files'!$B$14:$F$63,2,FALSE))","v":""},null,{"$f":"IF(A1039=\"\",\"\",VLOOKUP(A1039,'Fixture List Individual Files'!$B$14:$F$63,3,FALSE))","v":""},"",{"$f":"IF(A1039=\"\",\"\",VLOOKUP(A1039,'Fixture List Individual Files'!$B$14:$F$63,4,FALSE))","v":""},{"$f":"IF(A1039=\"\",\"\",VLOOKUP(A1039,'Fixture List Individual Files'!$B$14:$F$63,5,FALSE))","v":""},"","",""]
[null,{"$f":"IF(A1040=\"\",\"\",VLOOKUP(A1040,'Fixture List Individual Files'!$B$14:$F$63,2,FALSE))","v":""},null,{"$f":"IF(A1040=\"\",\"\",VLOOKUP(A1040,'Fixture List Individual Files'!$B$14:$F$63,3,FALSE))","v":""},"",{"$f":"IF(A1040=\"\",\"\",VLOOKUP(A1040,'Fixture List Individual Files'!$B$14:$F$63,4,FALSE))","v":""},{"$f":"IF(A1040=\"\",\"\",VLOOKUP(A1040,'Fixture List Individual Files'!$B$14:$F$63,5,FALSE))","v":""},"","",""]
[null,"Totals:",{"$f":"SUM(C1005:C1040)","v":0},null,{"$f":"SUM(E1005:E1040)","v":0},{"$f":"SUMIF(F1005:F1040,\"Yes\",E1005:E1040)","v":0},null,{"$f":"SUM(H1005:H1040)","v":{"v":0,"d":"0.000"}},{"$f":"SUM(I1005:I1040)","v":0},0]
[]
["Area 25",{"$nulls":4},"NLC area factor:",{"$nulls":3},{"$f":"IF(VLOOKUP(A1043,'Start Here!'!$N$46:$Q$70,4,FALSE)=0,VLOOKUP(Facility_Type,Admin_Lists!$A$63:$B$66,2,FALSE),VLOOKUP(A1043,'Start Here!'!$N$46:$Q$70,4,FALSE))","v":{"$error":"#N/A"}}]
["Type:","Choose from Drop-down",null,null,{"$f":"IFERROR(VLOOKUP(B1044,Admin_Lists!$A$9:$B$49,2,FALSE),\"\")","v":0},"W/sq ft",{"$nulls":3},{"$f":"VLOOKUP(A1043,'Start Here!'!$N$46:$O$70,2,FALSE)","v":0}]
[null,{"$f":"\"Area Description: \"&'Sq. Ft. Area Individual Files'!D932","v":"Area Description: "},{"$nulls":3},"Sq Ft: ",{"$f":"'Sq. Ft. Area Individual Files'!C933","v":0}]
[]
["Fixture Mark","Fixture\nName","Fixture\nCount","Fixture Watts","Total Watts \n(Fixt Count \nx Fixt Watts)","NLC Controls (Yes/No)","Space type","NLC Controls Savings"]
[{"$nulls":7},"Peak kW Savings","Annual kWh Savings","LC kWh Savings"]
[null,{"$f":"IF(A1049=\"\",\"\",VLOOKUP(A1049,'Fixture List Individual Files'!$B$14:$F$63,2,FALSE))","v":""},null,{"$f":"IF(A1049=\"\",\"\",VLOOKUP(A1049,'Fixture List Individual Files'!$B$14:$F$63,3,FALSE))","v":""},{"$f":"IF(D1049=\"\",\"\",C1049*D1049)","v":""},{"$f":"IF(A1049=\"\",\"\",VLOOKUP(A1049,'Fixture List Individual Files'!$B$14:$F$63,4,FALSE))","v":""},{"$f":"IF(A1049=\"\",\"\",VLOOKUP(A1049,'Fixture List Individual Files'!$B$14:$F$63,5,FALSE))","v":""},{"$f":"IF(AND(F1049=\"Yes\",Facility_Type=\"Commercial\"),(SFE_Commercial-SFBASE_Commercial)*E1049/1000*$J$1045,IF(AND(F1049=\"Yes\",Facility_Type=\"Industrial\",G1049=\"Non-High Bay\"),(SFE_Industrial-SFBASE_Industrial)*E1049/1000*$J$1045,IF(AND(F1049=\"Yes\",Facility_Type=\"Schools & Government\",G1049=\"Non-High Bay\"),((SFE_SG-SFBASE_SG)*E1049/1000*$J$1045),\"\")))","v":""},{"$f":"IF(AND(F1049=\"Yes\",Facility_Type=\"Commercial\"),(SFE_Commercial-SFBASE_Commercial)*E1049/1000*$J$1044,IF(AND(F1049=\"Yes\",Facility_Type=\"Industrial\",G1049=\"Non-High Bay\"),(SFE_Industrial-SFBASE_Industrial)*E1049/1000*$J$1044,IF(AND(F1049=\"Yes\",Facility_Type=\"Schools & Government\",G1049=\"Non-High Bay\"),((SFE_SG-SFBASE_SG)*E1049/1000*$J$1044),\"\")))","v":""},{"$f":"IFERROR(I1049*EUL_for_NLC,\"\")","v":""}]
[null,{"$f":"IF(A1050=\"\",\"\",VLOOKUP(A1050,'Fixture List Individual Files'!$B$14:$F$63,2,FALSE))","v":""},null,{"$f":"IF(A1050=\"\",\"\",VLOOKUP(A1050,'Fixture List Individual Files'!$B$14:$F$63,3,FALSE))","v":""},"",{"$f":"IF(A1050=\"\",\"\",VLOOKUP(A1050,'Fixture List Individual Files'!$B$14:$F$63,4,FALSE))","v":""},{"$f":"IF(A1050=\"\",\"\",VLOOKUP(A1050,'Fixture List Individual Files'!$B$14:$F$63,5,FALSE))","v":""},"","",""]
[null,{"$f":"IF(A1051=\"\",\"\",VLOOKUP(A1051,'Fixture List Individual Files'!$B$14:$F$63,2,FALSE))","v":""},null,{"$f":"IF(A1051=\"\",\"\",VLOOKUP(A1051,'Fixture List Individual Files'!$B$14:$F$63,3,FALSE))","v":""},"",{"$f":"IF(A1051=\"\",\"\",VLOOKUP(A1051,'Fixture List Individual Files'!$B$14:$F$63,4,FALSE))","v":""},{"$f":"IF(A1051=\"\",\"\",VLOOKUP(A1051,'Fixture List Individual Files'!$B$14:$F$63,5,FALSE))","v":""},"","",""]
[null,{"$f":"IF(A1052=\"\",\"\",VLOOKUP(A1052,'Fixture List Individual Files'!$B$14:$F$63,2,FALSE))","v":""},null,{"$f":"IF(A1052=\"\",\"\",VLOOKUP(A1052,'Fixture List Individual Files'!$B$14:$F$63,3,FALSE))","v":""},"",{"$f":"IF(A1052=\"\",\"\",VLOOKUP(A1052,'Fixture List Individual Files'!$B$14:$F$63,4,FALSE))","v":""},{"$f":"IF(A1052=\"\",\"\",VLOOKUP(A1052,'Fixture List Individual Files'!$B$14:$F$63,5,FALSE))","v":""},"","",""]
[null,{"$f":"IF(A1053=\"\",\"\",VLOOKUP(A1053,'Fixture List Individual Files'!$B$14:$F$63,2,FALSE))","v":""},null,{"$f":"IF(A1053=\"\",\"\",VLOOKUP(A1053,'Fixture List Individual Files'!$B$14:$F$63,3,FALSE))","v":""},"",{"$f":"IF(A1053=\"\",\"\",VLOOKUP(A1053,'Fixture List Individual Files'!$B$14:$F$63,4,FALSE))","v":""},{"$f":"IF(A1053=\"\",\"\",VLOOKUP(A1053,'Fixture List Individual Files'!$B$14:$F$63,5,FALSE))","v":""},"","",""]
[null,{"$f":"IF(A1054=\"\",\"\",VLOOKUP(A1054,'Fixture List Individual Files'!$B$14:$F$63,2,FALSE))","v":""},null,{"$f":"IF(A1054=\"\",\"\",VLOOKUP(A1054,'Fixture List Individual Files'!$B$14:$F$63,3,FALSE))","v":""},"",{"$f":"IF(A1054=\"\",\"\",VLOOKUP(A1054,'Fixture List Individual Files'!$B$14:$F$63,4,FALSE))","v":""},{"$f":"IF(A1054=\"\",\"\",VLOOKUP(A1054,'Fixture List Individual Files'!$B$14:$F$63,5,FALSE))","v":""},"","",""]
[null,{"$f":"IF(A1055=\"\",\"\",VLOOKUP(A1055,'Fixture List Individual Files'!$B$14:$F$63,2,FALSE))","v":""},null,{"$f":"IF(A1055=\"\",\"\",VLOOKUP(A1055,'Fixture List Individual Files'!$B$14:$F$63,3,FALSE))","v":""},"",{"$f":"IF(A1055=\"\",\"\",VLOOKUP(A1055,'Fixture List Individual Files'!$B$14:$F$63,4,FALSE))","v":""},{"$f":"IF(A1055=\"\",\"\",VLOOKUP(A1055,'Fixture List Individual Files'!$B$14:$F$63,5,FALSE))","v":""},"","",""]
[null,{"$f":"IF(A1056=\"\",\"\",VLOOKUP(A1056,'Fixture List Individual Files'!$B$14:$F$63,2,FALSE))","v":""},null,{"$f":"IF(A1056=\"\",\"\",VLOOKUP(A1056,'Fixture List Individual Files'!$B$14:$F$63,3,FALSE))","v":""},"",{"$f":"IF(A1056=\"\",\"\",VLOOKUP(A1056,'Fixture List Individual Files'!$B$14:$F$63,4,FALSE))","v":""},{"$f":"IF(A1056=\"\",\"\",VLOOKUP(A1056,'Fixture List Individual Files'!$B$14:$F$63,5,FALSE))","v":""},"","",""]
[null,{"$f":"IF(A1057=\"\",\"\",VLOOKUP(A1057,'Fixture List Individual Files'!$B$14:$F$63,2,FALSE))","v":""},null,{"$f":"IF(A1057=\"\",\"\",VLOOKUP(A1057,'Fixture List Individual Files'!$B$14:$F$63,3,FALSE))","v":""},"",{"$f":"IF(A1057=\"\",\"\",VLOOKUP(A1057,'Fixture List Individual Files'!$B$14:$F$63,4,FALSE))","v":""},{"$f":"IF(A1057=\"\",\"\",VLOOKUP(A1057,'Fixture List Individual Files'!$B$14:$F$63,5,FALSE))","v":""},"","",""]
[null,{"$f":"IF(A1058=\"\",\"\",VLOOKUP(A1058,'Fixture List Individual Files'!$B$14:$F$63,2,FALSE))","v":""},null,{"$f":"IF(A1058=\"\",\"\",VLOOKUP(A1058,'Fixture List Individual Files'!$B$14:$F$63,3,FALSE))","v":""},"",{"$f":"IF(A1058=\"\",\"\",VLOOKUP(A1058,'Fixture List Individual Files'!$B$14:$F$63,4,FALSE))","v":""},{"$f":"IF(A1058=\"\",\"\",VLOOKUP(A1058,'Fixture List Individual Files'!$B$14:$F$63,5,FALSE))","v":""},"","",""]
[null,{"$f":"IF(A1059=\"\",\"\",VLOOKUP(A1059,'Fixture List Individual Files'!$B$14:$F$63,2,FALSE))","v":""},null,{"$f":"IF(A1059=\"\",\"\",VLOOKUP(A1059,'Fixture List Individual Files'!$B$14:$F$63,3,FALSE))","v":""},"",{"$f":"IF(A1059=\"\",\"\",VLOOKUP(A1059,'Fixture List Individual Files'!$B$14:$F$63,4,FALSE))","v":""},{"$f":"IF(A1059=\"\",\"\",VLOOKUP(A1059,'Fixture List Individual Files'!$B$14:$F$63,5,FALSE))","v":""},"","",""]
[null,{"$f":"IF(A1060=\"\",\"\",VLOOKUP(A1060,'Fixture List Individual Files'!$B$14:$F$63,2,FALSE))","v":""},null,{"$f":"IF(A1060=\"\",\"\",VLOOKUP(A1060,'Fixture List Individual Files'!$B$14:$F$63,3,FALSE))","v":""},"",{"$f":"IF(A1060=\"\",\"\",VLOOKUP(A1060,'Fixture List Individual Files'!$B$14:$F$63,4,FALSE))","v":""},{"$f":"IF(A1060=\"\",\"\",VLOOKUP(A1060,'Fixture List Individual Files'!$B$14:$F$63,5,FALSE))","v":""},"","",""]
[null,{"$f":"IF(A1061=\"\",\"\",VLOOKUP(A1061,'Fixture List Individual Files'!$B$14:$F$63,2,FALSE))","v":""},null,{"$f":"IF(A1061=\"\",\"\",VLOOKUP(A1061,'Fixture List Individual Files'!$B$14:$F$63,3,FALSE))","v":""},"",{"$f":"IF(A1061=\"\",\"\",VLOOKUP(A1061,'Fixture List Individual Files'!$B$14:$F$63,4,FALSE))","v":""},{"$f":"IF(A1061=\"\",\"\",VLOOKUP(A1061,'Fixture List Individual Files'!$B$14:$F$63,5,FALSE))","v":""},"","",""]
[null,{"$f":"IF(A1062=\"\",\"\",VLOOKUP(A1062,'Fixture List Individual Files'!$B$14:$F$63,2,FALSE))","v":""},null,{"$f":"IF(A1062=\"\",\"\",VLOOKUP(A1062,'Fixture List Individual Files'!$B$14:$F$63,3,FALSE))","v":""},"",{"$f":"IF(A1062=\"\",\"\",VLOOKUP(A1062,'Fixture List Individual Files'!$B$14:$F$63,4,FALSE))","v":""},{"$f":"IF(A1062=\"\",\"\",VLOOKUP(A1062,'Fixture List Individual Files'!$B$14:$F$63,5,FALSE))","v":""},"","",""]
[null,{"$f":"IF(A1063=\"\",\"\",VLOOKUP(A1063,'Fixture List Individual Files'!$B$14:$F$63,2,FALSE))","v":""},null,{"$f":"IF(A1063=\"\",\"\",VLOOKUP(A1063,'Fixture List Individual Files'!$B$14:$F$63,3,FALSE))","v":""},"",{"$f":"IF(A1063=\"\",\"\",VLOOKUP(A1063,'Fixture List Individual Files'!$B$14:$F$63,4,FALSE))","v":""},{"$f":"IF(A1063=\"\",\"\",VLOOKUP(A1063,'Fixture List Individual Files'!$B$14:$F$63,5,FALSE))","v":""},"","",""]
[null,{"$f":"IF(A1064=\"\",\"\",VLOOKUP(A1064,'Fixture List Individual Files'!$B$14:$F$63,2,FALSE))","v":""},null,{"$f":"IF(A1064=\"\",\"\",VLOOKUP(A1064,'Fixture List Individual Files'!$B$14:$F$63,3,FALSE))","v":""},"",{"$f":"IF(A1064=\"\",\"\",VLOOKUP(A1064,'Fixture List Individual Files'!$B$14:$F$63,4,FALSE))","v":""},{"$f":"IF(A1064=\"\",\"\",VLOOKUP(A1064,'Fixture List Individual Files'!$B$14:$F$63,5,FALSE))","v":""},"","",""]
[null,{"$f":"IF(A1065=\"\",\"\",VLOOKUP(A1065,'Fixture List Individual Files'!$B$14:$F$63,2,FALSE))","v":""},null,{"$f":"IF(A1065=\"\",\"\",VLOOKUP(A1065,'Fixture List Individual Files'!$B$14:$F$63,3,FALSE))","v":""},"",{"$f":"IF(A1065=\"\",\"\",VLOOKUP(A1065,'Fixture List Individual Files'!$B$14:$F$63,4,FALSE))","v":""},{"$f":"IF(A1065=\"\",\"\",VLOOKUP(A1065,'Fixture List Individual Files'!$B$14:$F$63,5,FALSE))","v":""},"","",""]
[null,{"$f":"IF(A1066=\"\",\"\",VLOOKUP(A1066,'Fixture List Individual Files'!$B$14:$F$63,2,FALSE))","v":""},null,{"$f":"IF(A1066=\"\",\"\",VLOOKUP(A1066,'Fixture List Individual Files'!$B$14:$F$63,3,FALSE))","v":""},"",{"$f":"IF(A1066=\"\",\"\",VLOOKUP(A1066,'Fixture List Individual Files'!$B$14:$F$63,4,FALSE))","v":""},{"$f":"IF(A1066=\"\",\"\",VLOOKUP(A1066,'Fixture List Individual Files'!$B$14:$F$63,5,FALSE))","v":""},"","",""]
[null,{"$f":"IF(A1067=\"\",\"\",VLOOKUP(A1067,'Fixture List Individual Files'!$B$14:$F$63,2,FALSE))","v":""},null,{"$f":"IF(A1067=\"\",\"\",VLOOKUP(A1067,'Fixture List Individual Files'!$B$14:$F$63,3,FALSE))","v":""},"",{"$f":"IF(A1067=\"\",\"\",VLOOKUP(A1067,'Fixture List Individual Files'!$B$14:$F$63,4,FALSE))","v":""},{"$f":"IF(A1067=\"\",\"\",VLOOKUP(A1067,'Fixture List Individual Files'!$B$14:$F$63,5,FALSE))","v":""},"","",""]
[null,{"$f":"IF(A1068=\"\",\"\",VLOOKUP(A1068,'Fixture List Individual Files'!$B$14:$F$63,2,FALSE))","v":""},null,{"$f":"IF(A1068=\"\",\"\",VLOOKUP(A1068,'Fixture List Individual Files'!$B$14:$F$63,3,FALSE))","v":""},"",{"$f":"IF(A1068=\"\",\"\",VLOOKUP(A1068,'Fixture List Individual Files'!$B$14:$F$63,4,FALSE))","v":""},{"$f":"IF(A1068=\"\",\"\",VLOOKUP(A1068,'Fixture List Individual Files'!$B$14:$F$63,5,FALSE))","v":""},"","",""]
[null,{"$f":"IF(A1069=\"\",\"\",VLOOKUP(A1069,'Fixture List Individual Files'!$B$14:$F$63,2,FALSE))","v":""},null,{"$f":"IF(A1069=\"\",\"\",VLOOKUP(A1069,'Fixture List Individual Files'!$B$14:$F$63,3,FALSE))","v":""},"",{"$f":"IF(A1069=\"\",\"\",VLOOKUP(A1069,'Fixture List Individual Files'!$B$14:$F$63,4,FALSE))","v":""},{"$f":"IF(A1069=\"\",\"\",VLOOKUP(A1069,'Fixture List Individual Files'!$B$14:$F$63,5,FALSE))","v":""},"","",""]
[null,{"$f":"IF(A1070=\"\",\"\",VLOOKUP(A1070,'Fixture List Individual Files'!$B$14:$F$63,2,FALSE))","v":""},null,{"$f":"IF(A1070=\"\",\"\",VLOOKUP(A1070,'Fixture List Individual Files'!$B$14:$F$63,3,FALSE))","v":""},"",{"$f":"IF(A1070=\"\",\"\",VLOOKUP(A1070,'Fixture List Individual Files'!$B$14:$F$63,4,FALSE))","v":""},{"$f":"IF(A1070=\"\",\"\",VLOOKUP(A1070,'Fixture List Individual Files'!$B$14:$F$63,5,FALSE))","v":""},"","",""]
[null,{"$f":"IF(A1071=\"\",\"\",VLOOKUP(A1071,'Fixture List Individual Files'!$B$14:$F$63,2,FALSE))","v":""},null,{"$f":"IF(A1071=\"\",\"\",VLOOKUP(A1071,'Fixture List Individual Files'!$B$14:$F$63,3,FALSE))","v":""},"",{"$f":"IF(A1071=\"\",\"\",VLOOKUP(A1071,'Fixture List Individual Files'!$B$14:$F$63,4,FALSE))","v":""},{"$f":"IF(A1071=\"\",\"\",VLOOKUP(A1071,'Fixture List Individual Files'!$B$14:$F$63,5,FALSE))","v":""},"","",""]
[null,{"$f":"IF(A1072=\"\",\"\",VLOOKUP(A1072,'Fixture List Individual Files'!$B$14:$F$63,2,FALSE))","v":""},null,{"$f":"IF(A1072=\"\",\"\",VLOOKUP(A1072,'Fixture List Individual Files'!$B$14:$F$63,3,FALSE))","v":""},"",{"$f":"IF(A1072=\"\",\"\",VLOOKUP(A1072,'Fixture List Individual Files'!$B$14:$F$63,4,FALSE))","v":""},{"$f":"IF(A1072=\"\",\"\",VLOOKUP(A1072,'Fixture List Individual Files'!$B$14:$F$63,5,FALSE))","v":""},"","",""]
[null,{"$f":"IF(A1073=\"\",\"\",VLOOKUP(A1073,'Fixture List Individual Files'!$B$14:$F$63,2,FALSE))","v":""},null,{"$f":"IF(A1073=\"\",\"\",VLOOKUP(A1073,'Fixture List Individual Files'!$B$14:$F$63,3,FALSE))","v":""},"",{"$f":"IF(A1073=\"\",\"\",VLOOKUP(A1073,'Fixture List Individual Files'!$B$14:$F$63,4,FALSE))","v":""},{"$f":"IF(A1073=\"\",\"\",VLOOKUP(A1073,'Fixture List Individual Files'!$B$14:$F$63,5,FALSE))","v":""},"","",""]
[null,{"$f":"IF(A1074=\"\",\"\",VLOOKUP(A1074,'Fixture List Individual Files'!$B$14:$F$63,2,FALSE))","v":""},null,{"$f":"IF(A1074=\"\",\"\",VLOOKUP(A1074,'Fixture List Individual Files'!$B$14:$F$63,3,FALSE))","v":""},"",{"$f":"IF(A1074=\"\",\"\",VLOOKUP(A1074,'Fixture List Individual Files'!$B$14:$F$63,4,FALSE))","v":""},{"$f":"IF(A1074=\"\",\"\",VLOOKUP(A1074,'Fixture List Individual Files'!$B$14:$F$63,5,FALSE))","v":""},"","",""]
[null,{"$f":"IF(A1075=\"\",\"\",VLOOKUP(A1075,'Fixture List Individual Files'!$B$14:$F$63,2,FALSE))","v":""},null,{"$f":"IF(A1075=\"\",\"\",VLOOKUP(A1075,'Fixture List Individual Files'!$B$14:$F$63,3,FALSE))","v":""},"",{"$f":"IF(A1075=\"\",\"\",VLOOKUP(A1075,'Fixture List Individual Files'!$B$14:$F$63,4,FALSE))","v":""},{"$f":"IF(A1075=\"\",\"\",VLOOKUP(A1075,'Fixture List Individual Files'!$B$14:$F$63,5,FALSE))","v":""},"","",""]
[null,{"$f":"IF(A1076=\"\",\"\",VLOOKUP(A1076,'Fixture List Individual Files'!$B$14:$F$63,2,FALSE))","v":""},null,{"$f":"IF(A1076=\"\",\"\",VLOOKUP(A1076,'Fixture List Individual Files'!$B$14:$F$63,3,FALSE))","v":""},"",{"$f":"IF(A1076=\"\",\"\",VLOOKUP(A1076,'Fixture List Individual Files'!$B$14:$F$63,4,FALSE))","v":""},{"$f":"IF(A1076=\"\",\"\",VLOOKUP(A1076,'Fixture List Individual Files'!$B$14:$F$63,5,FALSE))","v":""},"","",""]
[null,{"$f":"IF(A1077=\"\",\"\",VLOOKUP(A1077,'Fixture List Individual Files'!$B$14:$F$63,2,FALSE))","v":""},null,{"$f":"IF(A1077=\"\",\"\",VLOOKUP(A1077,'Fixture List Individual Files'!$B$14:$F$63,3,FALSE))","v":""},"",{"$f":"IF(A1077=\"\",\"\",VLOOKUP(A1077,'Fixture List Individual Files'!$B$14:$F$63,4,FALSE))","v":""},{"$f":"IF(A1077=\"\",\"\",VLOOKUP(A1077,'Fixture List Individual Files'!$B$14:$F$63,5,FALSE))","v":""},"","",""]
[null,{"$f":"IF(A1078=\"\",\"\",VLOOKUP(A1078,'Fixture List Individual Files'!$B$14:$F$63,2,FALSE))","v":""},null,{"$f":"IF(A1078=\"\",\"\",VLOOKUP(A1078,'Fixture List Individual Files'!$B$14:$F$63,3,FALSE))","v":""},"",{"$f":"IF(A1078=\"\",\"\",VLOOKUP(A1078,'Fixture List Individual Files'!$B$14:$F$63,4,FALSE))","v":""},{"$f":"IF(A1078=\"\",\"\",VLOOKUP(A1078,'Fixture List Individual Files'!$B$14:$F$63,5,FALSE))","v":""},"","",""]
[null,{"$f":"IF(A1079=\"\",\"\",VLOOKUP(A1079,'Fixture List Individual Files'!$B$14:$F$63,2,FALSE))","v":""},null,{"$f":"IF(A1079=\"\",\"\",VLOOKUP(A1079,'Fixture List Individual Files'!$B$14:$F$63,3,FALSE))","v":""},"",{"$f":"IF(A1079=\"\",\"\",VLOOKUP(A1079,'Fixture List Individual Files'!$B$14:$F$63,4,FALSE))","v":""},{"$f":"IF(A1079=\"\",\"\",VLOOKUP(A1079,'Fixture List Individual Files'!$B$14:$F$63,5,FALSE))","v":""},"","",""]
[null,{"$f":"IF(A1080=\"\",\"\",VLOOKUP(A1080,'Fixture List Individual Files'!$B$14:$F$63,2,FALSE))","v":""},null,{"$f":"IF(A1080=\"\",\"\",VLOOKUP(A1080,'Fixture List Individual Files'!$B$14:$F$63,3,FALSE))","v":""},"",{"$f":"IF(A1080=\"\",\"\",VLOOKUP(A1080,'Fixture List Individual Files'!$B$14:$F$63,4,FALSE))","v":""},{"$f":"IF(A1080=\"\",\"\",VLOOKUP(A1080,'Fixture List Individual Files'!$B$14:$F$63,5,FALSE))","v":""},"","",""]
[null,{"$f":"IF(A1081=\"\",\"\",VLOOKUP(A1081,'Fixture List Individual Files'!$B$14:$F$63,2,FALSE))","v":""},null,{"$f":"IF(A1081=\"\",\"\",VLOOKUP(A1081,'Fixture List Individual Files'!$B$14:$F$63,3,FALSE))","v":""},"",{"$f":"IF(A1081=\"\",\"\",VLOOKUP(A1081,'Fixture List Individual Files'!$B$14:$F$63,4,FALSE))","v":""},{"$f":"IF(A1081=\"\",\"\",VLOOKUP(A1081,'Fixture List Individual Files'!$B$14:$F$63,5,FALSE))","v":""},"","",""]
[null,{"$f":"IF(A1082=\"\",\"\",VLOOKUP(A1082,'Fixture List Individual Files'!$B$14:$F$63,2,FALSE))","v":""},null,{"$f":"IF(A1082=\"\",\"\",VLOOKUP(A1082,'Fixture List Individual Files'!$B$14:$F$63,3,FALSE))","v":""},"",{"$f":"IF(A1082=\"\",\"\",VLOOKUP(A1082,'Fixture List Individual Files'!$B$14:$F$63,4,FALSE))","v":""},{"$f":"IF(A1082=\"\",\"\",VLOOKUP(A1082,'Fixture List Individual Files'!$B$14:$F$63,5,FALSE))","v":""},"","",""]
[null,{"$f":"IF(A1083=\"\",\"\",VLOOKUP(A1083,'Fixture List Individual Files'!$B$14:$F$63,2,FALSE))","v":""},null,{"$f":"IF(A1083=\"\",\"\",VLOOKUP(A1083,'Fixture List Individual Files'!$B$14:$F$63,3,FALSE))","v":""},"",{"$f":"IF(A1083=\"\",\"\",VLOOKUP(A1083,'Fixture List Individual Files'!$B$14:$F$63,4,FALSE))","v":""},{"$f":"IF(A1083=\"\",\"\",VLOOKUP(A1083,'Fixture List Individual Files'!$B$14:$F$63,5,FALSE))","v":""},"","",""]
[null,"Totals:",{"$f":"SUM(C1048:C1083)","v":0},null,{"$f":"SUM(E1048:E1083)","v":0},{"$f":"SUMIF(F1048:F1083,\"Yes\",E1048:E1083)","v":0},null,{"$f":"SUM(H1048:H1083)","v":{"v":0,"d":"0.000"}},{"$f":"SUM(I1048:I1083)","v":0},0]
[]
[]
[]
[]
[{"$nulls":12},"Savings"]
[{"$nulls":12},"Peak kW","kWh","Lifecycle","Incentive"]
[{"$nulls":12},{"$f":"SUM(H52+H95+H138+H181+H224+H267+H310+H353+H396+H439+H482+H525+H568+H611+H654+H697+H740+H783+H826+H869+H912+H955+H998+H1041+H1084)","v":{"v":0,"d":"0.0000"}},{"$f":"SUM(I52+I95+I138+I181+I224+I267+I310+I353+I396+I439+I482+I525+I568+I611+I654+I697+I740+I783+I826+I869+I912+I955+I998+I1041+I1084)","v":0},{"$f":"SUM(J52+J95+J138+J181+J224+J267+J310+J353+J396+J439+J482+J525+J568+J611+J654+J697+J740+J783+J826+J869+J912+J955+J998+J1041+J1084)","v":0},{"$f":"N1091*NLC_Incentive_Rate","v":{"v":0,"d":"$0.00"}}]
[]
[{"$nulls":11},"Overall NLC area factor:",{"$f":"IF(G11=\"\",1,G11)*IF(G54=\"\",1,G54)*IF(G97=\"\",1,G97)*IF(G140=\"\",1,G140)*IF(G183=\"\",1,G183)*IF(G226=\"\",1,G226)*IF(G269=\"\",1,G269)*IF(G312=\"\",1,G312)*IF(G355=\"\",1,G355)*IF(G398=\"\",1,G398)*IF(G441=\"\",1,G441)*IF(G484=\"\",1,G484)*IF(G527=\"\",1,G527)*IF(G570=\"\",1,G570)*IF(G613=\"\",1,G613)*IF(G656=\"\",1,G656)*IF(G699=\"\",1,G699)*IF(G742=\"\",1,G742)*IF(G785=\"\",1,G785)*IF(G828=\"\",1,G828)*IF(G871=\"\",1,G871)*IF(G914=\"\",1,G914)*IF(G957=\"\",1,G957)*IF(G1000=\"\",1,G1000)*IF(G1043=\"\",1,G1043)","v":{"v":1,"d":"100%"}}]

{"sheet":"Helpful Tips","index":7,"n_rows":43,"n_cols":11,"rows_kept":43}
["Helpful Tips"]
[]
["How to Enable Macros"]
["1. When you open the workbook, look just above the formula bar for a yellow shaded row that looks like this: "]
["2. If this appears, click the \"Enable Content\" button"]
["3. Generally, should only have to do this the first time you open the workbook. If you download a new copy from "]
["    the Focus website or have additional staff access the workbook, will likely need to do this again. "]
[]
[]
[]
["How to Embed (insert) a PDF File in an Excel Worksheet",{"$nulls":9},"1)"]
["1. Go to Insert tab and click on the Object icon in the Text group. ..."]
["2. In the Object dialog box, select the 'Create New' tab and the select 'Adobe Acrobat Document' from the list. ..."]
["3. Check the option – 'Display as icon'."]
["4. If desired, select \"Change Icon\" to modify the file name displayed (ex: Installation invoice, COMcheckv1, etc.).  "]
["5. Click OK."]
["6. Select the PDF file to embed and click on Open."]
[]
["How to Unhide rows in an Excel Worksheet"]
["1. Select the row above, and row below the hidden rows"]
[]
[]
[]
[]
[]
["2. Right click mouse button",{"$nulls":9},"2-4)"]
["3. Select Unhide from menu"]
{"$rows_empty":12}
["How to quickly capture a screen shot/snip"]
["1. On a Windows PC press & hold WINDOWS Key + Shift + S",{"$nulls":9},"5)"]
["2. Screen will dim, then drag mouse to marquee around area you want captured"]
["3. Click on workbook, then Ctrl + V to Paste image"]

{"sheet":"RevisionHistory","index":8,"n_rows":27,"n_cols":4,"rows_kept":27,"hidden":true}
[]
[]
["Version History"]
["Program Year","Date of Revision","Description of Changes","Updated By:"]
[2021,"2021-01-01","Initial version"]
[2021,"2021-02-27","Added Tech Review calc, SPECTRUM entry, checklist. Fixed rounding errors. Added \"area description\" on individual files tab. Fixed protection to allow inserting pages","Trish"]
[2021,"2021-03-02","Corrected rounding issues on Start Here! Tab in columns J and H and R thru Y in savings table","Melissa"]
[2021,"2021-03-18","Changed algorithms in cells S4-S47 to reference only one cell for CF lookup. Also, removed colon (\":\") at the end of the facility type names (cells J14-J19) to aide proper lookup for CF","Zishan"]
[2021,"2021-03-25","Removed ROUNDDOWN function and added ROUND to cells H23-H27, J23-J27, R42-R47 and W42-W47 in \"Start Here!\" tab. Also added ROUND function to round allowed watts in \"As-Built COMcheck\" tab","Zishan"]
[2021,"2021-03-26","Added algorithm to correctly pull CF in O38"]
[2021,"2021-03-26","Conditional format HOU on Start Here tab. Add LPD reference table on As-Built COMcheck tab. Add note about more than 5 area types on As-Built COMcheck tab. Formatted Indiv. Files Sq Ft by area to be reflected on Fixt List tab.","Trish"]
[2021,"2021-04-07","Added 'qualify the project' section to Start here tab","Trish"]
[2021,"2021-04-12","Added \"Annual\" to Hours of use in sds table. Revised formatting of lines on COMcheck tab, and added consistent verbiage to \"more than 5 areas topic\" on COMcheck tab. Updated the utility $/therm, #/kWh to 2019","Trish"]
[2021,"2021-05-17","Corrected units for kWh (annual and lifecycle) on Start Here! tab summary table ","Todd"]
[2021,"2021-07-19","Updated list of credentials for lighting designers","Melissa"]
[2021,null,"Added lines back in that were inadvertently deleted from Fixt List Individual Files tab. Not considering this a revision","Trish"]
[2021,"2021-12-21","Changed the workbook to make it compatible for NLC-NC","Zishan"]
[2022,"2022-01-10","Updated requirements from 2022 Lighting Catalog","Melissa"]
[2022,"2022-02-17","Made changes to accurately calculate the NLC measure cost based on NLC area factor.","Zishan"]
[2022,"2022-05-20","Removed the 'Get CF button' on the Start Here! tab and added a look up formula for populating the CF for kW savings","Melissa"]
[2022,"2022-05-24","Added conditional formatting to kW savings cell to be 'Red' if value = '0'. This will indicate that a CF Override value needs to be added","Melissa"]
[2022,"2022-06-09","Added error message if total incentive is greater than measure cost","Melissa"]
[2022,"2022-06-28","fixed G33 of Start Here tab, wasn't pulling correct cell","Trish"]
[2022,"2022-07-19","Corrected formula errors on Start Here tab for C37-C57","Melissa"]
[2023,"2022-12-08","Update for 2023 (NLC savings factors), allow unique CF for each area, re-structure \"Individual Files\" tabs. ","Zach"]
[2023,"2023-01-13","Updated LPD industry standard cost from $1.30 to $0.90/sq ft to match 2023 TRM.","Zach"]
[2023,"2023-01-23","Add directions for \"Show Macros\" and to use in full version of Excel. Add conditional formatting to hide NLC inputs if \"Have fixtures with NCL controls\" on Start Here! = No. Add NLC Savings & Incentive summary on \"Start Here!\" tab. ","Zach"]

{"sheet":"Admin_Lists","index":9,"n_rows":107,"n_cols":15,"rows_kept":107,"hidden":true,"merged":[[6,0,7,1],[8,14,9,15],[51,0,52,0]]}
[]
[null,"Type"]
[null,"Choose from Drop-down",null,"<==The items in this list are named ComCheck"]
[null,"COMcheck",null,"To name the data cells, select them, click in the Name Box"]
[null,"Individual Files",null,"Add more words to the list, and the list will expand to include them"]
[]
["LIGHTING POWER DENSITY\n(AREA METHOD)",{"$nulls":6},"Space by Space Reference for Tech Review, not part of drop-down options"]
[{"$nulls":7},"Common & Specific Space Types",{"$nulls":4},"(W/ft2)"]
["Choose from Drop-down",0,{"$nulls":5},"Atrium - greater than 40 ft. in height",{"$nulls":4},{"v":0.4,"d":"0.40"}," 0.40+.02/ft in total height","Ceiling Height\n(If Applicable)  "]
["Automotive Facility",0.8,{"$nulls":5},"Atrium - less than 40 ft. in height",{"$nulls":4},0.03,"0.03/ft in total height"]
["Convention Center",1.01,{"$nulls":5},"Audience Seating Area - in a convention center",{"$nulls":4},0.82]
["Court House",1.01,{"$nulls":5},"Audience Seating Area - in a gymnasium",{"$nulls":4},0.65]
["Dining: Bar Lounge/Leisure",1.01,{"$nulls":5},"Audience Seating Area - in a motion picture theatre",{"$nulls":4},1.14]
["Dining: Cafeteria/Fast Food",0.9,{"$nulls":5},"Audience Seating Area - in a penitentiary",{"$nulls":4},0.28]
["Dining: Family",0.95,{"$nulls":5},"Audience Seating Area - in a performing arts theatre",{"$nulls":4},2.43]
["Dormitory",0.57,{"$nulls":5},"Audience Seating Area - in a religious building ",{"$nulls":4},1.53]
["Exercise Center",0.84,{"$nulls":5},"Audience Seating Area - in a sports arena",{"$nulls":4},0.43]
["Fire Station",0.67,{"$nulls":5},"Audience Seating Area - in an auditorium",{"$nulls":4},0.63]
["Free Stall",0.5,{"$nulls":5},"Audience Seating Area - otherwise",{"$nulls":4},0.43]
["General Animal Care Area, Utility Room",0.5,{"$nulls":5},"Automotive (see Vehicular Maintenance Area above)",{"$nulls":4},0.67]
["Gymnasium",0.94,{"$nulls":5},"Banking Activity Area",{"$nulls":4},1.01]
["Healthcare Clinic",0.9,{"$nulls":5},"Classroom/lecture hall/training room - in a penitentary",{"$nulls":4},1.34]
["Hospital",1.05,{"$nulls":5},"Classroom/lecture hall/training room -otherwise",{"$nulls":4},1.24]
["Hotel/Motel",0.87,{"$nulls":5},"Computer Room",{"$nulls":4},1.71]
["Library",1.19,{"$nulls":5},"Conference/meeting/multipurpose room",{"$nulls":4},1.23]
["Loading and Storage Area, Restroom",0.5,{"$nulls":5},"Convention Center (exhibit space)",{"$nulls":4},1.45]
["Manual Wash Sink, Treatment or Surgery Area",1.19,{"$nulls":5},"Copy/print room",{"$nulls":4},0.72]
["Manufacturing Facility",1.17,{"$nulls":5},"Corridor - in a facility for the impaired",{"$nulls":4},0.92]
["Motion Picture Theater",0.76,{"$nulls":5},"Corridor - in a hospital",{"$nulls":4},0.79]
["Multifamily",0.51,{"$nulls":5},"Corridor - in a manufacturing facility",{"$nulls":4},0.41]
["Museum",1.02,{"$nulls":5},"Corridor - otherwise",{"$nulls":4},0.66]
["Non-Dairy Livestock Housing, Holding Area, Machine Storage",0.21,{"$nulls":5},"Courtroom",{"$nulls":4},1.72]
["Office",0.82,{"$nulls":5},"Dining Area - in a facility for the visually impaired",{"$nulls":4},{"v":1.9,"d":"1.90"}]
["Operator's Pit, Office Area at Desk Top, Farm Shop/Repair Area ",0.82,{"$nulls":5},"Dining Area - in a penitentiary",{"$nulls":4},0.96]
["Other- Identify",{"$nulls":6},"Dining Area - in bar/lounge or leisure dining",{"$nulls":4},1.07]
["Parking Garage",0.21,{"$nulls":5},"Dining Area - in cafeteria or fast food dining",{"$nulls":4},0.65]
["Penitentiary",0.81,{"$nulls":5},"Dining Area - in family dining",{"$nulls":4},0.89]
["Performing Arts Theater",1.39,{"$nulls":5},"Dining Area - otherwise",{"$nulls":4},0.65]
["Police Station",0.87,{"$nulls":5},"Dormitory - living quarters",{"$nulls":4},0.38]
["Post Office",0.87,{"$nulls":5},"Electrical/mechanical room",{"$nulls":4},0.95]
["Religious Building",1,{"$nulls":5},"Emergency vehicle garage",{"$nulls":4},0.56]
["Retail",1.26,{"$nulls":5},"Facility for the visually impaired - in a chapel",{"$nulls":4},2.21]
["School/University",0.87,{"$nulls":5},"Facility for the visually impaired - in a recreation room",{"$nulls":4},2.41]
["Sports Arena",0.91,{"$nulls":5},"Fire Station - sleeping quarters",{"$nulls":4},0.22]
["Tie Stall Feeding Alley, Milking Parlor, Milk Room",0.5,{"$nulls":5},"Food preparation area",{"$nulls":4},1.21]
["Town Hall",0.89,{"$nulls":5},"Guest room",{"$nulls":4},0.47]
["Transportation",0.7,{"$nulls":5},"Gymnasium/fitness center - in a playing area",{"$nulls":4},{"v":1.2,"d":"1.20"}]
["Warehouse",0.66,{"$nulls":5},"Gymnasium/fitness center - in an exercise area",{"$nulls":4},0.72]
["Workshop",1.19,{"$nulls":5},"Healthcare facility - in a medical supply room",{"$nulls":4},0.74]
[{"$nulls":7},"Healthcare facility - in a nursery",{"$nulls":4},0.88]
[{"$nulls":7},"Healthcare facility - in a nurse's station",{"$nulls":4},0.71]
["Hours of Use",{"$nulls":6},"Healthcare facility - in a patient room",{"$nulls":4},0.62]
[{"$nulls":7},"Healthcare facility - in a physical therapy room",{"$nulls":4},0.91]
["Use Commercial Default 3,730",{"v":3730,"d":"3,730"},{"$nulls":5},"Healthcare facility - in a recovery room",{"$nulls":4},1.15]
["Use Industrial Default 4,745",{"v":4745,"d":"4,745"},{"$nulls":5},"Healthcare facility - in an exam/treatment room",{"$nulls":4},1.66]
["Use Agricultural Default 4,698",{"v":4698,"d":"4,698"},{"$nulls":5},"Healthcare facility - in an imaging room",{"$nulls":4},1.51]
["Use Schools & Government Default 3,239",{"v":3239,"d":"3,239"},{"$nulls":5},"Healthcare facility - in an operating room",{"$nulls":4},2.48]
["Use Multifamily - Common Area Default 5,950",{"v":5950,"d":"5,950"},{"$nulls":5},"Laboratory - in or as a classroom",{"$nulls":4},1.43]
["Use Multifamily - In-unit Default 840",840,{"$nulls":5},"Laboratory - otherwise",{"$nulls":4},1.81]
["n/a (Manual Entry)",{"$f":"'Start Here!'!G40","v":0},{"$nulls":5},"Laundry/washing area",{"$nulls":4},{"v":0.6,"d":"0.60"}]
[{"$nulls":7},"Library - in a reading area",{"$nulls":4},1.06]
["Choose from Drop-down",{"$nulls":6},"Library - in the stacks",{"$nulls":4},1.71]
["Commercial",{"v":3730,"d":"3,730"},{"$nulls":5},"Loading dock, interior",{"$nulls":4},0.47]
["Industrial",{"v":4745,"d":"4,745"},{"$nulls":5},"Lobby - for an elevator",{"$nulls":4},0.64]
["Agricultural",{"v":4698,"d":"4,698"},{"$nulls":5},"Lobby - in a facility for the visually impaired",{"$nulls":4},{"v":1.8,"d":"1.80"}]
["Schools & Government",{"v":3239,"d":"3,239"},{"$nulls":5},"Lobby - in a hotel",{"$nulls":4},1.06]
["Multifamily",{"$nulls":6},"Lobby - in a motion picture theatre",{"$nulls":4},0.59]
[{"$nulls":7},"Lobby - in a performing arts theatre",{"$nulls":4},2]
["Row Size",{"$nulls":6},"Lobby - locker room",{"$nulls":4},0.75]
["Choose from Drop-down",{"$nulls":6},"Lobby - otherwise",{"$nulls":4},{"v":0.9,"d":"0.90"}]
["Small (5 rows)",{"$nulls":6},"Lounge/breakroom - in a healthcare facility",{"$nulls":4},0.92]
["Large (25 rows)",{"$nulls":6},"Lounge/breakroom - otherwise",{"$nulls":4},0.73]
[{"$nulls":7},"Manufacturing facility - in a detailed manufacturing area",{"$nulls":4},1.29]
[{"$nulls":7},"Manufacturing facility - in a high bay area (25-50' floor-to-ceiling height)",{"$nulls":4},1.23]
[null,"Updated to match approved workpaper W0288 on 11/30/22",{"$nulls":5},"Manufacturing facility - in a low bay area ( < 25' floor-to-ceiling height)",{"$nulls":4},1.19]
[null,"SFBASE","SFEE","HOU","kWhSAVED",null,null,"Manufacturing facility - in an equipment room",{"$nulls":4},0.74]
["Commercial",0.34,0.56,3730,{"$f":"(SFE_Commercial-SFBASE_Commercial)*Hrs_Commercial/1000","v":0.8206000000000001},null,null,"Manufacturing facility - in an extra high bay area ( > 50' floor-to-ceiling height)",{"$nulls":4},1.05]
["Industrial",0.24,0.47,4745,{"$f":"(SFE_Industrial-SFBASE_Industrial)*Hrs_Industrial/1000","v":1.0913499999999998},null,null,"Museum - in a general exhibition area",{"$nulls":4},1.05]
["Schools & Government",0.24,0.41,3239,{"$f":"(SFE_SG-SFBASE_SG)*Hrs_SG/1000","v":0.55063},null,null,"Museum - in a restoration room",{"$nulls":4},1.02]
[{"$nulls":7},"Office - enclosed",{"$nulls":4},1.11]
[{"$nulls":7},"Office - open plan",{"$nulls":4},0.98]
["Choose from Drop-down",{"$nulls":6},"Parking area, interior",{"$nulls":4},0.19]
["High Bay",{"$nulls":6},"Performance arts theatre - dressing room",{"$nulls":4},0.61]
["Spaces with Daylighting",{"$nulls":6},"Pharmacy area",{"$nulls":4},1.68]
["Non-High Bay",{"$nulls":6},"Post Office - Sorting Area",{"$nulls":4},0.94]
[{"$nulls":7},"Religious buildings - in a fellowship hall",{"$nulls":4},0.64]
[{"$nulls":7},"Religious buildings - in a workship/pulpit/choir area",{"$nulls":4},1.53]
["New Construction LPD EUL:",15,"Per MMID 4948 (workpaper ID W0093)",{"$nulls":4},"Restroom - in a facility for the visually impaired",{"$nulls":4},1.21]
["NLC For New Construction EUL:",15,"Per MMID 5233 (workpaper ID W0288)",{"$nulls":4},"Restroom - otherwise",{"$nulls":4},0.98]
["LPD Incentive Rate (MMID 4948):",{"v":0.04,"d":"$0.04"},"per kWh reduced",{"$nulls":4},"Retail facilities - in a dressing/fitting room",{"$nulls":4},0.71]
["NLC Incentive Rate (MMID 5233):",{"v":0.04,"d":"$0.04"},"per kWh reduced",{"$nulls":4},"Retail facilities - in a mall concourse",{"$nulls":4},{"v":1.1,"d":"1.10"}]
[{"$nulls":7},"Sales area",{"$nulls":4},1.59]
["Default Utility Rates",{"$nulls":6},"Seating area, general",{"$nulls":4},0.54]
["Sector","$/kWh","$/therm",{"$nulls":4},"Sports area - for a Class I facility",{"$nulls":4},3.68]
["Commercial / Schools & Government",{"v":0.1148,"d":"$0.1148"},{"v":0.996,"d":"$0.996"},{"$nulls":4},"Sports area - for a Class II facility ",{"$nulls":4},{"v":2.4,"d":"2.40"}]
["Industrial",{"v":0.0824,"d":"$0.0824"},{"v":0.808,"d":"$0.808"},{"$nulls":4},"Sports area - for a Class III facility",{"$nulls":4},{"v":1.8,"d":"1.80"}]
["Residential",{"v":0.1637,"d":"$0.1637"},{"v":1.356,"d":"$1.356"},{"$nulls":4},"Sports area - for a Class IV facility",{"$nulls":4},{"v":1.2,"d":"1.20"}]
["Average of Monthly EIA Rates for WI from September 2021 to August 2022.",{"$nulls":6},"Stairway (see space containing stairway)",{"$nulls":4},"N/A"]
[{"$nulls":7},"Stairwell",{"$nulls":4},0.69]
["Cost type used","Industry Standard Cost ($/Sq Ft)",{"$nulls":5},"Storage room",{"$nulls":4},0.63]
["Industry Standard Cost",{"v":0.9,"d":"$0.90"},{"$nulls":5},"Transportation facility - at a terminal ticket counter",{"$nulls":4},{"v":0.8,"d":"0.80"}]
["Actual Cost","from 2023 WI TRM",{"$nulls":5},"Transportation facility - in a baggage/carousel area",{"$nulls":4},0.53]
[{"$nulls":7},"Transportation facility - in an airport concourse",{"$nulls":4},0.36]
[{"$nulls":7},"Vehicular maintenance area",{"$nulls":4},0.67]
[{"$nulls":7},"Warehouse storage area - for medium to bulky, palletized items",{"$nulls":4},0.58]
[{"$nulls":7},"Warehouse storage area - for smaller, hand-carried items",{"$nulls":4},0.95]
[{"$nulls":7},"Workshop",{"$nulls":4},1.59]